Workbook

Sheet Information du journal
B1: Insérer ici les données du journal de trading
B3: Tutoriel du journal de trading | C3: https://youtu.be/kGz-MhVuoZE
B4: Journal téléchargeable ici : | C4: https://www.andlil.com/forum/journal-de-trading-2-0-t37241.html
C5: ( tuto à visionner avant l'utilisation du journal ! )
B6: Insérer le capitale de trading
C7: Liste
B8: Type de marché
B9: Valeur du point
B10: Sens des trades
B11: Prix du Stop garantie
B12: Année du journal
B13: Compte de trading

Sheet Etat psy
A1: Evaluation personnel avant de passer un Trade
A2: Trade N° | B2: Humeur | G2: Fatigue | L2: Concentration | Q2: Manque ressenti au trading | U2: Malade | X2: Qualité mentale | AA2: OUI DANGER NON | AB2: Liste
B3: Liste | G3: Liste | L3: Liste | Q3: Liste | U3: Liste | X3: résultats | AB3: Bien
A4: 1 | D4: =IF(B4="Bien",10,) -> 0 | E4: =IF(B4="Moyen",5,) -> 0 | F4: =IF(B4="Mauvais",-35,) -> 0 | I4: =IF(G4="Non",10,) -> 0 | J4: =IF(G4="Un peu",5,) -> 0 | K4: =IF(G4="Beaucoup",-35,) -> 0 | N4: =IF(L4="Bien",5,) -> 0 | O4: =IF(L4="Moyen",0,) -> 0 | P4: =IF(L4="Mauvais",-35,) -> 0 | S4: =IF(Q4="Oui",-35,) -> 0 | T4: =IF(Q4="Non",10,) -> 0 | V4: =IF(U4="Oui",-35,) -> 0 | W4: =IF(U4="Non",10,) -> 0 | X4: =SUM(B4:W4) -> 0 | Y4: / | Z4: 45 | AA4: =X4/Z4 -> 0 | AB4: Moyen
A5: 2 | D5: =IF(B5="Bien",10,) -> 0 | E5: =IF(B5="Moyen",5,) -> 0 | F5: =IF(B5="Mauvais",-35,) -> 0 | I5: =IF(G5="Non",10,) -> 0 | J5: =IF(G5="Un peu",5,) -> 0 | K5: =IF(G5="Beaucoup",-35,) -> 0 | N5: =IF(L5="Bien",5,) -> 0 | O5: =IF(L5="Moyen",0,) -> 0 | P5: =IF(L5="Mauvais",-35,) -> 0 | S5: =IF(Q5="Oui",-35,) -> 0 | T5: =IF(Q5="Non",10,) -> 0 | V5: =IF(U5="Oui",-35,) -> 0 | W5: =IF(U5="Non",10,) -> 0 | X5: =SUM(B5:W5) -> 0 | Y5: / | Z5: 45 | AA5: =X5/Z5 -> 0 | AB5: Mauvais
A6: 3 | D6: =IF(B6="Bien",10,) -> 0 | E6: =IF(B6="Moyen",5,) -> 0 | F6: =IF(B6="Mauvais",-35,) -> 0 | I6: =IF(G6="Non",10,) -> 0 | J6: =IF(G6="Un peu",5,) -> 0 | K6: =IF(G6="Beaucoup",-35,) -> 0 | N6: =IF(L6="Bien",5,) -> 0 | O6: =IF(L6="Moyen",0,) -> 0 | P6: =IF(L6="Mauvais",-35,) -> 0 | S6: =IF(Q6="Oui",-35,) -> 0 | T6: =IF(Q6="Non",10,) -> 0 | V6: =IF(U6="Oui",-35,) -> 0 | W6: =IF(U6="Non",10,) -> 0 | X6: =SUM(B6:W6) -> 0 | Y6: / | Z6: 45 | AA6: =X6/Z6 -> 0
A7: 4 | D7: =IF(B7="Bien",10,) -> 0 | E7: =IF(B7="Moyen",5,) -> 0 | F7: =IF(B7="Mauvais",-35,) -> 0 | I7: =IF(G7="Non",10,) -> 0 | J7: =IF(G7="Un peu",5,) -> 0 | K7: =IF(G7="Beaucoup",-35,) -> 0 | N7: =IF(L7="Bien",5,) -> 0 | O7: =IF(L7="Moyen",0,) -> 0 | P7: =IF(L7="Mauvais",-35,) -> 0 | S7: =IF(Q7="Oui",-35,) -> 0 | T7: =IF(Q7="Non",10,) -> 0 | V7: =IF(U7="Oui",-35,) -> 0 | W7: =IF(U7="Non",10,) -> 0 | X7: =SUM(B7:W7) -> 0 | Y7: / | Z7: 45 | AA7: =X7/Z7 -> 0 | AB7: Non
A8: 5 | D8: =IF(B8="Bien",10,) -> 0 | E8: =IF(B8="Moyen",5,) -> 0 | F8: =IF(B8="Mauvais",-35,) -> 0 | I8: =IF(G8="Non",10,) -> 0 | J8: =IF(G8="Un peu",5,) -> 0 | K8: =IF(G8="Beaucoup",-35,) -> 0 | N8: =IF(L8="Bien",5,) -> 0 | O8: =IF(L8="Moyen",0,) -> 0 | P8: =IF(L8="Mauvais",-35,) -> 0 | S8: =IF(Q8="Oui",-35,) -> 0 | T8: =IF(Q8="Non",10,) -> 0 | V8: =IF(U8="Oui",-35,) -> 0 | W8: =IF(U8="Non",10,) -> 0 | X8: =SUM(B8:W8) -> 0 | Y8: / | Z8: 45 | AA8: =X8/Z8 -> 0 | AB8: Un peu
A9: 6 | D9: =IF(B9="Bien",10,) -> 0 | E9: =IF(B9="Moyen",5,) -> 0 | F9: =IF(B9="Mauvais",-35,) -> 0 | I9: =IF(G9="Non",10,) -> 0 | J9: =IF(G9="Un peu",5,) -> 0 | K9: =IF(G9="Beaucoup",-35,) -> 0 | N9: =IF(L9="Bien",5,) -> 0 | O9: =IF(L9="Moyen",0,) -> 0 | P9: =IF(L9="Mauvais",-35,) -> 0 | S9: =IF(Q9="Oui",-35,) -> 0 | T9: =IF(Q9="Non",10,) -> 0 | V9: =IF(U9="Oui",-35,) -> 0 | W9: =IF(U9="Non",10,) -> 0 | X9: =SUM(B9:W9) -> 0 | Y9: / | Z9: 45 | AA9: =X9/Z9 -> 0 | AB9: Beaucoup
A10: 7 | D10: =IF(B10="Bien",10,) -> 0 | E10: =IF(B10="Moyen",5,) -> 0 | F10: =IF(B10="Mauvais",-35,) -> 0 | I10: =IF(G10="Non",10,) -> 0 | J10: =IF(G10="Un peu",5,) -> 0 | K10: =IF(G10="Beaucoup",-35,) -> 0 | N10: =IF(L10="Bien",5,) -> 0 | O10: =IF(L10="Moyen",0,) -> 0 | P10: =IF(L10="Mauvais",-35,) -> 0 | S10: =IF(Q10="Oui",-35,) -> 0 | T10: =IF(Q10="Non",10,) -> 0 | V10: =IF(U10="Oui",-35,) -> 0 | W10: =IF(U10="Non",10,) -> 0 | X10: =SUM(B10:W10) -> 0 | Y10: / | Z10: 45 | AA10: =X10/Z10 -> 0
A11: 8 | D11: =IF(B11="Bien",10,) -> 0 | E11: =IF(B11="Moyen",5,) -> 0 | F11: =IF(B11="Mauvais",-35,) -> 0 | I11: =IF(G11="Non",10,) -> 0 | J11: =IF(G11="Un peu",5,) -> 0 | K11: =IF(G11="Beaucoup",-35,) -> 0 | N11: =IF(L11="Bien",5,) -> 0 | O11: =IF(L11="Moyen",0,) -> 0 | P11: =IF(L11="Mauvais",-35,) -> 0 | S11: =IF(Q11="Oui",-35,) -> 0 | T11: =IF(Q11="Non",10,) -> 0 | V11: =IF(U11="Oui",-35,) -> 0 | W11: =IF(U11="Non",10,) -> 0 | X11: =SUM(B11:W11) -> 0 | Y11: / | Z11: 45 | AA11: =X11/Z11 -> 0 | AB11: Non
A12: 9 | D12: =IF(B12="Bien",10,) -> 0 | E12: =IF(B12="Moyen",5,) -> 0 | F12: =IF(B12="Mauvais",-35,) -> 0 | I12: =IF(G12="Non",10,) -> 0 | J12: =IF(G12="Un peu",5,) -> 0 | K12: =IF(G12="Beaucoup",-35,) -> 0 | N12: =IF(L12="Bien",5,) -> 0 | O12: =IF(L12="Moyen",0,) -> 0 | P12: =IF(L12="Mauvais",-35,) -> 0 | S12: =IF(Q12="Oui",-35,) -> 0 | T12: =IF(Q12="Non",10,) -> 0 | V12: =IF(U12="Oui",-35,) -> 0 | W12: =IF(U12="Non",10,) -> 0 | X12: =SUM(B12:W12) -> 0 | Y12: / | Z12: 45 | AA12: =X12/Z12 -> 0 | AB12: Oui
A13: 10 | D13: =IF(B13="Bien",10,) -> 0 | E13: =IF(B13="Moyen",5,) -> 0 | F13: =IF(B13="Mauvais",-35,) -> 0 | I13: =IF(G13="Non",10,) -> 0 | J13: =IF(G13="Un peu",5,) -> 0 | K13: =IF(G13="Beaucoup",-35,) -> 0 | N13: =IF(L13="Bien",5,) -> 0 | O13: =IF(L13="Moyen",0,) -> 0 | P13: =IF(L13="Mauvais",-35,) -> 0 | S13: =IF(Q13="Oui",-35,) -> 0 | T13: =IF(Q13="Non",10,) -> 0 | V13: =IF(U13="Oui",-35,) -> 0 | W13: =IF(U13="Non",10,) -> 0 | X13: =SUM(B13:W13) -> 0 | Y13: / | Z13: 45 | AA13: =X13/Z13 -> 0
A14: 11 | D14: =IF(B14="Bien",10,) -> 0 | E14: =IF(B14="Moyen",5,) -> 0 | F14: =IF(B14="Mauvais",-35,) -> 0 | I14: =IF(G14="Non",10,) -> 0 | J14: =IF(G14="Un peu",5,) -> 0 | K14: =IF(G14="Beaucoup",-35,) -> 0 | N14: =IF(L14="Bien",5,) -> 0 | O14: =IF(L14="Moyen",0,) -> 0 | P14: =IF(L14="Mauvais",-35,) -> 0 | S14: =IF(Q14="Oui",-35,) -> 0 | T14: =IF(Q14="Non",10,) -> 0 | V14: =IF(U14="Oui",-35,) -> 0 | W14: =IF(U14="Non",10,) -> 0 | X14: =SUM(B14:W14) -> 0 | Y14: / | Z14: 45 | AA14: =X14/Z14 -> 0
A15: 12 | D15: =IF(B15="Bien",10,) -> 0 | E15: =IF(B15="Moyen",5,) -> 0 | F15: =IF(B15="Mauvais",-35,) -> 0 | I15: =IF(G15="Non",10,) -> 0 | J15: =IF(G15="Un peu",5,) -> 0 | K15: =IF(G15="Beaucoup",-35,) -> 0 | N15: =IF(L15="Bien",5,) -> 0 | O15: =IF(L15="Moyen",0,) -> 0 | P15: =IF(L15="Mauvais",-35,) -> 0 | S15: =IF(Q15="Oui",-35,) -> 0 | T15: =IF(Q15="Non",10,) -> 0 | V15: =IF(U15="Oui",-35,) -> 0 | W15: =IF(U15="Non",10,) -> 0 | X15: =SUM(B15:W15) -> 0 | Y15: / | Z15: 45 | AA15: =X15/Z15 -> 0
A16: 13 | D16: =IF(B16="Bien",10,) -> 0 | E16: =IF(B16="Moyen",5,) -> 0 | F16: =IF(B16="Mauvais",-35,) -> 0 | I16: =IF(G16="Non",10,) -> 0 | J16: =IF(G16="Un peu",5,) -> 0 | K16: =IF(G16="Beaucoup",-35,) -> 0 | N16: =IF(L16="Bien",5,) -> 0 | O16: =IF(L16="Moyen",0,) -> 0 | P16: =IF(L16="Mauvais",-35,) -> 0 | S16: =IF(Q16="Oui",-35,) -> 0 | T16: =IF(Q16="Non",10,) -> 0 | V16: =IF(U16="Oui",-35,) -> 0 | W16: =IF(U16="Non",10,) -> 0 | X16: =SUM(B16:W16) -> 0 | Y16: / | Z16: 45 | AA16: =X16/Z16 -> 0
A17: 14 | D17: =IF(B17="Bien",10,) -> 0 | E17: =IF(B17="Moyen",5,) -> 0 | F17: =IF(B17="Mauvais",-35,) -> 0 | I17: =IF(G17="Non",10,) -> 0 | J17: =IF(G17="Un peu",5,) -> 0 | K17: =IF(G17="Beaucoup",-35,) -> 0 | N17: =IF(L17="Bien",5,) -> 0 | O17: =IF(L17="Moyen",0,) -> 0 | P17: =IF(L17="Mauvais",-35,) -> 0 | S17: =IF(Q17="Oui",-35,) -> 0 | T17: =IF(Q17="Non",10,) -> 0 | V17: =IF(U17="Oui",-35,) -> 0 | W17: =IF(U17="Non",10,) -> 0 | X17: =SUM(B17:W17) -> 0 | Y17: / | Z17: 45 | AA17: =X17/Z17 -> 0
A18: 15 | D18: =IF(B18="Bien",10,) -> 0 | E18: =IF(B18="Moyen",5,) -> 0 | F18: =IF(B18="Mauvais",-35,) -> 0 | I18: =IF(G18="Non",10,) -> 0 | J18: =IF(G18="Un peu",5,) -> 0 | K18: =IF(G18="Beaucoup",-35,) -> 0 | N18: =IF(L18="Bien",5,) -> 0 | O18: =IF(L18="Moyen",0,) -> 0 | P18: =IF(L18="Mauvais",-35,) -> 0 | S18: =IF(Q18="Oui",-35,) -> 0 | T18: =IF(Q18="Non",10,) -> 0 | V18: =IF(U18="Oui",-35,) -> 0 | W18: =IF(U18="Non",10,) -> 0 | X18: =SUM(B18:W18) -> 0 | Y18: / | Z18: 45 | AA18: =X18/Z18 -> 0
A19: 16 | D19: =IF(B19="Bien",10,) -> 0 | E19: =IF(B19="Moyen",5,) -> 0 | F19: =IF(B19="Mauvais",-35,) -> 0 | I19: =IF(G19="Non",10,) -> 0 | J19: =IF(G19="Un peu",5,) -> 0 | K19: =IF(G19="Beaucoup",-35,) -> 0 | N19: =IF(L19="Bien",5,) -> 0 | O19: =IF(L19="Moyen",0,) -> 0 | P19: =IF(L19="Mauvais",-35,) -> 0 | S19: =IF(Q19="Oui",-35,) -> 0 | T19: =IF(Q19="Non",10,) -> 0 | V19: =IF(U19="Oui",-35,) -> 0 | W19: =IF(U19="Non",10,) -> 0 | X19: =SUM(B19:W19) -> 0 | Y19: / | Z19: 45 | AA19: =X19/Z19 -> 0
A20: 17 | D20: =IF(B20="Bien",10,) -> 0 | E20: =IF(B20="Moyen",5,) -> 0 | F20: =IF(B20="Mauvais",-35,) -> 0 | I20: =IF(G20="Non",10,) -> 0 | J20: =IF(G20="Un peu",5,) -> 0 | K20: =IF(G20="Beaucoup",-35,) -> 0 | N20: =IF(L20="Bien",5,) -> 0 | O20: =IF(L20="Moyen",0,) -> 0 | P20: =IF(L20="Mauvais",-35,) -> 0 | S20: =IF(Q20="Oui",-35,) -> 0 | T20: =IF(Q20="Non",10,) -> 0 | V20: =IF(U20="Oui",-35,) -> 0 | W20: =IF(U20="Non",10,) -> 0 | X20: =SUM(B20:W20) -> 0 | Y20: / | Z20: 45 | AA20: =X20/Z20 -> 0
A21: 18 | D21: =IF(B21="Bien",10,) -> 0 | E21: =IF(B21="Moyen",5,) -> 0 | F21: =IF(B21="Mauvais",-35,) -> 0 | I21: =IF(G21="Non",10,) -> 0 | J21: =IF(G21="Un peu",5,) -> 0 | K21: =IF(G21="Beaucoup",-35,) -> 0 | N21: =IF(L21="Bien",5,) -> 0 | O21: =IF(L21="Moyen",0,) -> 0 | P21: =IF(L21="Mauvais",-35,) -> 0 | S21: =IF(Q21="Oui",-35,) -> 0 | T21: =IF(Q21="Non",10,) -> 0 | V21: =IF(U21="Oui",-35,) -> 0 | W21: =IF(U21="Non",10,) -> 0 | X21: =SUM(B21:W21) -> 0 | Y21: / | Z21: 45 | AA21: =X21/Z21 -> 0
A22: 19 | D22: =IF(B22="Bien",10,) -> 0 | E22: =IF(B22="Moyen",5,) -> 0 | F22: =IF(B22="Mauvais",-35,) -> 0 | I22: =IF(G22="Non",10,) -> 0 | J22: =IF(G22="Un peu",5,) -> 0 | K22: =IF(G22="Beaucoup",-35,) -> 0 | N22: =IF(L22="Bien",5,) -> 0 | O22: =IF(L22="Moyen",0,) -> 0 | P22: =IF(L22="Mauvais",-35,) -> 0 | S22: =IF(Q22="Oui",-35,) -> 0 | T22: =IF(Q22="Non",10,) -> 0 | V22: =IF(U22="Oui",-35,) -> 0 | W22: =IF(U22="Non",10,) -> 0 | X22: =SUM(B22:W22) -> 0 | Y22: / | Z22: 45 | AA22: =X22/Z22 -> 0
A23: 20 | D23: =IF(B23="Bien",10,) -> 0 | E23: =IF(B23="Moyen",5,) -> 0 | F23: =IF(B23="Mauvais",-35,) -> 0 | I23: =IF(G23="Non",10,) -> 0 | J23: =IF(G23="Un peu",5,) -> 0 | K23: =IF(G23="Beaucoup",-35,) -> 0 | N23: =IF(L23="Bien",5,) -> 0 | O23: =IF(L23="Moyen",0,) -> 0 | P23: =IF(L23="Mauvais",-35,) -> 0 | S23: =IF(Q23="Oui",-35,) -> 0 | T23: =IF(Q23="Non",10,) -> 0 | V23: =IF(U23="Oui",-35,) -> 0 | W23: =IF(U23="Non",10,) -> 0 | X23: =SUM(B23:W23) -> 0 | Y23: / | Z23: 45 | AA23: =X23/Z23 -> 0
A24: 21 | D24: =IF(B24="Bien",10,) -> 0 | E24: =IF(B24="Moyen",5,) -> 0 | F24: =IF(B24="Mauvais",-35,) -> 0 | I24: =IF(G24="Non",10,) -> 0 | J24: =IF(G24="Un peu",5,) -> 0 | K24: =IF(G24="Beaucoup",-35,) -> 0 | N24: =IF(L24="Bien",5,) -> 0 | O24: =IF(L24="Moyen",0,) -> 0 | P24: =IF(L24="Mauvais",-35,) -> 0 | S24: =IF(Q24="Oui",-35,) -> 0 | T24: =IF(Q24="Non",10,) -> 0 | V24: =IF(U24="Oui",-35,) -> 0 | W24: =IF(U24="Non",10,) -> 0 | X24: =SUM(B24:W24) -> 0 | Y24: / | Z24: 45 | AA24: =X24/Z24 -> 0
... A2253: 2250 | D2253: =IF(B2253="Bien",10,) -> 0 | E2253: =IF(B2253="Moyen",5,) -> 0 | F2253: =IF(B2253="Mauvais",-35,) -> 0 | I2253: =IF(G2253="Non",10,) -> 0 | J2253: =IF(G2253="Un peu",5,) -> 0 | K2253: =IF(G2253="Beaucoup",-35,) -> 0 | N2253: =IF(L2253="Bien",5,) -> 0 | O2253: =IF(L2253="Moyen",0,) -> 0 | P2253: =IF(L2253="Mauvais",-35,) -> 0 | S2253: =IF(Q2253="Oui",-35,) -> 0 | T2253: =IF(Q2253="Non",10,) -> 0 | V2253: =IF(U2253="Oui",-35,) -> 0 | W2253: =IF(U2253="Non",10,) -> 0 | X2253: =SUM(B2253:W2253) -> 0 | Y2253: / | Z2253: 45 | AA2253: =X2253/Z2253 -> 0

Sheet Déscriptions des trades
A1: Calculateur de LOTS selon SL et TP | O1: Calculateur de risque | AF1: Information du jour | AP1: IN | AX1: Détail du trade | CC1: Info | CG1: Récapitulatif du gain | CM1: Qualité du trade | DD1: Information complémentaire | DH1: Accès aux captures d'écrans
A3: SL | B3: Qté de Lots | C3: TP | E3: SL | G3: Qté de Lots | H3: TP | J3: SL | L3: Qté de Lots | M3: TP | O3: Perte du capital max 1 % | P3: Perte en % | Q3: Solde si SL touché | R3: 0 | T3: Valeurs l'actif | W3: Valeur du point | X3: Levier max 6 | AA3: Flash Crach | AB3: Perte du capital en % | AC3: Soit | AD3: Solde | AF3: Trade N° | AH3: Date | AK3: volatilité / Info journée | AQ3: Sens | AR3: Actif | AT3: Heure du trade | AU3: Durée du trade | AY3: Type de Risque | BA3: UT d'entrée | BC3: Etat du marché | BE3: Stratégie d'entrée | BF3: Passage | BH3: Entrée au prix | BJ3: Entrée | BL3: Zone d'entrée Gagnant | BM3: Zone d'entrée Perdant / Flat | BO3: Ligne de défense 1 | BQ3: Ligne de défense 2 | BS3: Ligne de défense 3 | BU3: Ligne de défense 4 | BW3: Sortie au prix | BX3: Sortie Fractionnée | BY3: Sortie : TP / SL / manuel | BZ3: Zone de sortie | CC3: Potentiel de points | CH3: Nbrs de points | CI3: Gain | CJ3: % du trade réel | CK3: Capital | CN3: Trade pris selon le plan | CP3: Confiance sur le plan | CR3: Durée du trade | CT3: Déroulement du trade ( difficulté ) | CV3: Trade d'ennuie | CY3: Qualité du trade | DE3: Texte | DI3: Journal de Trading Andlil / Dossier
A4: ='Information du journal'!C13 -> 0 | C4: 1 | E4: ='Information du journal'!C13 -> 0 | H4: 2 | J4: ='Information du journal'!C13 -> 0 | M4: 3 | O4: Calculateur de perte | R4: Gain | T4: Calculateur de leviers | AA4: Risque de perte sans SLg | AJ4: 00.00.0000 | AL4: Liste | AM4: Annonces ? | AQ4: Liste | AR4: Liste | AT4: 0 | AU4: 0 | AY4: Liste | BA4: Liste | BC4: Liste | BE4: Liste | BF4: Liste | BJ4: Liste | BL4: Liste | BM4: Liste | BO4: Liste | BQ4: Liste | BS4: Liste | BU4: Liste | BX4: Liste | BY4: Liste | BZ4: Liste | CJ4: =SUM(CJ5:CJ2254) -> #DIV/0! | CK4: ='Calculateur de trading'!B5 -> 0 | CN4: Liste | CP4: Liste | CR4: Liste | CT4: Liste | CV4: Liste | CY4: résultats
A5: 50 | B5: ='Calculateur de trading'!I5/C5/W5 -> #DIV/0! | C5: 10 | E5: 100 | F5: =(E5/A5) -> 2 | G5: =B5/F5 -> #DIV/0! | H5: =C5*F5 -> 20 | J5: 200 | K5: =J5/A5 -> 4 | L5: =B5/K5 -> #DIV/0! | M5: =C5*K5 -> 40 | O5: =(A5*B5*W5)+(B5*'Calculateur de trading'!H5) -> #DIV/0! | P5: =O5/'Déscriptions des trades'!CK4 -> #DIV/0! | Q5: ='Déscriptions des trades'!CK4-'Déscriptions des trades'!O5 -> #DIV/0! | R5: =B5*C5 -> #DIV/0! | W5: ='Information du journal'!C9 -> 0 | X5: =W5*U5/CK4*B5 -> #DIV/0! | AA5: 0.1 | AB5: =(AA5*'Déscriptions des trades'!U5*'Déscriptions des trades'!B5/'Déscriptions des trades'!CK4)*'Déscriptions des trades'!W5 -> #DIV/0! | AC5: =AB5*'Déscriptions des trades'!CK4 -> #DIV/0! | AD5: ='Déscriptions des trades'!CK4-AC5 -> #DIV/0! | AF5: 1 | CH5: =BW5-BH5 -> 0 | CI5: 12.89 | CJ5: =CI5/CK4 -> #DIV/0! | CK5: =CI5+CK4 -> 12.89 | CO5: =IF(CN5="Oui",10,) -> 0 | CQ5: =IF(CP5="Oui",10,) -> 0 | CS5: =IF(CR5="Bon",10,) -> 0 | CU5: =IF(CT5="Bon",10,) -> 0 | CW5: =IF(CV5="Non",10,) -> 0 | CX5: =IF(CV5="Oui",-40,) -> 0 | CY5: =SUM(CN5:CX5) -> 0 | CZ5: / | DA5: 50 | DB5: =CY5/DA5 -> 0
A6: =A5 -> 50 | B6: ='Calculateur de trading'!I6/C6/W6 -> #DIV/0! | C6: =C5 -> 10 | E6: =E5 -> 100 | F6: =(E6/A6) -> 2 | G6: =B6/F6 -> #DIV/0! | H6: =C6*F6 -> 20 | J6: =J5 -> 200 | K6: =J6/A6 -> 4 | L6: =B6/K6 -> #DIV/0! | M6: =C6*K6 -> 40 | O6: =(A6*B6*W6)+(B6*'Calculateur de trading'!H6) -> #DIV/0! | P6: =O6/'Déscriptions des trades'!CK5 -> #DIV/0! | Q6: ='Déscriptions des trades'!CK5-'Déscriptions des trades'!O6 -> #DIV/0! | R6: =B6*C6 -> #DIV/0! | W6: =W5 -> 0 | X6: =W6*U6/CK5*B6 -> #DIV/0! | AA6: =AA5 -> 0.1 | AB6: =(AA6*'Déscriptions des trades'!U6*'Déscriptions des trades'!B6/'Déscriptions des trades'!CK5)*'Déscriptions des trades'!W6 -> #DIV/0! | AC6: =AB6*'Déscriptions des trades'!CK5 -> #DIV/0! | AD6: ='Déscriptions des trades'!CK5-AC6 -> #DIV/0! | AF6: 2 | CH6: =BW6-BH6 -> 0 | CJ6: =CI6/CK5 -> 0 | CK6: =CI6+CK5 -> 12.89 | CO6: =IF(CN6="Oui",10,) -> 0 | CQ6: =IF(CP6="Oui",10,) -> 0 | CS6: =IF(CR6="Bon",10,) -> 0 | CU6: =IF(CT6="Bon",10,) -> 0 | CW6: =IF(CV6="Non",10,) -> 0 | CX6: =IF(CV6="Oui",-40,) -> 0 | CY6: =SUM(CN6:CX6) -> 0 | CZ6: / | DA6: 50 | DB6: =CY6/DA6 -> 0
A7: =A6 -> 50 | B7: ='Calculateur de trading'!I7/C7/W7 -> #DIV/0! | C7: =C6 -> 10 | E7: =E6 -> 100 | F7: =(E7/A7) -> 2 | G7: =B7/F7 -> #DIV/0! | H7: =C7*F7 -> 20 | J7: =J6 -> 200 | K7: =J7/A7 -> 4 | L7: =B7/K7 -> #DIV/0! | M7: =C7*K7 -> 40 | O7: =(A7*B7*W7)+(B7*'Calculateur de trading'!H7) -> #DIV/0! | P7: =O7/'Déscriptions des trades'!CK6 -> #DIV/0! | Q7: ='Déscriptions des trades'!CK6-'Déscriptions des trades'!O7 -> #DIV/0! | R7: =B7*C7 -> #DIV/0! | W7: =W6 -> 0 | X7: =W7*U7/'Déscriptions des trades'!CK7*'Déscriptions des trades'!B7 -> #DIV/0! | AA7: =AA6 -> 0.1 | AB7: =(AA7*'Déscriptions des trades'!U7*'Déscriptions des trades'!B7/'Déscriptions des trades'!CK7)*'Déscriptions des trades'!W7 -> #DIV/0! | AC7: =AB7*'Déscriptions des trades'!CK7 -> #DIV/0! | AD7: ='Déscriptions des trades'!CK7-AC7 -> #DIV/0! | AF7: 3 | CH7: =BW7-BH7 -> 0 | CJ7: =CI7/CK6 -> 0 | CK7: =CI7+CK6 -> 12.89 | CO7: =IF(CN7="Oui",10,) -> 0 | CQ7: =IF(CP7="Oui",10,) -> 0 | CS7: =IF(CR7="Bon",10,) -> 0 | CU7: =IF(CT7="Bon",10,) -> 0 | CW7: =IF(CV7="Non",10,) -> 0 | CX7: =IF(CV7="Oui",-40,) -> 0 | CY7: =SUM(CN7:CX7) -> 0 | CZ7: / | DA7: 50 | DB7: =CY7/DA7 -> 0
A8: =A7 -> 50 | B8: ='Calculateur de trading'!I8/C8/W8 -> #DIV/0! | C8: =C7 -> 10 | E8: =E7 -> 100 | F8: =(E8/A8) -> 2 | G8: =B8/F8 -> #DIV/0! | H8: =C8*F8 -> 20 | J8: =J7 -> 200 | K8: =J8/A8 -> 4 | L8: =B8/K8 -> #DIV/0! | M8: =C8*K8 -> 40 | O8: =(A8*B8*W8)+(B8*'Calculateur de trading'!H8) -> #DIV/0! | P8: =O8/'Déscriptions des trades'!CK7 -> #DIV/0! | Q8: ='Déscriptions des trades'!CK7-'Déscriptions des trades'!O8 -> #DIV/0! | R8: =B8*C8 -> #DIV/0! | W8: =W7 -> 0 | X8: =W8*U8/'Déscriptions des trades'!CK8*'Déscriptions des trades'!B8 -> #DIV/0! | AA8: =AA7 -> 0.1 | AB8: =(AA8*'Déscriptions des trades'!U8*'Déscriptions des trades'!B8/'Déscriptions des trades'!CK8)*'Déscriptions des trades'!W8 -> #DIV/0! | AC8: =AB8*'Déscriptions des trades'!CK8 -> #DIV/0! | AD8: ='Déscriptions des trades'!CK8-AC8 -> #DIV/0! | AF8: 4 | CH8: =BW8-BH8 -> 0 | CJ8: =CI8/CK7 -> 0 | CK8: =CI8+CK7 -> 12.89 | CO8: =IF(CN8="Oui",10,) -> 0 | CQ8: =IF(CP8="Oui",10,) -> 0 | CS8: =IF(CR8="Bon",10,) -> 0 | CU8: =IF(CT8="Bon",10,) -> 0 | CW8: =IF(CV8="Non",10,) -> 0 | CX8: =IF(CV8="Oui",-40,) -> 0 | CY8: =SUM(CN8:CX8) -> 0 | CZ8: / | DA8: 50 | DB8: =CY8/DA8 -> 0
A9: =A8 -> 50 | B9: ='Calculateur de trading'!I9/C9/W9 -> #DIV/0! | C9: =C8 -> 10 | E9: =E8 -> 100 | F9: =(E9/A9) -> 2 | G9: =B9/F9 -> #DIV/0! | H9: =C9*F9 -> 20 | J9: =J8 -> 200 | K9: =J9/A9 -> 4 | L9: =B9/K9 -> #DIV/0! | M9: =C9*K9 -> 40 | O9: =(A9*B9*W9)+(B9*'Calculateur de trading'!H9) -> #DIV/0! | P9: =O9/'Déscriptions des trades'!CK8 -> #DIV/0! | Q9: ='Déscriptions des trades'!CK8-'Déscriptions des trades'!O9 -> #DIV/0! | R9: =B9*C9 -> #DIV/0! | W9: =W8 -> 0 | X9: =W9*U9/'Déscriptions des trades'!CK9*'Déscriptions des trades'!B9 -> #DIV/0! | AA9: =AA8 -> 0.1 | AB9: =(AA9*'Déscriptions des trades'!U9*'Déscriptions des trades'!B9/'Déscriptions des trades'!CK9)*'Déscriptions des trades'!W9 -> #DIV/0! | AC9: =AB9*'Déscriptions des trades'!CK9 -> #DIV/0! | AD9: ='Déscriptions des trades'!CK9-AC9 -> #DIV/0! | AF9: 5 | CH9: =BW9-BH9 -> 0 | CJ9: =CI9/CK8 -> 0 | CK9: =CI9+CK8 -> 12.89 | CO9: =IF(CN9="Oui",10,) -> 0 | CQ9: =IF(CP9="Oui",10,) -> 0 | CS9: =IF(CR9="Bon",10,) -> 0 | CU9: =IF(CT9="Bon",10,) -> 0 | CW9: =IF(CV9="Non",10,) -> 0 | CX9: =IF(CV9="Oui",-40,) -> 0 | CY9: =SUM(CN9:CX9) -> 0 | CZ9: / | DA9: 50 | DB9: =CY9/DA9 -> 0
A10: =A9 -> 50 | B10: ='Calculateur de trading'!I10/C10/W10 -> #DIV/0! | C10: =C9 -> 10 | E10: =E9 -> 100 | F10: =(E10/A10) -> 2 | G10: =B10/F10 -> #DIV/0! | H10: =C10*F10 -> 20 | J10: =J9 -> 200 | K10: =J10/A10 -> 4 | L10: =B10/K10 -> #DIV/0! | M10: =C10*K10 -> 40 | O10: =(A10*B10*W10)+(B10*'Calculateur de trading'!H10) -> #DIV/0! | P10: =O10/'Déscriptions des trades'!CK9 -> #DIV/0! | Q10: ='Déscriptions des trades'!CK9-'Déscriptions des trades'!O10 -> #DIV/0! | R10: =B10*C10 -> #DIV/0! | W10: =W9 -> 0 | X10: =W10*U10/'Déscriptions des trades'!CK10*'Déscriptions des trades'!B10 -> #DIV/0! | AA10: =AA9 -> 0.1 | AB10: =(AA10*'Déscriptions des trades'!U10*'Déscriptions des trades'!B10/'Déscriptions des trades'!CK10)*'Déscriptions des trades'!W10 -> #DIV/0! | AC10: =AB10*'Déscriptions des trades'!CK10 -> #DIV/0! | AD10: ='Déscriptions des trades'!CK10-AC10 -> #DIV/0! | AF10: 6 | CH10: =BW10-BH10 -> 0 | CJ10: =CI10/CK9 -> 0 | CK10: =CI10+CK9 -> 12.89 | CO10: =IF(CN10="Oui",10,) -> 0 | CQ10: =IF(CP10="Oui",10,) -> 0 | CS10: =IF(CR10="Bon",10,) -> 0 | CU10: =IF(CT10="Bon",10,) -> 0 | CW10: =IF(CV10="Non",10,) -> 0 | CX10: =IF(CV10="Oui",-40,) -> 0 | CY10: =SUM(CN10:CX10) -> 0 | CZ10: / | DA10: 50 | DB10: =CY10/DA10 -> 0
A11: =A10 -> 50 | B11: ='Calculateur de trading'!I11/C11/W11 -> #DIV/0! | C11: =C10 -> 10 | E11: =E10 -> 100 | F11: =(E11/A11) -> 2 | G11: =B11/F11 -> #DIV/0! | H11: =C11*F11 -> 20 | J11: =J10 -> 200 | K11: =J11/A11 -> 4 | L11: =B11/K11 -> #DIV/0! | M11: =C11*K11 -> 40 | O11: =(A11*B11*W11)+(B11*'Calculateur de trading'!H11) -> #DIV/0! | P11: =O11/'Déscriptions des trades'!CK10 -> #DIV/0! | Q11: ='Déscriptions des trades'!CK10-'Déscriptions des trades'!O11 -> #DIV/0! | R11: =B11*C11 -> #DIV/0! | W11: =W10 -> 0 | X11: =W11*U11/'Déscriptions des trades'!CK11*'Déscriptions des trades'!B11 -> #DIV/0! | AA11: =AA10 -> 0.1 | AB11: =(AA11*'Déscriptions des trades'!U11*'Déscriptions des trades'!B11/'Déscriptions des trades'!CK11)*'Déscriptions des trades'!W11 -> #DIV/0! | AC11: =AB11*'Déscriptions des trades'!CK11 -> #DIV/0! | AD11: ='Déscriptions des trades'!CK11-AC11 -> #DIV/0! | AF11: 7 | CH11: =BW11-BH11 -> 0 | CJ11: =CI11/CK10 -> 0 | CK11: =CI11+CK10 -> 12.89 | CO11: =IF(CN11="Oui",10,) -> 0 | CQ11: =IF(CP11="Oui",10,) -> 0 | CS11: =IF(CR11="Bon",10,) -> 0 | CU11: =IF(CT11="Bon",10,) -> 0 | CW11: =IF(CV11="Non",10,) -> 0 | CX11: =IF(CV11="Oui",-40,) -> 0 | CY11: =SUM(CN11:CX11) -> 0 | CZ11: / | DA11: 50 | DB11: =CY11/DA11 -> 0
A12: =A11 -> 50 | B12: ='Calculateur de trading'!I12/C12/W12 -> #DIV/0! | C12: =C11 -> 10 | E12: =E11 -> 100 | F12: =(E12/A12) -> 2 | G12: =B12/F12 -> #DIV/0! | H12: =C12*F12 -> 20 | J12: =J11 -> 200 | K12: =J12/A12 -> 4 | L12: =B12/K12 -> #DIV/0! | M12: =C12*K12 -> 40 | O12: =(A12*B12*W12)+(B12*'Calculateur de trading'!H12) -> #DIV/0! | P12: =O12/'Déscriptions des trades'!CK12 -> #DIV/0! | Q12: ='Déscriptions des trades'!CK12-O12 -> #DIV/0! | R12: =B12*C12 -> #DIV/0! | W12: =W11 -> 0 | X12: =W12*U12/'Déscriptions des trades'!CK12*'Déscriptions des trades'!B12 -> #DIV/0! | AA12: =AA11 -> 0.1 | AB12: =(AA12*'Déscriptions des trades'!U12*'Déscriptions des trades'!B12/'Déscriptions des trades'!CK12)*'Déscriptions des trades'!W12 -> #DIV/0! | AC12: =AB12*'Déscriptions des trades'!CK12 -> #DIV/0! | AD12: ='Déscriptions des trades'!CK12-AC12 -> #DIV/0! | AF12: 8 | CH12: =BW12-BH12 -> 0 | CJ12: =CI12/CK11 -> 0 | CK12: =CI12+CK11 -> 12.89 | CO12: =IF(CN12="Oui",10,) -> 0 | CQ12: =IF(CP12="Oui",10,) -> 0 | CS12: =IF(CR12="Bon",10,) -> 0 | CU12: =IF(CT12="Bon",10,) -> 0 | CW12: =IF(CV12="Non",10,) -> 0 | CX12: =IF(CV12="Oui",-40,) -> 0 | CY12: =SUM(CN12:CX12) -> 0 | CZ12: / | DA12: 50 | DB12: =CY12/DA12 -> 0
A13: =A12 -> 50 | B13: ='Calculateur de trading'!I13/C13/W13 -> #DIV/0! | C13: =C12 -> 10 | E13: =E12 -> 100 | F13: =(E13/A13) -> 2 | G13: =B13/F13 -> #DIV/0! | H13: =C13*F13 -> 20 | J13: =J12 -> 200 | K13: =J13/A13 -> 4 | L13: =B13/K13 -> #DIV/0! | M13: =C13*K13 -> 40 | O13: =(A13*B13*W13)+(B13*'Calculateur de trading'!H13) -> #DIV/0! | P13: =O13/'Déscriptions des trades'!CK13 -> #DIV/0! | Q13: ='Déscriptions des trades'!CK13-O13 -> #DIV/0! | R13: =B13*C13 -> #DIV/0! | W13: =W12 -> 0 | X13: =W13*U13/'Déscriptions des trades'!CK13*'Déscriptions des trades'!B13 -> #DIV/0! | AA13: =AA12 -> 0.1 | AB13: =(AA13*'Déscriptions des trades'!U13*'Déscriptions des trades'!B13/'Déscriptions des trades'!CK13)*'Déscriptions des trades'!W13 -> #DIV/0! | AC13: =AB13*'Déscriptions des trades'!CK13 -> #DIV/0! | AD13: ='Déscriptions des trades'!CK13-AC13 -> #DIV/0! | AF13: 9 | CH13: =BW13-BH13 -> 0 | CJ13: =CI13/CK12 -> 0 | CK13: =CI13+CK12 -> 12.89 | CO13: =IF(CN13="Oui",10,) -> 0 | CQ13: =IF(CP13="Oui",10,) -> 0 | CS13: =IF(CR13="Bon",10,) -> 0 | CU13: =IF(CT13="Bon",10,) -> 0 | CW13: =IF(CV13="Non",10,) -> 0 | CX13: =IF(CV13="Oui",-40,) -> 0 | CY13: =SUM(CN13:CX13) -> 0 | CZ13: / | DA13: 50 | DB13: =CY13/DA13 -> 0
A14: =A13 -> 50 | B14: ='Calculateur de trading'!I14/C14/W14 -> #DIV/0! | C14: =C13 -> 10 | E14: =E13 -> 100 | F14: =(E14/A14) -> 2 | G14: =B14/F14 -> #DIV/0! | H14: =C14*F14 -> 20 | J14: =J13 -> 200 | K14: =J14/A14 -> 4 | L14: =B14/K14 -> #DIV/0! | M14: =C14*K14 -> 40 | O14: =(A14*B14*W14)+(B14*'Calculateur de trading'!H14) -> #DIV/0! | P14: =O14/'Déscriptions des trades'!CK14 -> #DIV/0! | Q14: ='Déscriptions des trades'!CK14-O14 -> #DIV/0! | R14: =B14*C14 -> #DIV/0! | W14: =W13 -> 0 | X14: =W14*U14/'Déscriptions des trades'!CK14*'Déscriptions des trades'!B14 -> #DIV/0! | AA14: =AA13 -> 0.1 | AB14: =(AA14*'Déscriptions des trades'!U14*'Déscriptions des trades'!B14/'Déscriptions des trades'!CK14)*'Déscriptions des trades'!W14 -> #DIV/0! | AC14: =AB14*'Déscriptions des trades'!CK14 -> #DIV/0! | AD14: ='Déscriptions des trades'!CK14-AC14 -> #DIV/0! | AF14: 10 | CH14: =BW14-BH14 -> 0 | CJ14: =CI14/CK13 -> 0 | CK14: =CI14+CK13 -> 12.89 | CO14: =IF(CN14="Oui",10,) -> 0 | CQ14: =IF(CP14="Oui",10,) -> 0 | CS14: =IF(CR14="Bon",10,) -> 0 | CU14: =IF(CT14="Bon",10,) -> 0 | CW14: =IF(CV14="Non",10,) -> 0 | CX14: =IF(CV14="Oui",-40,) -> 0 | CY14: =SUM(CN14:CX14) -> 0 | CZ14: / | DA14: 50 | DB14: =CY14/DA14 -> 0
A15: =A14 -> 50 | B15: ='Calculateur de trading'!I15/C15/W15 -> #DIV/0! | C15: =C14 -> 10 | E15: =E14 -> 100 | F15: =(E15/A15) -> 2 | G15: =B15/F15 -> #DIV/0! | H15: =C15*F15 -> 20 | J15: =J14 -> 200 | K15: =J15/A15 -> 4 | L15: =B15/K15 -> #DIV/0! | M15: =C15*K15 -> 40 | O15: =(A15*B15*W15)+(B15*'Calculateur de trading'!H15) -> #DIV/0! | P15: =O15/'Déscriptions des trades'!CK15 -> #DIV/0! | Q15: ='Déscriptions des trades'!CK15-O15 -> #DIV/0! | R15: =B15*C15 -> #DIV/0! | W15: =W14 -> 0 | X15: =W15*U15/'Déscriptions des trades'!CK15*'Déscriptions des trades'!B15 -> #DIV/0! | AA15: =AA14 -> 0.1 | AB15: =(AA15*'Déscriptions des trades'!U15*'Déscriptions des trades'!B15/'Déscriptions des trades'!CK15)*'Déscriptions des trades'!W15 -> #DIV/0! | AC15: =AB15*'Déscriptions des trades'!CK15 -> #DIV/0! | AD15: ='Déscriptions des trades'!CK15-AC15 -> #DIV/0! | AF15: 11 | CH15: =BW15-BH15 -> 0 | CJ15: =CI15/CK14 -> 0 | CK15: =CI15+CK14 -> 12.89 | CO15: =IF(CN15="Oui",10,) -> 0 | CQ15: =IF(CP15="Oui",10,) -> 0 | CS15: =IF(CR15="Bon",10,) -> 0 | CU15: =IF(CT15="Bon",10,) -> 0 | CW15: =IF(CV15="Non",10,) -> 0 | CX15: =IF(CV15="Oui",-40,) -> 0 | CY15: =SUM(CN15:CX15) -> 0 | CZ15: / | DA15: 50 | DB15: =CY15/DA15 -> 0
A16: =A15 -> 50 | B16: ='Calculateur de trading'!I16/C16/W16 -> #DIV/0! | C16: =C15 -> 10 | E16: =E15 -> 100 | F16: =(E16/A16) -> 2 | G16: =B16/F16 -> #DIV/0! | H16: =C16*F16 -> 20 | J16: =J15 -> 200 | K16: =J16/A16 -> 4 | L16: =B16/K16 -> #DIV/0! | M16: =C16*K16 -> 40 | O16: =(A16*B16*W16)+(B16*'Calculateur de trading'!H16) -> #DIV/0! | P16: =O16/'Déscriptions des trades'!CK16 -> #DIV/0! | Q16: ='Déscriptions des trades'!CK16-O16 -> #DIV/0! | R16: =B16*C16 -> #DIV/0! | W16: =W15 -> 0 | X16: =W16*U16/'Déscriptions des trades'!CK16*'Déscriptions des trades'!B16 -> #DIV/0! | AA16: =AA15 -> 0.1 | AB16: =(AA16*'Déscriptions des trades'!U16*'Déscriptions des trades'!B16/'Déscriptions des trades'!CK16)*'Déscriptions des trades'!W16 -> #DIV/0! | AC16: =AB16*'Déscriptions des trades'!CK16 -> #DIV/0! | AD16: ='Déscriptions des trades'!CK16-AC16 -> #DIV/0! | AF16: 12 | CH16: =BW16-BH16 -> 0 | CJ16: =CI16/CK15 -> 0 | CK16: =CI16+CK15 -> 12.89 | CO16: =IF(CN16="Oui",10,) -> 0 | CQ16: =IF(CP16="Oui",10,) -> 0 | CS16: =IF(CR16="Bon",10,) -> 0 | CU16: =IF(CT16="Bon",10,) -> 0 | CW16: =IF(CV16="Non",10,) -> 0 | CX16: =IF(CV16="Oui",-40,) -> 0 | CY16: =SUM(CN16:CX16) -> 0 | CZ16: / | DA16: 50 | DB16: =CY16/DA16 -> 0
A17: =A16 -> 50 | B17: ='Calculateur de trading'!I17/C17/W17 -> #DIV/0! | C17: =C16 -> 10 | E17: =E16 -> 100 | F17: =(E17/A17) -> 2 | G17: =B17/F17 -> #DIV/0! | H17: =C17*F17 -> 20 | J17: =J16 -> 200 | K17: =J17/A17 -> 4 | L17: =B17/K17 -> #DIV/0! | M17: =C17*K17 -> 40 | O17: =(A17*B17*W17)+(B17*'Calculateur de trading'!H17) -> #DIV/0! | P17: =O17/'Déscriptions des trades'!CK17 -> #DIV/0! | Q17: ='Déscriptions des trades'!CK17-O17 -> #DIV/0! | R17: =B17*C17 -> #DIV/0! | W17: =W16 -> 0 | X17: =W17*U17/'Déscriptions des trades'!CK17*'Déscriptions des trades'!B17 -> #DIV/0! | AA17: =AA16 -> 0.1 | AB17: =(AA17*'Déscriptions des trades'!U17*'Déscriptions des trades'!B17/'Déscriptions des trades'!CK17)*'Déscriptions des trades'!W17 -> #DIV/0! | AC17: =AB17*'Déscriptions des trades'!CK17 -> #DIV/0! | AD17: ='Déscriptions des trades'!CK17-AC17 -> #DIV/0! | AF17: 13 | CH17: =BW17-BH17 -> 0 | CJ17: =CI17/CK16 -> 0 | CK17: =CI17+CK16 -> 12.89 | CO17: =IF(CN17="Oui",10,) -> 0 | CQ17: =IF(CP17="Oui",10,) -> 0 | CS17: =IF(CR17="Bon",10,) -> 0 | CU17: =IF(CT17="Bon",10,) -> 0 | CW17: =IF(CV17="Non",10,) -> 0 | CX17: =IF(CV17="Oui",-40,) -> 0 | CY17: =SUM(CN17:CX17) -> 0 | CZ17: / | DA17: 50 | DB17: =CY17/DA17 -> 0
A18: =A17 -> 50 | B18: ='Calculateur de trading'!I18/C18/W18 -> #DIV/0! | C18: =C17 -> 10 | E18: =E17 -> 100 | F18: =(E18/A18) -> 2 | G18: =B18/F18 -> #DIV/0! | H18: =C18*F18 -> 20 | J18: =J17 -> 200 | K18: =J18/A18 -> 4 | L18: =B18/K18 -> #DIV/0! | M18: =C18*K18 -> 40 | O18: =(A18*B18*W18)+(B18*'Calculateur de trading'!H18) -> #DIV/0! | P18: =O18/'Déscriptions des trades'!CK18 -> #DIV/0! | Q18: ='Déscriptions des trades'!CK18-O18 -> #DIV/0! | R18: =B18*C18 -> #DIV/0! | W18: =W17 -> 0 | X18: =W18*U18/'Déscriptions des trades'!CK18*'Déscriptions des trades'!B18 -> #DIV/0! | AA18: =AA17 -> 0.1 | AB18: =(AA18*'Déscriptions des trades'!U18*'Déscriptions des trades'!B18/'Déscriptions des trades'!CK18)*'Déscriptions des trades'!W18 -> #DIV/0! | AC18: =AB18*'Déscriptions des trades'!CK18 -> #DIV/0! | AD18: ='Déscriptions des trades'!CK18-AC18 -> #DIV/0! | AF18: 14 | CH18: =BW18-BH18 -> 0 | CJ18: =CI18/CK17 -> 0 | CK18: =CI18+CK17 -> 12.89 | CO18: =IF(CN18="Oui",10,) -> 0 | CQ18: =IF(CP18="Oui",10,) -> 0 | CS18: =IF(CR18="Bon",10,) -> 0 | CU18: =IF(CT18="Bon",10,) -> 0 | CW18: =IF(CV18="Non",10,) -> 0 | CX18: =IF(CV18="Oui",-40,) -> 0 | CY18: =SUM(CN18:CX18) -> 0 | CZ18: / | DA18: 50 | DB18: =CY18/DA18 -> 0
A19: =A18 -> 50 | B19: ='Calculateur de trading'!I19/C19/W19 -> #DIV/0! | C19: =C18 -> 10 | E19: =E18 -> 100 | F19: =(E19/A19) -> 2 | G19: =B19/F19 -> #DIV/0! | H19: =C19*F19 -> 20 | J19: =J18 -> 200 | K19: =J19/A19 -> 4 | L19: =B19/K19 -> #DIV/0! | M19: =C19*K19 -> 40 | O19: =(A19*B19*W19)+(B19*'Calculateur de trading'!H19) -> #DIV/0! | P19: =O19/'Déscriptions des trades'!CK19 -> #DIV/0! | Q19: ='Déscriptions des trades'!CK19-O19 -> #DIV/0! | R19: =B19*C19 -> #DIV/0! | W19: =W18 -> 0 | X19: =W19*U19/'Déscriptions des trades'!CK19*'Déscriptions des trades'!B19 -> #DIV/0! | AA19: =AA18 -> 0.1 | AB19: =(AA19*'Déscriptions des trades'!U19*'Déscriptions des trades'!B19/'Déscriptions des trades'!CK19)*'Déscriptions des trades'!W19 -> #DIV/0! | AC19: =AB19*'Déscriptions des trades'!CK19 -> #DIV/0! | AD19: ='Déscriptions des trades'!CK19-AC19 -> #DIV/0! | AF19: 15 | CH19: =BW19-BH19 -> 0 | CJ19: =CI19/CK18 -> 0 | CK19: =CI19+CK18 -> 12.89 | CO19: =IF(CN19="Oui",10,) -> 0 | CQ19: =IF(CP19="Oui",10,) -> 0 | CS19: =IF(CR19="Bon",10,) -> 0 | CU19: =IF(CT19="Bon",10,) -> 0 | CW19: =IF(CV19="Non",10,) -> 0 | CX19: =IF(CV19="Oui",-40,) -> 0 | CY19: =SUM(CN19:CX19) -> 0 | CZ19: / | DA19: 50 | DB19: =CY19/DA19 -> 0
A20: =A19 -> 50 | B20: ='Calculateur de trading'!I20/C20/W20 -> #DIV/0! | C20: =C19 -> 10 | E20: =E19 -> 100 | F20: =(E20/A20) -> 2 | G20: =B20/F20 -> #DIV/0! | H20: =C20*F20 -> 20 | J20: =J19 -> 200 | K20: =J20/A20 -> 4 | L20: =B20/K20 -> #DIV/0! | M20: =C20*K20 -> 40 | O20: =(A20*B20*W20)+(B20*'Calculateur de trading'!H20) -> #DIV/0! | P20: =O20/'Déscriptions des trades'!CK20 -> #DIV/0! | Q20: ='Déscriptions des trades'!CK20-O20 -> #DIV/0! | R20: =B20*C20 -> #DIV/0! | W20: =W19 -> 0 | X20: =W20*U20/'Déscriptions des trades'!CK20*'Déscriptions des trades'!B20 -> #DIV/0! | AA20: =AA19 -> 0.1 | AB20: =(AA20*'Déscriptions des trades'!U20*'Déscriptions des trades'!B20/'Déscriptions des trades'!CK20)*'Déscriptions des trades'!W20 -> #DIV/0! | AC20: =AB20*'Déscriptions des trades'!CK20 -> #DIV/0! | AD20: ='Déscriptions des trades'!CK20-AC20 -> #DIV/0! | AF20: 16 | CH20: =BW20-BH20 -> 0 | CJ20: =CI20/CK19 -> 0 | CK20: =CI20+CK19 -> 12.89 | CO20: =IF(CN20="Oui",10,) -> 0 | CQ20: =IF(CP20="Oui",10,) -> 0 | CS20: =IF(CR20="Bon",10,) -> 0 | CU20: =IF(CT20="Bon",10,) -> 0 | CW20: =IF(CV20="Non",10,) -> 0 | CX20: =IF(CV20="Oui",-40,) -> 0 | CY20: =SUM(CN20:CX20) -> 0 | CZ20: / | DA20: 50 | DB20: =CY20/DA20 -> 0
A21: =A20 -> 50 | B21: ='Calculateur de trading'!I21/C21/W21 -> #DIV/0! | C21: =C20 -> 10 | E21: =E20 -> 100 | F21: =(E21/A21) -> 2 | G21: =B21/F21 -> #DIV/0! | H21: =C21*F21 -> 20 | J21: =J20 -> 200 | K21: =J21/A21 -> 4 | L21: =B21/K21 -> #DIV/0! | M21: =C21*K21 -> 40 | O21: =(A21*B21*W21)+(B21*'Calculateur de trading'!H21) -> #DIV/0! | P21: =O21/'Déscriptions des trades'!CK21 -> #DIV/0! | Q21: ='Déscriptions des trades'!CK21-O21 -> #DIV/0! | R21: =B21*C21 -> #DIV/0! | W21: =W20 -> 0 | X21: =W21*U21/'Déscriptions des trades'!CK21*'Déscriptions des trades'!B21 -> #DIV/0! | AA21: =AA20 -> 0.1 | AB21: =(AA21*'Déscriptions des trades'!U21*'Déscriptions des trades'!B21/'Déscriptions des trades'!CK21)*'Déscriptions des trades'!W21 -> #DIV/0! | AC21: =AB21*'Déscriptions des trades'!CK21 -> #DIV/0! | AD21: ='Déscriptions des trades'!CK21-AC21 -> #DIV/0! | AF21: 17 | CH21: =BW21-BH21 -> 0 | CJ21: =CI21/CK20 -> 0 | CK21: =CI21+CK20 -> 12.89 | CO21: =IF(CN21="Oui",10,) -> 0 | CQ21: =IF(CP21="Oui",10,) -> 0 | CS21: =IF(CR21="Bon",10,) -> 0 | CU21: =IF(CT21="Bon",10,) -> 0 | CW21: =IF(CV21="Non",10,) -> 0 | CX21: =IF(CV21="Oui",-40,) -> 0 | CY21: =SUM(CN21:CX21) -> 0 | CZ21: / | DA21: 50 | DB21: =CY21/DA21 -> 0
A22: =A21 -> 50 | B22: ='Calculateur de trading'!I22/C22/W22 -> #DIV/0! | C22: =C21 -> 10 | E22: =E21 -> 100 | F22: =(E22/A22) -> 2 | G22: =B22/F22 -> #DIV/0! | H22: =C22*F22 -> 20 | J22: =J21 -> 200 | K22: =J22/A22 -> 4 | L22: =B22/K22 -> #DIV/0! | M22: =C22*K22 -> 40 | O22: =(A22*B22*W22)+(B22*'Calculateur de trading'!H22) -> #DIV/0! | P22: =O22/'Déscriptions des trades'!CK22 -> #DIV/0! | Q22: ='Déscriptions des trades'!CK22-O22 -> #DIV/0! | R22: =B22*C22 -> #DIV/0! | W22: =W21 -> 0 | X22: =W22*U22/'Déscriptions des trades'!CK22*'Déscriptions des trades'!B22 -> #DIV/0! | AA22: =AA21 -> 0.1 | AB22: =(AA22*'Déscriptions des trades'!U22*'Déscriptions des trades'!B22/'Déscriptions des trades'!CK22)*'Déscriptions des trades'!W22 -> #DIV/0! | AC22: =AB22*'Déscriptions des trades'!CK22 -> #DIV/0! | AD22: ='Déscriptions des trades'!CK22-AC22 -> #DIV/0! | AF22: 18 | CH22: =BW22-BH22 -> 0 | CJ22: =CI22/CK21 -> 0 | CK22: =CI22+CK21 -> 12.89 | CO22: =IF(CN22="Oui",10,) -> 0 | CQ22: =IF(CP22="Oui",10,) -> 0 | CS22: =IF(CR22="Bon",10,) -> 0 | CU22: =IF(CT22="Bon",10,) -> 0 | CW22: =IF(CV22="Non",10,) -> 0 | CX22: =IF(CV22="Oui",-40,) -> 0 | CY22: =SUM(CN22:CX22) -> 0 | CZ22: / | DA22: 50 | DB22: =CY22/DA22 -> 0
A23: =A22 -> 50 | B23: ='Calculateur de trading'!I23/C23/W23 -> #DIV/0! | C23: =C22 -> 10 | E23: =E22 -> 100 | F23: =(E23/A23) -> 2 | G23: =B23/F23 -> #DIV/0! | H23: =C23*F23 -> 20 | J23: =J22 -> 200 | K23: =J23/A23 -> 4 | L23: =B23/K23 -> #DIV/0! | M23: =C23*K23 -> 40 | O23: =(A23*B23*W23)+(B23*'Calculateur de trading'!H23) -> #DIV/0! | P23: =O23/'Déscriptions des trades'!CK23 -> #DIV/0! | Q23: ='Déscriptions des trades'!CK23-O23 -> #DIV/0! | R23: =B23*C23 -> #DIV/0! | W23: =W22 -> 0 | X23: =W23*U23/'Déscriptions des trades'!CK23*'Déscriptions des trades'!B23 -> #DIV/0! | AA23: =AA22 -> 0.1 | AB23: =(AA23*'Déscriptions des trades'!U23*'Déscriptions des trades'!B23/'Déscriptions des trades'!CK23)*'Déscriptions des trades'!W23 -> #DIV/0! | AC23: =AB23*'Déscriptions des trades'!CK23 -> #DIV/0! | AD23: ='Déscriptions des trades'!CK23-AC23 -> #DIV/0! | AF23: 19 | CH23: =BW23-BH23 -> 0 | CJ23: =CI23/CK22 -> 0 | CK23: =CI23+CK22 -> 12.89 | CO23: =IF(CN23="Oui",10,) -> 0 | CQ23: =IF(CP23="Oui",10,) -> 0 | CS23: =IF(CR23="Bon",10,) -> 0 | CU23: =IF(CT23="Bon",10,) -> 0 | CW23: =IF(CV23="Non",10,) -> 0 | CX23: =IF(CV23="Oui",-40,) -> 0 | CY23: =SUM(CN23:CX23) -> 0 | CZ23: / | DA23: 50 | DB23: =CY23/DA23 -> 0
... A2254: =A2253 -> 50 | B2254: ='Calculateur de trading'!I2254/C2254/W2254 -> #DIV/0! | C2254: =C2253 -> 10 | E2254: =E2253 -> 100 | F2254: =(E2254/A2254) -> 2 | G2254: =B2254/F2254 -> #DIV/0! | H2254: =C2254*F2254 -> 20 | J2254: =J2253 -> 200 | K2254: =J2254/A2254 -> 4 | L2254: =B2254/K2254 -> #DIV/0! | M2254: =C2254*K2254 -> 40 | O2254: =(A2254*B2254*W2254)+(B2254*'Calculateur de trading'!H2254) -> #DIV/0! | P2254: =O2254/'Déscriptions des trades'!CK2254 -> #DIV/0! | Q2254: ='Déscriptions des trades'!CK2254-O2254 -> #DIV/0! | R2254: =B2254*C2254 -> #DIV/0! | W2254: =W2253 -> 0 | X2254: =W2254*U2254/'Déscriptions des trades'!CK2254*'Déscriptions des trades'!B2254 -> #DIV/0! | AA2254: =AA2253 -> 0.1 | AB2254: =(AA2254*'Déscriptions des trades'!U2254*'Déscriptions des trades'!B2254/'Déscriptions des trades'!CK2254)*'Déscriptions des trades'!W2254 -> #DIV/0! | AC2254: =AB2254*'Déscriptions des trades'!CK2254 -> #DIV/0! | AD2254: ='Déscriptions des trades'!CK2254-AC2254 -> #DIV/0! | AF2254: 2250 | CH2254: =BW2254-BH2254 -> 0 | CJ2254: =CI2254/CK2253 -> 0 | CK2254: =CI2254+CK2253 -> 12.89 | CO2254: =IF(CN2254="Oui",10,) -> 0 | CQ2254: =IF(CP2254="Oui",10,) -> 0 | CS2254: =IF(CR2254="Bon",10,) -> 0 | CU2254: =IF(CT2254="Bon",10,) -> 0 | CW2254: =IF(CV2254="Non",10,) -> 0 | CX2254: =IF(CV2254="Oui",-40,) -> 0 | CY2254: =SUM(CN2254:CX2254) -> 0 | CZ2254: / | DA2254: 50 | DB2254: =CY2254/DA2254 -> 0

Sheet Statistique des entrée
A1: Statistique Stratégies | J1: Statistique des gains | W1: ='Information du journal'!C8 -> 0 | X1: ='Information du journal'!C10 -> 0 | AI1: ='Information du journal'!C12 -> 0
B2: Ticks | F2: Entrée | K2: Zone 4 heures | O2: Zone journalier | S2: Zone hebdo | W2: Zone mensuel | AA2: Prix | AE2: Prix | AI2: Creux /sommet
B3: =Liste!D5 -> 21 t | C3: =COUNTIF('Déscriptions des trades'!BA5:BA1254,"21 t") -> 0 | F3: =Liste!O5 -> Sur | G3: =COUNTIF('Déscriptions des trades'!BJ5:BJ1254,"Sur") -> 0 | K3: =Liste!B22 -> Haut 4h pré | L3: =COUNTIF('Déscriptions des trades'!BL5:BL1254,"Haut 4h pré") -> 0 | M3: =IFERROR(L3/(L3+L26),"x") -> x | O3: =Liste!B27 -> Haut J pré | P3: =COUNTIF('Déscriptions des trades'!BL5:BL1254,"Haut J pré") -> 0 | Q3: =IFERROR(P3/(P3+P26),"x") -> x | S3: =Liste!B32 -> Haut H pré | T3: =COUNTIF('Déscriptions des trades'!BL5:BL1254,"Haut H pré") -> 0 | U3: =IFERROR(T3/(T3+T26),"x") -> x | W3: =Liste!B37 -> Haut M pré | X3: =COUNTIF('Déscriptions des trades'!BL5:BL1254,"Haut M pré") -> 0 | Y3: =IFERROR(X3/(X3+X26),"x") -> x | AA3: =Liste!B98 -> 50 | AB3: =COUNTIF('Déscriptions des trades'!BL5:BL1254,"50") -> 0 | AC3: =IFERROR(AB3/(AB3+AB26),"x") -> x | AE3: =Liste!B108 -> 550 | AF3: =COUNTIF('Déscriptions des trades'!BL5:BL1254,"550") -> 0 | AG3: =IFERROR(AF3/(AF3+AF26),"x") -> x | AI3: =Liste!B19 -> Plus haut pré | AJ3: =COUNTIF('Déscriptions des trades'!BL5:BL1254,"Plus haut pré") -> 0 | AK3: =IFERROR(AJ3/(AJ3+AJ26),"x") -> x
B4: =Liste!D6 -> 100 t | C4: =COUNTIF('Déscriptions des trades'!BA5:BA1254,"100 t") -> 0 | F4: =Liste!O6 -> Sous | G4: =COUNTIF('Déscriptions des trades'!BJ5:BJ1254,"Sous") -> 0 | K4: =Liste!B23 -> Bas 4h pré | L4: =COUNTIF('Déscriptions des trades'!BL5:BL1254,"Bas 4h pré") -> 0 | M4: =IFERROR(L4/(L4+L27),"x") -> x | O4: =Liste!B28 -> Bas J pré | P4: =COUNTIF('Déscriptions des trades'!BL5:BL1254,"Bas J pré") -> 0 | Q4: =IFERROR(P4/(P4+P27),"x") -> x | S4: =Liste!B33 -> Bas H pré | T4: =COUNTIF('Déscriptions des trades'!BL5:BL1254,"Bas H pré") -> 0 | U4: =IFERROR(T4/(T4+T27),"x") -> x | W4: =Liste!B38 -> Bas M pré | X4: =COUNTIF('Déscriptions des trades'!BL5:BL1254,"Bas M pré") -> 0 | Y4: =IFERROR(X4/(X4+X27),"x") -> x | AA4: =Liste!B99 -> 100 | AB4: =COUNTIF('Déscriptions des trades'!BL5:BL1254,"100") -> 0 | AC4: =IFERROR(AB4/(AB4+AB27),"x") -> x | AE4: =Liste!B109 -> 600 | AF4: =COUNTIF('Déscriptions des trades'!BL5:BL1254,"600") -> 0 | AG4: =IFERROR(AF4/(AF4+AF27),"x") -> x | AI4: =Liste!B20 -> Plus bas pré | AJ4: =COUNTIF('Déscriptions des trades'!BL5:BL1254,"Plus bas pré") -> 0 | AK4: =IFERROR(AJ4/(AJ4+AJ27),"x") -> x
B5: UT minutes | F5: Etat du marché | K5: =Liste!B24 -> Ouv. 4h pré | L5: =COUNTIF('Déscriptions des trades'!BL5:BL1254,"Ouv. 4h pré") -> 0 | M5: =IFERROR(L5/(L5+L28),"x") -> x | O5: =Liste!B29 -> Ouv. J pré | P5: =COUNTIF('Déscriptions des trades'!BL5:BL1254,"Ouv. J pré") -> 0 | Q5: =IFERROR(P5/(P5+P28),"x") -> x | S5: =Liste!B34 -> Ouv. H pré | T5: =COUNTIF('Déscriptions des trades'!BL5:BL1254,"Ouv. H pré") -> 0 | U5: =IFERROR(T5/(T5+T28),"x") -> x | W5: =Liste!B39 -> Ouv. M pré | X5: =COUNTIF('Déscriptions des trades'!BL5:BL1254,"Ouv. M pré") -> 0 | Y5: =IFERROR(X5/(X5+X28),"x") -> x | AA5: =Liste!B100 -> 150 | AB5: =COUNTIF('Déscriptions des trades'!BL5:BL1254,"150") -> 0 | AC5: =IFERROR(AB5/(AB5+AB28),"x") -> x | AE5: =Liste!B110 -> 650 | AF5: =COUNTIF('Déscriptions des trades'!BL5:BL1254,"650") -> 0 | AG5: =IFERROR(AF5/(AF5+AF28),"x") -> x | AI5: Canaux
B6: =Liste!D8 -> m1 | C6: =COUNTIF('Déscriptions des trades'!BA5:BA1254,"m1") -> 0 | F6: Haussier | G6: =COUNTIF('Déscriptions des trades'!BC5:BC1254,"Haussier") -> 0 | K6: =Liste!B25 -> Clo. 4h pré | L6: =COUNTIF('Déscriptions des trades'!BL5:BL1254,"Clo. 4h pré") -> 0 | M6: =IFERROR(L6/(L6+L29),"x") -> x | O6: =Liste!B30 -> Clo. J pré | P6: =COUNTIF('Déscriptions des trades'!BL5:BL1254,"Clo. J pré") -> 0 | Q6: =IFERROR(P6/(P6+P29),"x") -> x | S6: =Liste!B35 -> Clo. H pré | T6: =COUNTIF('Déscriptions des trades'!BL5:BL1254,"Clo. H pré ") -> 0 | U6: =IFERROR(T6/(T6+T29),"x") -> x | W6: =Liste!B40 -> Clo. M pré | X6: =COUNTIF('Déscriptions des trades'!BL5:BL1254,"Clo. M pré") -> 0 | Y6: =IFERROR(X6/(X6+X29),"x") -> x | AA6: =Liste!B101 -> 200 | AB6: =COUNTIF('Déscriptions des trades'!BL5:BL1254,"200") -> 0 | AC6: =IFERROR(AB6/(AB6+AB29),"x") -> x | AE6: =Liste!B111 -> 700 | AF6: =COUNTIF('Déscriptions des trades'!BL5:BL1254,"700") -> 0 | AG6: =IFERROR(AF6/(AF6+AF29),"x") -> x | AI6: =Liste!B7 -> Haut canal haussier | AJ6: =COUNTIF('Déscriptions des trades'!BL5:BL1254,"Haut canal haussier") -> 0 | AK6: =IFERROR(AJ6/(AJ6+AJ29),"x") -> x
B7: =Liste!D9 -> m2 | C7: =COUNTIF('Déscriptions des trades'!BA5:BA1254,"m2") -> 0 | F7: Rage | G7: =COUNTIF('Déscriptions des trades'!BC5:BC1254,"Rang") -> 0 | K7: Point Pivot | O7: Point Pivot | S7: Point Pivot | W7: Point Pivot | AA7: =Liste!B102 -> 250 | AB7: =COUNTIF('Déscriptions des trades'!BL5:BL1254,"250") -> 0 | AC7: =IFERROR(AB7/(AB7+AB30),"x") -> x | AE7: =Liste!B112 -> 750 | AF7: =COUNTIF('Déscriptions des trades'!BL5:BL1254,"750") -> 0 | AG7: =IFERROR(AF7/(AF7+AF30),"x") -> x | AI7: =Liste!B8 -> Bas canal haussier | AJ7: =COUNTIF('Déscriptions des trades'!BL5:BL1254,"Bas canal haussier") -> 0 | AK7: =IFERROR(AJ7/(AJ7+AJ30),"x") -> x
B8: =Liste!D10 -> m3 | C8: =COUNTIF('Déscriptions des trades'!BA5:BA1254,"m3") -> 0 | F8: Baissier | G8: =COUNTIF('Déscriptions des trades'!BC5:BC1254,"Baissier") -> 0 | K8: =Liste!B42 -> 4h R3 | L8: =COUNTIF('Déscriptions des trades'!BL5:BL1254,"4h R3") -> 0 | M8: =IFERROR(L8/(L8+L31),"x") -> x | O8: =Liste!B56 -> J R3 | P8: =COUNTIF('Déscriptions des trades'!BL5:BL1254,"J R3") -> 0 | Q8: =IFERROR(P8/(P8+P31),"x") -> x | S8: =Liste!B70 -> H R3 | T8: =COUNTIF('Déscriptions des trades'!BL5:BL1254,"H R3") -> 0 | U8: =IFERROR(T8/(T8+T31),"x") -> x | W8: =Liste!B84 -> M R3 | X8: =COUNTIF('Déscriptions des trades'!BL5:BL1254,"M R3") -> 0 | Y8: =IFERROR(X8/(X8+X31),"x") -> x | AA8: =Liste!B103 -> 300 | AB8: =COUNTIF('Déscriptions des trades'!BL5:BL1254,"300") -> 0 | AC8: =IFERROR(AB8/(AB8+AB31),"x") -> x | AE8: =Liste!B113 -> 800 | AF8: =COUNTIF('Déscriptions des trades'!BL5:BL1254,"800") -> 0 | AG8: =IFERROR(AF8/(AF8+AF31),"x") -> x | AI8: =Liste!B10 -> Haut canal baissier | AJ8: =COUNTIF('Déscriptions des trades'!BL5:BL1254,"Haut canal baissier") -> 0 | AK8: =IFERROR(AJ8/(AJ8+AJ31),"x") -> x
B9: =Liste!D11 -> m5 | C9: =COUNTIF('Déscriptions des trades'!BA5:BA1254,"m5") -> 0 | F9: ='Déscriptions des trades'!BE3 -> Stratégie d'entrée | K9: =Liste!B43 -> 4h R3 mid | L9: =COUNTIF('Déscriptions des trades'!BL5:BL1254,"4h R3 mid") -> 0 | M9: =IFERROR(L9/(L9+L32),"x") -> x | O9: =Liste!B57 -> J R3 mid | P9: =COUNTIF('Déscriptions des trades'!BL5:BL1254,"J R3 mid") -> 0 | Q9: =IFERROR(P9/(P9+P32),"x") -> x | S9: =Liste!B71 -> H R3 mid | T9: =COUNTIF('Déscriptions des trades'!BL5:BL1254,"H R3 mid") -> 0 | U9: =IFERROR(T9/(T9+T32),"x") -> x | W9: =Liste!B85 -> M R3 mid | X9: =COUNTIF('Déscriptions des trades'!BL5:BL1254,"M R3 mid") -> 0 | Y9: =IFERROR(X9/(X9+X32),"x") -> x | AA9: =Liste!B104 -> 350 | AB9: =COUNTIF('Déscriptions des trades'!BL5:BL1254,"350") -> 0 | AC9: =IFERROR(AB9/(AB9+AB32),"x") -> x | AE9: =Liste!B114 -> 850 | AF9: =COUNTIF('Déscriptions des trades'!BL5:BL1254,"850") -> 0 | AG9: =IFERROR(AF9/(AF9+AF32),"x") -> x | AI9: =Liste!B11 -> Bas canal baissier | AJ9: =COUNTIF('Déscriptions des trades'!BL5:BL1254,"Bas canal baissier") -> 0 | AK9: =IFERROR(AJ9/(AJ9+AJ32),"x") -> x
B10: =Liste!D12 -> m10 | C10: =COUNTIF('Déscriptions des trades'!BA5:BA1254,"m10") -> 0 | F10: =Liste!G5 -> Rebond | G10: =COUNTIF('Déscriptions des trades'!BE5:BE1254,"Rebond") -> 0 | K10: =Liste!B44 -> 4h R2 | L10: =COUNTIF('Déscriptions des trades'!BL5:BL1254,"4h R2") -> 0 | M10: =IFERROR(L10/(L10+L33),"x") -> x | O10: =Liste!B58 -> J R2 | P10: =COUNTIF('Déscriptions des trades'!BL5:BL1254,"J R2") -> 0 | Q10: =IFERROR(P10/(P10+P33),"x") -> x | S10: =Liste!B72 -> H R2 | T10: =COUNTIF('Déscriptions des trades'!BL5:BL1254,"H R2") -> 0 | U10: =IFERROR(T10/(T10+T33),"x") -> x | W10: =Liste!B86 -> M R2 | X10: =COUNTIF('Déscriptions des trades'!BL5:BL1254,"M R2") -> 0 | Y10: =IFERROR(X10/(X10+X33),"x") -> x | AA10: =Liste!B105 -> 400 | AB10: =COUNTIF('Déscriptions des trades'!BL5:BL1254,"400") -> 0 | AC10: =IFERROR(AB10/(AB10+AB33),"x") -> x | AE10: =Liste!B115 -> 900 | AF10: =COUNTIF('Déscriptions des trades'!BL5:BL1254,"900") -> 0 | AG10: =IFERROR(AF10/(AF10+AF33),"x") -> x | AI10: Obliques
B11: =Liste!D13 -> m15 | C11: =COUNTIF('Déscriptions des trades'!BA5:BA1254,"m15") -> 0 | F11: =Liste!G6 -> Cassure | G11: =COUNTIF('Déscriptions des trades'!BE5:BE1254,"Cassure") -> 0 | K11: =Liste!B45 -> 4h R2 mid | L11: =COUNTIF('Déscriptions des trades'!BL5:BL1254,"4h R2 mid") -> 0 | M11: =IFERROR(L11/(L11+L34),"x") -> x | O11: =Liste!B59 -> J R2 mid | P11: =COUNTIF('Déscriptions des trades'!BL5:BL1254,"J R2 mid") -> 0 | Q11: =IFERROR(P11/(P11+P34),"x") -> x | S11: =Liste!B73 -> H R2 mid | T11: =COUNTIF('Déscriptions des trades'!BL5:BL1254,"H R2 mid") -> 0 | U11: =IFERROR(T11/(T11+T34),"x") -> x | W11: =Liste!B87 -> M R2 mid | X11: =COUNTIF('Déscriptions des trades'!BL5:BL1254,"M R2 mid") -> 0 | Y11: =IFERROR(X11/(X11+X34),"x") -> x | AA11: =Liste!B106 -> 450 | AB11: =COUNTIF('Déscriptions des trades'!BL5:BL1254,"450") -> 0 | AC11: =IFERROR(AB11/(AB11+AB34),"x") -> x | AE11: =Liste!B116 -> 950 | AF11: =COUNTIF('Déscriptions des trades'!BL5:BL1254,"950") -> 0 | AG11: =IFERROR(AF11/(AF11+AF34),"x") -> x | AI11: =Liste!B13 -> Haut trend line | AJ11: =COUNTIF('Déscriptions des trades'!BL5:BL1254,"Haut trend line") -> 0 | AK11: =IFERROR(AJ11/(AJ11+AJ34),"x") -> x
B12: =Liste!D14 -> m30 | C12: =COUNTIF('Déscriptions des trades'!BA5:BA1254,"m30") -> 0 | F12: =Liste!G7 -> Réintégration | G12: =COUNTIF('Déscriptions des trades'!BE5:BE1254,"Réintégration") -> 0 | K12: =Liste!B46 -> 4h R1 | L12: =COUNTIF('Déscriptions des trades'!BL5:BL1254,"4h R1") -> 0 | M12: =IFERROR(L12/(L12+L35),"x") -> x | O12: =Liste!B60 -> J R1 | P12: =COUNTIF('Déscriptions des trades'!BL5:BL1254,"J R1") -> 0 | Q12: =IFERROR(P12/(P12+P35),"x") -> x | S12: =Liste!B74 -> H R1 | T12: =COUNTIF('Déscriptions des trades'!BL5:BL1254,"H R1") -> 0 | U12: =IFERROR(T12/(T12+T35),"x") -> x | W12: =Liste!B88 -> M R1 | X12: =COUNTIF('Déscriptions des trades'!BL5:BL1254,"M R1") -> 0 | Y12: =IFERROR(X12/(X12+X35),"x") -> x | AA12: =Liste!B107 -> 500 | AB12: =COUNTIF('Déscriptions des trades'!BL5:BL1254,"500") -> 0 | AC12: =IFERROR(AB12/(AB12+AB35),"x") -> x | AE12: =Liste!B117 -> 1000 | AF12: =COUNTIF('Déscriptions des trades'!BL5:BL1254,"1000") -> 0 | AG12: =IFERROR(AF12/(AF12+AF35),"x") -> x | AI12: =Liste!B14 -> Bas trend line | AJ12: =COUNTIF('Déscriptions des trades'!BL5:BL1254,"Bas trend line") -> 0 | AK12: =IFERROR(AJ12/(AJ12+AJ35),"x") -> x
B13: UT Heures | F13: =Liste!G8 -> Accélérations | G13: =COUNTIF('Déscriptions des trades'!BE5:BE1254,"Accélérations") -> 0 | K13: =Liste!B47 -> 4h R1 mid | L13: =COUNTIF('Déscriptions des trades'!BL5:BL1254,"4h R1 mid") -> 0 | M13: =IFERROR(L13/(L13+L36),"x") -> x | O13: =Liste!B61 -> J R1 mid | P13: =COUNTIF('Déscriptions des trades'!BL5:BL1254,"J R1 mid") -> 0 | Q13: =IFERROR(P13/(P13+P36),"x") -> x | S13: =Liste!B75 -> H R1 mid | T13: =COUNTIF('Déscriptions des trades'!BL5:BL1254,"H R1 mid") -> 0 | U13: =IFERROR(T13/(T13+T36),"x") -> x | W13: =Liste!B89 -> M R1 mid | X13: =COUNTIF('Déscriptions des trades'!BL5:BL1254,"M R1 mid") -> 0 | Y13: =IFERROR(X13/(X13+X36),"x") -> x | AI13: Rang
B14: =Liste!D16 -> H1 | C14: =COUNTIF('Déscriptions des trades'!BA5:BA1254,"H1") -> 0 | F14: =Liste!G9 -> Micro rang | G14: =COUNTIF('Déscriptions des trades'!BE5:BE1254,"Micro rang") -> 0 | K14: =Liste!B48 -> 4h PIVOT | L14: =COUNTIF('Déscriptions des trades'!BL5:BL1254,"4h PIVOT") -> 0 | M14: =IFERROR(L14/(L14+L37),"x") -> x | O14: =Liste!B62 -> J PIVOT | P14: =COUNTIF('Déscriptions des trades'!BL5:BL1254,"J PIVOT") -> 0 | Q14: =IFERROR(P14/(P14+P37),"x") -> x | S14: =Liste!B76 -> H PIVOT | T14: =COUNTIF('Déscriptions des trades'!BL5:BL1254,"H PIVOT") -> 0 | U14: =IFERROR(T14/(T14+T37),"x") -> x | W14: =Liste!B90 -> M PIVOT | X14: =COUNTIF('Déscriptions des trades'!BL5:BL1254,"M PIVOT") -> 0 | Y14: =IFERROR(X14/(X14+X37),"x") -> x | AI14: =Liste!B16 -> Haut du rang | AJ14: =COUNTIF('Déscriptions des trades'!BL5:BL1254,"Haut du rang") -> 0 | AK14: =IFERROR(AJ14/(AJ14+AJ37),"x") -> x
B15: =Liste!D17 -> H2 | C15: =COUNTIF('Déscriptions des trades'!BA5:BA1254,"H2") -> 0 | F15: =Liste!G10 -> Sans Stratégie | G15: =COUNTIF('Déscriptions des trades'!BE5:BE1254,"Sans stratégie") -> 0 | K15: =Liste!B49 -> 4h S1 mid | L15: =COUNTIF('Déscriptions des trades'!BL5:BL1254,"4h S1 mid") -> 0 | M15: =IFERROR(L15/(L15+L38),"x") -> x | O15: =Liste!B63 -> J S1 mid | P15: =COUNTIF('Déscriptions des trades'!BL5:BL1254,"J S1 mid") -> 0 | Q15: =IFERROR(P15/(P15+P38),"x") -> x | S15: =Liste!B77 -> H S1 mid | T15: =COUNTIF('Déscriptions des trades'!BL5:BL1254,"H S1 mid") -> 0 | U15: =IFERROR(T15/(T15+T38),"x") -> x | W15: =Liste!B91 -> M S1 mid | X15: =COUNTIF('Déscriptions des trades'!BL5:BL1254,"M S1 mid") -> 0 | Y15: =IFERROR(X15/(X15+X38),"x") -> x | AI15: =Liste!B17 -> Bas du rang | AJ15: =COUNTIF('Déscriptions des trades'!BL5:BL1254,"Bas du rang") -> 0 | AK15: =IFERROR(AJ15/(AJ15+AJ38),"x") -> x
B16: =Liste!D18 -> H3 | C16: =COUNTIF('Déscriptions des trades'!BA5:BA1254,"H3") -> 0 | F16: Passages | K16: =Liste!B50 -> 4h S1 | L16: =COUNTIF('Déscriptions des trades'!BL5:BL1254,"4h S1") -> 0 | M16: =IFERROR(L16/(L16+L39),"x") -> x | O16: =Liste!B64 -> J S1 | P16: =COUNTIF('Déscriptions des trades'!BL5:BL1254,"J S1") -> 0 | Q16: =IFERROR(P16/(P16+P39),"x") -> x | S16: =Liste!B78 -> H S1 | T16: =COUNTIF('Déscriptions des trades'!BL5:BL1254,"H S1") -> 0 | U16: =IFERROR(T16/(T16+T39),"x") -> x | W16: =Liste!B92 -> M S1 | X16: =COUNTIF('Déscriptions des trades'!BL5:BL1254,"M S1") -> 0 | Y16: =IFERROR(X16/(X16+X39),"x") -> x | AI16: Couleur de bougie
B17: =Liste!D19 -> H4 | C17: =COUNTIF('Déscriptions des trades'!BA5:BA1254,"H4") -> 0 | F17: =Liste!H5 -> 1 er | G17: =COUNTIF('Déscriptions des trades'!BF5:BF1254,"1 er") -> 0 | K17: =Liste!B51 -> 4h S2 mid | L17: =COUNTIF('Déscriptions des trades'!BL5:BL1254,"4h S2 mid") -> 0 | M17: =IFERROR(L17/(L17+L40),"x") -> x | O17: =Liste!B65 -> J S2 mid | P17: =COUNTIF('Déscriptions des trades'!BL5:BL1254,"J S2 mid") -> 0 | Q17: =IFERROR(P17/(P17+P40),"x") -> x | S17: =Liste!B79 -> H S2 mid | T17: =COUNTIF('Déscriptions des trades'!BL5:BL1254,"H S2 mid") -> 0 | U17: =IFERROR(T17/(T17+T40),"x") -> x | W17: =Liste!B93 -> M S2 mid | X17: =COUNTIF('Déscriptions des trades'!BL5:BL1254,"M S2 mid") -> 0 | Y17: =IFERROR(X17/(X17+X40),"x") -> x | AI17: =Liste!B5 -> Couleur de bougie | AJ17: =COUNTIF('Déscriptions des trades'!BL5:BL1254,"Couleur de bougie ") -> 0 | AK17: =IFERROR(AJ17/(AJ17+AJ40),"x") -> x
B18: UT Journalier | F18: =Liste!H6 -> 2 ème | G18: =COUNTIF('Déscriptions des trades'!BF5:BF1254,"2 ème") -> 0 | K18: =Liste!B52 -> 4h S2 | L18: =COUNTIF('Déscriptions des trades'!BL5:BL1254,"4h S2") -> 0 | M18: =IFERROR(L18/(L18+L41),"x") -> x | O18: =Liste!B66 -> J S2 | P18: =COUNTIF('Déscriptions des trades'!BL5:BL1254,"J S2") -> 0 | Q18: =IFERROR(P18/(P18+P41),"x") -> x | S18: =Liste!B80 -> H S2 | T18: =COUNTIF('Déscriptions des trades'!BL5:BL1254,"H S2") -> 0 | U18: =IFERROR(T18/(T18+T41),"x") -> x | W18: =Liste!B94 -> M S2 | X18: =COUNTIF('Déscriptions des trades'!BL5:BL1254,"M S2") -> 0 | Y18: =IFERROR(X18/(X18+X41),"x") -> x
B19: D1 | C19: =COUNTIF('Déscriptions des trades'!BA5:BA1254,"D1") -> 0 | F19: =Liste!H7 -> 3 ème | G19: =COUNTIF('Déscriptions des trades'!BF5:BF1254,"3 ème") -> 0 | K19: =Liste!B53 -> 4h S3 mid | L19: =COUNTIF('Déscriptions des trades'!BL5:BL1254,"4h S3 mid") -> 0 | M19: =IFERROR(L19/(L19+L42),"x") -> x | O19: =Liste!B67 -> J S3 mid | P19: =COUNTIF('Déscriptions des trades'!BL5:BL1254,"J S3 mid") -> 0 | Q19: =IFERROR(P19/(P19+P42),"x") -> x | S19: =Liste!B81 -> H S3 mid | T19: =COUNTIF('Déscriptions des trades'!BL5:BL1254,"H S3 mid") -> 0 | U19: =IFERROR(T19/(T19+T42),"x") -> x | W19: =Liste!B95 -> M S3 mid | X19: =COUNTIF('Déscriptions des trades'!BL5:BL1254,"M S3 mid") -> 0 | Y19: =IFERROR(X19/(X19+X42),"x") -> x
B20: Sens | F20: =Liste!H8 -> 4 ème | G20: =COUNTIF('Déscriptions des trades'!BF5:BF1254,"4 ème") -> 0 | K20: =Liste!B54 -> 4h S3 | L20: =COUNTIF('Déscriptions des trades'!BL5:BL1254,"4h S3") -> 0 | M20: =IFERROR(L20/(L20+L43),"x") -> x | O20: =Liste!B68 -> J S3 | P20: =COUNTIF('Déscriptions des trades'!BL5:BL1254,"J S3") -> 0 | Q20: =IFERROR(P20/(P20+P43),"x") -> x | S20: =Liste!B82 -> H S3 | T20: =COUNTIF('Déscriptions des trades'!BL5:BL1254,"H S3") -> 0 | U20: =IFERROR(T20/(T20+T43),"x") -> x | W20: =Liste!B96 -> M S3 | X20: =COUNTIF('Déscriptions des trades'!BL5:BL1254,"M S3") -> 0 | Y20: =IFERROR(X20/(X20+X43),"x") -> x
B21: =Liste!M5 -> Achat | C21: =COUNTIF('Déscriptions des trades'!AQ5:AQ2254,"Achat") -> 0 | F21: =Liste!H9 -> 5 ème | G21: =COUNTIF('Déscriptions des trades'!BF5:BF1254,"5 ème") -> 0
B22: =Liste!M6 -> Vente | C22: =COUNTIF('Déscriptions des trades'!AQ5:AQ2254,"Vente") -> 0
B24: Volatilité | F24: Type de scalpe | J24: Statistique des pertes
B25: =Liste!S5 -> Faible | C25: =COUNTIF('Déscriptions des trades'!AL5:AL2254,"Faible") -> 0 | F25: =Liste!I5 -> Risque 1 | G25: =COUNTIF('Déscriptions des trades'!AY5:AY1254,"Risque 1") -> 0 | K25: Zone 4 heures | O25: Zone journalier | S25: Zone hebdo | W25: Zone mensuel | AA25: Prix | AE25: Prix | AI25: Creux /sommet
B26: =Liste!S6 -> Modéré | C26: =COUNTIF('Déscriptions des trades'!AL5:AL2254,"Modéré") -> 0 | F26: =Liste!I6 -> Risque 2 | G26: =COUNTIF('Déscriptions des trades'!AY5:AY1254,"Risque 2") -> 0 | K26: =K3 -> Haut 4h pré | L26: =COUNTIF('Déscriptions des trades'!BM5:BM1254,"Haut 4h pré") -> 0 | M26: =IFERROR(L26/(L26+L3),"x") -> x | O26: =Liste!B27 -> Haut J pré | P26: =COUNTIF('Déscriptions des trades'!BM5:BM1254,"Haut J pré") -> 0 | Q26: =IFERROR(P26/(P26+P3),"x") -> x | S26: =Liste!B32 -> Haut H pré | T26: =COUNTIF('Déscriptions des trades'!BM5:BM1254,"Haut H pré") -> 0 | U26: =IFERROR(T26/(T26+T3),"x") -> x | W26: =Liste!B37 -> Haut M pré | X26: =COUNTIF('Déscriptions des trades'!BM5:BM1254,"Haut M pré") -> 0 | Y26: =IFERROR(X26/(X26+X3),"x") -> x | AA26: =Liste!B98 -> 50 | AB26: =COUNTIF('Déscriptions des trades'!BM5:BM1254,"50") -> 0 | AC26: =IFERROR(AB26/(AB26+AB3),"x") -> x | AE26: =Liste!B108 -> 550 | AF26: =COUNTIF('Déscriptions des trades'!BM5:BM1254,"550") -> 0 | AG26: =IFERROR(AF26/(AF26+AF3),"x") -> x | AI26: =Liste!B19 -> Plus haut pré | AJ26: =COUNTIF('Déscriptions des trades'!BM5:BM1254,"Plus haut pré") -> 0 | AK26: =IFERROR(AJ26/(AJ26+AJ3),"x") -> x
B27: =Liste!S7 -> Forte | C27: =COUNTIF('Déscriptions des trades'!AL5:AL2254,"Forte") -> 0 | F27: =Liste!I7 -> Risque 3 | G27: =COUNTIF('Déscriptions des trades'!AY5:AY1254,"Risque 3") -> 0 | K27: =K4 -> Bas 4h pré | L27: =COUNTIF('Déscriptions des trades'!BM5:BM1254,"Bas 4h pré") -> 0 | M27: =IFERROR(L27/(L27+L4),"x") -> x | O27: =Liste!B28 -> Bas J pré | P27: =COUNTIF('Déscriptions des trades'!BM5:BM1254,"Bas J pré") -> 0 | Q27: =IFERROR(P27/(P27+P4),"x") -> x | S27: =Liste!B33 -> Bas H pré | T27: =COUNTIF('Déscriptions des trades'!BM5:BM1254,"Bas H pré") -> 0 | U27: =IFERROR(T27/(T27+T4),"x") -> x | W27: =Liste!B38 -> Bas M pré | X27: =COUNTIF('Déscriptions des trades'!BM5:BM1254,"Bas M pré") -> 0 | Y27: =IFERROR(X27/(X27+X4),"x") -> x | AA27: =Liste!B99 -> 100 | AB27: =COUNTIF('Déscriptions des trades'!BM5:BM1254,"100") -> 0 | AC27: =IFERROR(AB27/(AB27+AB4),"x") -> x | AE27: =Liste!B109 -> 600 | AF27: =COUNTIF('Déscriptions des trades'!BM5:BM1254,"600") -> 0 | AG27: =IFERROR(AF27/(AF27+AF4),"x") -> x | AI27: =Liste!B20 -> Plus bas pré | AJ27: =COUNTIF('Déscriptions des trades'!BM5:BM1254,"Plus bas pré") -> 0 | AK27: =IFERROR(AJ27/(AJ27+AJ4),"x") -> x
K28: =K5 -> Ouv. 4h pré | L28: =COUNTIF('Déscriptions des trades'!BM5:BM1254,"Ouv. 4h pré") -> 0 | M28: =IFERROR(L28/(L28+L5),"x") -> x | O28: =Liste!B29 -> Ouv. J pré | P28: =COUNTIF('Déscriptions des trades'!BM5:BM1254,"Ouv. J pré") -> 0 | Q28: =IFERROR(P28/(P28+P5),"x") -> x | S28: =Liste!B34 -> Ouv. H pré | T28: =COUNTIF('Déscriptions des trades'!BM5:BM1254,"Ouv. H pré") -> 0 | U28: =IFERROR(T28/(T28+T5),"x") -> x | W28: =Liste!B39 -> Ouv. M pré | X28: =COUNTIF('Déscriptions des trades'!BM5:BM1254,"Ouv. M pré") -> 0 | Y28: =IFERROR(X28/(X28+X5),"x") -> x | AA28: =Liste!B100 -> 150 | AB28: =COUNTIF('Déscriptions des trades'!BM5:BM1254,"150") -> 0 | AC28: =IFERROR(AB28/(AB28+AB5),"x") -> x | AE28: =Liste!B110 -> 650 | AF28: =COUNTIF('Déscriptions des trades'!BM5:BM1254,"650") -> 0 | AG28: =IFERROR(AF28/(AF28+AF5),"x") -> x | AI28: Canaux
K29: =K6 -> Clo. 4h pré | L29: =COUNTIF('Déscriptions des trades'!BM5:BM1254,"Clo. 4h pré") -> 0 | M29: =IFERROR(L29/(L29+L6),"x") -> x | O29: =Liste!B30 -> Clo. J pré | P29: =COUNTIF('Déscriptions des trades'!BM5:BM1254,"Clo. J pré") -> 0 | Q29: =IFERROR(P29/(P29+P6),"x") -> x | S29: =Liste!B35 -> Clo. H pré | T29: =COUNTIF('Déscriptions des trades'!BM5:BM1254,"Clo. H pré ") -> 0 | U29: =IFERROR(T29/(T29+T6),"x") -> x | W29: =Liste!B40 -> Clo. M pré | X29: =COUNTIF('Déscriptions des trades'!BM5:BM1254,"Clo. M pré") -> 0 | Y29: =IFERROR(X29/(X29+X6),"x") -> x | AA29: =Liste!B101 -> 200 | AB29: =COUNTIF('Déscriptions des trades'!BM5:BM1254,"200") -> 0 | AC29: =IFERROR(AB29/(AB29+AB6),"x") -> x | AE29: =Liste!B111 -> 700 | AF29: =COUNTIF('Déscriptions des trades'!BM5:BM1254,"700") -> 0 | AG29: =IFERROR(AF29/(AF29+AF6),"x") -> x | AI29: =Liste!B7 -> Haut canal haussier | AJ29: =COUNTIF('Déscriptions des trades'!BM5:BM1254,"Haut canal haussier") -> 0 | AK29: =IFERROR(AJ29/(AJ29+AJ6),"x") -> x
