Workbook

Sheet Janv
B2: Récapitulatif Hebdo - Janvier 2016
C4: Nb trades | F4: Pourcentage | I4: Valeur | L4: Money Management
C5: Trades+ | D5: Trades- | E5: Total | F5: Trades+ | G5: Trades- | H5: Total | I5: Trades+ | J5: Trades- | K5: Total | L5: Gain moy. | M5: Perte moy. | N5: Profit F.
B7: Semaine 53
B8: 42370 | C8: ='1'!T25 -> 21 | D8: ='1'!T26 -> 5 | E8: =C8+D8 -> 26 | F8: =IF(D8="","",C8/E8) -> 0.80769231 | G8: =IF(D8="","",D8/E8) -> 0.19230769 | H8: =IF(G8="","",(SUM(F8:G8))) -> 1 | I8: ='1'!U25 -> 291.5 | J8: ='1'!U26 -> -142 | K8: =I8+J8 -> 149.5 | L8: =IF(I8=0,0,I8/C8) -> 13.880952 | M8: =IF(J8=0,0,J8/D8) -> -28.4 | N8: =IF(J8=0,"BRAVO",I8/J8*-1) -> 2.0528169
B9: Total | C9: =SUM(C4:C8) -> 21 | D9: =SUM(D4:D8) -> 5 | E9: =SUM(E4:E8) -> 26 | F9: =C9/E9 -> 0.80769231 | G9: =D9/E9 -> 0.19230769 | H9: =SUM(F9:G9) -> 1 | I9: =SUM(I4:I8) -> 291.5 | J9: =SUM(J4:J8) -> -142 | K9: =I9+J9 -> 149.5 | L9: =I9/C9 -> 13.880952 | M9: =J9/D9 -> -28.4 | N9: =I9/J9*-1 -> 2.0528169
B11: Semaine 1
B12: =B8+3 -> 42373 | C12: 0 | D12: 0 | E12: =C12+D12 -> 0 | F12: =IF(D12="","",C12/E12) -> #DIV/0! | G12: =IF(D12="","",D12/E12) -> #DIV/0! | H12: =IF(G12="","",(SUM(F12:G12))) -> #DIV/0! | I12: 0 | J12: 0 | K12: =I12+J12 -> 0 | L12: =IF(I12=0,0,I12/C12) -> 0 | M12: =IF(J12=0,0,J12/D12) -> 0 | N12: =IF(J12=0,"BRAVO",I12/J12*-1) -> BRAVO
B13: =B12+1 -> 42374 | C13: 0 | D13: 0 | E13: =C13+D13 -> 0 | F13: =IF(D13="","",C13/E13) -> #DIV/0! | G13: =IF(D13="","",D13/E13) -> #DIV/0! | H13: =IF(G13="","",(SUM(F13:G13))) -> #DIV/0! | I13: 0 | J13: 0 | K13: =I13+J13 -> 0 | L13: =IF(I13=0,0,I13/C13) -> 0 | M13: =IF(J13=0,0,J13/D13) -> 0 | N13: =IF(J13=0,"BRAVO",I13/J13*-1) -> BRAVO
B14: =B13+1 -> 42375 | C14: 0 | D14: 0 | E14: =C14+D14 -> 0 | F14: =IF(D14="","",C14/E14) -> #DIV/0! | G14: =IF(D14="","",D14/E14) -> #DIV/0! | H14: =IF(G14="","",(SUM(F14:G14))) -> #DIV/0! | I14: 0 | J14: 0 | K14: =I14+J14 -> 0 | L14: =IF(I14=0,0,I14/C14) -> 0 | M14: =IF(J14=0,0,J14/D14) -> 0 | N14: =IF(J14=0,"BRAVO",I14/J14*-1) -> BRAVO
B15: =B14+1 -> 42376 | C15: 0 | D15: 0 | E15: =C15+D15 -> 0 | F15: =IF(D15="","",C15/E15) -> #DIV/0! | G15: =IF(D15="","",D15/E15) -> #DIV/0! | H15: =IF(G15="","",(SUM(F15:G15))) -> #DIV/0! | I15: 0 | J15: 0 | K15: =I15+J15 -> 0 | L15: =IF(I15=0,0,I15/C15) -> 0 | M15: =IF(J15=0,0,J15/D15) -> 0 | N15: =IF(J15=0,"BRAVO",I15/J15*-1) -> BRAVO
B16: =B15+1 -> 42377 | C16: 0 | D16: 0 | E16: =C16+D16 -> 0 | F16: =IF(D16="","",C16/E16) -> #DIV/0! | G16: =IF(D16="","",D16/E16) -> #DIV/0! | H16: =IF(G16="","",(SUM(F16:G16))) -> #DIV/0! | I16: 0 | J16: 0 | K16: =I16+J16 -> 0 | L16: =IF(I16=0,0,I16/C16) -> 0 | M16: =IF(J16=0,0,J16/D16) -> 0 | N16: =IF(J16=0,"BRAVO",I16/J16*-1) -> BRAVO
B17: Total | C17: =SUM(C12:C16) -> 0 | D17: =SUM(D12:D16) -> 0 | E17: =SUM(E12:E16) -> 0 | F17: =C17/E17 -> #DIV/0! | G17: =D17/E17 -> #DIV/0! | H17: =SUM(F17:G17) -> #DIV/0! | I17: =SUM(I12:I16) -> 0 | J17: =SUM(J12:J16) -> 0 | K17: =I17+J17 -> 0 | L17: =I17/C17 -> #DIV/0! | M17: =J17/D17 -> #DIV/0! | N17: =I17/J17*-1 -> #DIV/0!
B19: Semaine 2
B20: =B16+3 -> 42380 | C20: 0 | D20: 0 | E20: =C20+D20 -> 0 | F20: =IF(D20="","",C20/E20) -> #DIV/0! | G20: =IF(D20="","",D20/E20) -> #DIV/0! | H20: =IF(G20="","",(SUM(F20:G20))) -> #DIV/0! | I20: 0 | J20: 0 | K20: =I20+J20 -> 0 | L20: =IF(I20=0,0,I20/C20) -> 0 | M20: =IF(J20=0,0,J20/D20) -> 0 | N20: =IF(J20=0,"BRAVO",I20/J20*-1) -> BRAVO
B21: =B20+1 -> 42381 | C21: 0 | D21: 0 | E21: =C21+D21 -> 0 | F21: =IF(D21="","",C21/E21) -> #DIV/0! | G21: =IF(D21="","",D21/E21) -> #DIV/0! | H21: =IF(G21="","",(SUM(F21:G21))) -> #DIV/0! | I21: 0 | J21: 0 | K21: =I21+J21 -> 0 | L21: =IF(I21=0,0,I21/C21) -> 0 | M21: =IF(J21=0,0,J21/D21) -> 0 | N21: =IF(J21=0,"BRAVO",I21/J21*-1) -> BRAVO
B22: =B21+1 -> 42382 | C22: 0 | D22: 0 | E22: =C22+D22 -> 0 | F22: =IF(D22="","",C22/E22) -> #DIV/0! | G22: =IF(D22="","",D22/E22) -> #DIV/0! | H22: =IF(G22="","",(SUM(F22:G22))) -> #DIV/0! | I22: 0 | J22: 0 | K22: =I22+J22 -> 0 | L22: =IF(I22=0,0,I22/C22) -> 0 | M22: =IF(J22=0,0,J22/D22) -> 0 | N22: =IF(J22=0,"BRAVO",I22/J22*-1) -> BRAVO
B23: =B22+1 -> 42383 | C23: 0 | D23: 0 | E23: =C23+D23 -> 0 | F23: =IF(D23="","",C23/E23) -> #DIV/0! | G23: =IF(D23="","",D23/E23) -> #DIV/0! | H23: =IF(G23="","",(SUM(F23:G23))) -> #DIV/0! | I23: 0 | J23: 0 | K23: =I23+J23 -> 0 | L23: =IF(I23=0,0,I23/C23) -> 0 | M23: =IF(J23=0,0,J23/D23) -> 0 | N23: =IF(J23=0,"BRAVO",I23/J23*-1) -> BRAVO
B24: =B23+1 -> 42384 | C24: 0 | D24: 0 | E24: =C24+D24 -> 0 | F24: =IF(D24="","",C24/E24) -> #DIV/0! | G24: =IF(D24="","",D24/E24) -> #DIV/0! | H24: =IF(G24="","",(SUM(F24:G24))) -> #DIV/0! | I24: 0 | J24: 0 | K24: =I24+J24 -> 0 | L24: =IF(I24=0,0,I24/C24) -> 0 | M24: =IF(J24=0,0,J24/D24) -> 0 | N24: =IF(J24=0,"BRAVO",I24/J24*-1) -> BRAVO
B25: Total | C25: =SUM(C20:C24) -> 0 | D25: =SUM(D20:D24) -> 0 | E25: =SUM(E20:E24) -> 0 | F25: =C25/E25 -> #DIV/0! | G25: =D25/E25 -> #DIV/0! | H25: =SUM(F25:G25) -> #DIV/0! | I25: =SUM(I20:I24) -> 0 | J25: =SUM(J20:J24) -> 0 | K25: =I25+J25 -> 0 | L25: =I25/C25 -> #DIV/0! | M25: =J25/D25 -> #DIV/0! | N25: =I25/J25*-1 -> #DIV/0!
B27: Semaine 3
B28: =B24+3 -> 42387 | C28: 0 | D28: 0 | E28: =C28+D28 -> 0 | F28: =IF(D28="","",C28/E28) -> #DIV/0! | G28: =IF(D28="","",D28/E28) -> #DIV/0! | H28: =IF(G28="","",(SUM(F28:G28))) -> #DIV/0! | I28: 0 | J28: 0 | K28: =I28+J28 -> 0 | L28: =IF(I28=0,0,I28/C28) -> 0 | M28: =IF(J28=0,0,J28/D28) -> 0 | N28: =IF(J28=0,"BRAVO",I28/J28*-1) -> BRAVO
B29: =B28+1 -> 42388 | C29: 0 | D29: 0 | E29: =C29+D29 -> 0 | F29: =IF(D29="","",C29/E29) -> #DIV/0! | G29: =IF(D29="","",D29/E29) -> #DIV/0! | H29: =IF(G29="","",(SUM(F29:G29))) -> #DIV/0! | I29: 0 | J29: 0 | K29: =I29+J29 -> 0 | L29: =IF(I29=0,0,I29/C29) -> 0 | M29: =IF(J29=0,0,J29/D29) -> 0 | N29: =IF(J29=0,"BRAVO",I29/J29*-1) -> BRAVO
B30: =B29+1 -> 42389 | C30: 0 | D30: 0 | E30: =C30+D30 -> 0 | F30: =IF(D30="","",C30/E30) -> #DIV/0! | G30: =IF(D30="","",D30/E30) -> #DIV/0! | H30: =IF(G30="","",(SUM(F30:G30))) -> #DIV/0! | I30: 0 | J30: 0 | K30: =I30+J30 -> 0 | L30: =IF(I30=0,0,I30/C30) -> 0 | M30: =IF(J30=0,0,J30/D30) -> 0 | N30: =IF(J30=0,"BRAVO",I30/J30*-1) -> BRAVO
B31: =B30+1 -> 42390 | C31: 0 | D31: 0 | E31: =C31+D31 -> 0 | F31: =IF(D31="","",C31/E31) -> #DIV/0! | G31: =IF(D31="","",D31/E31) -> #DIV/0! | H31: =IF(G31="","",(SUM(F31:G31))) -> #DIV/0! | I31: 0 | J31: 0 | K31: =I31+J31 -> 0 | L31: =IF(I31=0,0,I31/C31) -> 0 | M31: =IF(J31=0,0,J31/D31) -> 0 | N31: =IF(J31=0,"BRAVO",I31/J31*-1) -> BRAVO
B32: =B31+1 -> 42391 | C32: 0 | D32: 0 | E32: =C32+D32 -> 0 | F32: =IF(D32="","",C32/E32) -> #DIV/0! | G32: =IF(D32="","",D32/E32) -> #DIV/0! | H32: =IF(G32="","",(SUM(F32:G32))) -> #DIV/0! | I32: 0 | J32: 0 | K32: =I32+J32 -> 0 | L32: =IF(I32=0,0,I32/C32) -> 0 | M32: =IF(J32=0,0,J32/D32) -> 0 | N32: =IF(J32=0,"BRAVO",I32/J32*-1) -> BRAVO
B33: Total | C33: =SUM(C28:C32) -> 0 | D33: =SUM(D28:D32) -> 0 | E33: =SUM(E28:E32) -> 0 | F33: =C33/E33 -> #DIV/0! | G33: =D33/E33 -> #DIV/0! | H33: =SUM(F33:G33) -> #DIV/0! | I33: =SUM(I28:I32) -> 0 | J33: =SUM(J28:J32) -> 0 | K33: =I33+J33 -> 0 | L33: =I33/C33 -> #DIV/0! | M33: =J33/D33 -> #DIV/0! | N33: =I33/J33*-1 -> #DIV/0!
B35: Semaine 4
B36: =B32+3 -> 42394 | C36: 0 | D36: 0 | E36: =C36+D36 -> 0 | F36: =IF(D36="","",C36/E36) -> #DIV/0! | G36: =IF(D36="","",D36/E36) -> #DIV/0! | H36: =IF(G36="","",(SUM(F36:G36))) -> #DIV/0! | I36: 0 | J36: 0 | K36: =I36+J36 -> 0 | L36: =IF(I36=0,0,I36/C36) -> 0 | M36: =IF(J36=0,0,J36/D36) -> 0 | N36: =IF(J36=0,"BRAVO",I36/J36*-1) -> BRAVO
B37: =B36+1 -> 42395 | C37: 0 | D37: 0 | E37: =C37+D37 -> 0 | F37: =IF(D37="","",C37/E37) -> #DIV/0! | G37: =IF(D37="","",D37/E37) -> #DIV/0! | H37: =IF(G37="","",(SUM(F37:G37))) -> #DIV/0! | I37: 0 | J37: 0 | K37: =I37+J37 -> 0 | L37: =IF(I37=0,0,I37/C37) -> 0 | M37: =IF(J37=0,0,J37/D37) -> 0 | N37: =IF(J37=0,"BRAVO",I37/J37*-1) -> BRAVO
B38: =B37+1 -> 42396 | C38: 0 | D38: 0 | E38: =C38+D38 -> 0 | F38: =IF(D38="","",C38/E38) -> #DIV/0! | G38: =IF(D38="","",D38/E38) -> #DIV/0! | H38: =IF(G38="","",(SUM(F38:G38))) -> #DIV/0! | I38: 0 | J38: 0 | K38: =I38+J38 -> 0 | L38: =IF(I38=0,0,I38/C38) -> 0 | M38: =IF(J38=0,0,J38/D38) -> 0 | N38: =IF(J38=0,"BRAVO",I38/J38*-1) -> BRAVO
B39: =B38+1 -> 42397 | C39: 0 | D39: 0 | E39: =C39+D39 -> 0 | F39: =IF(D39="","",C39/E39) -> #DIV/0! | G39: =IF(D39="","",D39/E39) -> #DIV/0! | H39: =IF(G39="","",(SUM(F39:G39))) -> #DIV/0! | I39: 0 | J39: 0 | K39: =I39+J39 -> 0 | L39: =IF(I39=0,0,I39/C39) -> 0 | M39: =IF(J39=0,0,J39/D39) -> 0 | N39: =IF(J39=0,"BRAVO",I39/J39*-1) -> BRAVO
B40: =B39+1 -> 42398 | C40: 0 | D40: 0 | E40: =C40+D40 -> 0 | F40: =IF(D40="","",C40/E40) -> #DIV/0! | G40: =IF(D40="","",D40/E40) -> #DIV/0! | H40: =IF(G40="","",(SUM(F40:G40))) -> #DIV/0! | I40: 0 | J40: 0 | K40: =I40+J40 -> 0 | L40: =IF(I40=0,0,I40/C40) -> 0 | M40: =IF(J40=0,0,J40/D40) -> 0 | N40: =IF(J40=0,"BRAVO",I40/J40*-1) -> BRAVO
B41: Total | C41: =SUM(C36:C40) -> 0 | D41: =SUM(D36:D40) -> 0 | E41: =SUM(E36:E40) -> 0 | F41: =C41/E41 -> #DIV/0! | G41: =D41/E41 -> #DIV/0! | H41: =SUM(F41:G41) -> #DIV/0! | I41: =SUM(I36:I40) -> 0 | J41: =SUM(J36:J40) -> 0 | K41: =I41+J41 -> 0 | L41: =I41/C41 -> #DIV/0! | M41: =J41/D41 -> #DIV/0! | N41: =I41/J41*-1 -> #DIV/0!
B46: Total Général | C46: =C41+C33+C25+C17 -> 0 | D46: =D41+D33+D25+D17 -> 0 | E46: =E41+E33+E25+E17 -> 0 | F46: =C46/E46 -> #DIV/0! | G46: =D46/E46 -> #DIV/0! | H46: =F46+G46 -> #DIV/0! | I46: =I41+I33+I25+I17 -> 0 | J46: =J41+J33+J25+J17 -> 0 | K46: =K41+K33+K25+K17 -> 0 | L46: =I46/C46 -> #DIV/0! | M46: =J46/D46 -> #DIV/0! | N46: =I46/J46*-1 -> #DIV/0!
B50: Nombre de journées | D50: =#REF!+#REF!+#REF!+#REF! -> #REF! | F50: Résultat/Jr | G50: =K46/D50 -> #REF!
B51: Journées + | D51: 0
B52: Journées - | D52: 0

Sheet Fev
B2: Récapitulatif Hebdo -Février 2016
C4: Nb trades | F4: Pourcentage | I4: Valeur | L4: Money Management
C5: Trades+ | D5: Trades- | E5: Total | F5: Trades+ | G5: Trades- | H5: Total | I5: Trades+ | J5: Trades- | K5: Total | L5: Gain moy. | M5: Perte moy. | N5: Profit F.
B7: Semaine 5
B8: =Janv!B40+3 -> 42401 | C8: 0 | D8: 0 | E8: =C8+D8 -> 0 | F8: =IF(D8="","",C8/E8) -> #DIV/0! | G8: =IF(D8="","",D8/E8) -> #DIV/0! | H8: =IF(G8="","",(SUM(F8:G8))) -> #DIV/0! | I8: 0 | J8: 0 | K8: =I8+J8 -> 0 | L8: =IF(I8=0,0,I8/C8) -> 0 | M8: =IF(J8=0,0,J8/D8) -> 0 | N8: =IF(J8=0,"BRAVO",I8/J8*-1) -> BRAVO
B9: =B8+1 -> 42402 | C9: 0 | D9: 0 | E9: =C9+D9 -> 0 | F9: =IF(D9="","",C9/E9) -> #DIV/0! | G9: =IF(D9="","",D9/E9) -> #DIV/0! | H9: =IF(G9="","",(SUM(F9:G9))) -> #DIV/0! | I9: 0 | J9: 0 | K9: =I9+J9 -> 0 | L9: =IF(I9=0,0,I9/C9) -> 0 | M9: =IF(J9=0,0,J9/D9) -> 0 | N9: =IF(J9=0,"BRAVO",I9/J9*-1) -> BRAVO
B10: =B9+1 -> 42403 | C10: 0 | D10: 0 | E10: =C10+D10 -> 0 | F10: =IF(D10="","",C10/E10) -> #DIV/0! | G10: =IF(D10="","",D10/E10) -> #DIV/0! | H10: =IF(G10="","",(SUM(F10:G10))) -> #DIV/0! | I10: 0 | J10: 0 | K10: =I10+J10 -> 0 | L10: =IF(I10=0,0,I10/C10) -> 0 | M10: =IF(J10=0,0,J10/D10) -> 0 | N10: =IF(J10=0,"BRAVO",I10/J10*-1) -> BRAVO
B11: =B10+1 -> 42404 | C11: 0 | D11: 0 | E11: =C11+D11 -> 0 | F11: =IF(D11="","",C11/E11) -> #DIV/0! | G11: =IF(D11="","",D11/E11) -> #DIV/0! | H11: =IF(G11="","",(SUM(F11:G11))) -> #DIV/0! | I11: 0 | J11: 0 | K11: =I11+J11 -> 0 | L11: =IF(I11=0,0,I11/C11) -> 0 | M11: =IF(J11=0,0,J11/D11) -> 0 | N11: =IF(J11=0,"BRAVO",I11/J11*-1) -> BRAVO
B12: =B11+1 -> 42405 | C12: 0 | D12: 0 | E12: =C12+D12 -> 0 | F12: =IF(D12="","",C12/E12) -> #DIV/0! | G12: =IF(D12="","",D12/E12) -> #DIV/0! | H12: =IF(G12="","",(SUM(F12:G12))) -> #DIV/0! | I12: 0 | J12: 0 | K12: =I12+J12 -> 0 | L12: =IF(I12=0,0,I12/C12) -> 0 | M12: =IF(J12=0,0,J12/D12) -> 0 | N12: =IF(J12=0,"BRAVO",I12/J12*-1) -> BRAVO
B13: Total | C13: =SUM(C8:C12) -> 0 | D13: =SUM(D8:D12) -> 0 | E13: =SUM(E8:E12) -> 0 | F13: =C13/E13 -> #DIV/0! | G13: =D13/E13 -> #DIV/0! | H13: =SUM(F13:G13) -> #DIV/0! | I13: =SUM(I8:I12) -> 0 | J13: =SUM(J8:J12) -> 0 | K13: =I13+J13 -> 0 | L13: =I13/C13 -> #DIV/0! | M13: =J13/D13 -> #DIV/0! | N13: =I13/J13*-1 -> #DIV/0!
B15: Semaine 6
B16: =B12+3 -> 42408 | C16: 0 | D16: 0 | E16: =C16+D16 -> 0 | F16: =IF(D16="","",C16/E16) -> #DIV/0! | G16: =IF(D16="","",D16/E16) -> #DIV/0! | H16: =IF(G16="","",(SUM(F16:G16))) -> #DIV/0! | I16: 0 | J16: 0 | K16: =I16+J16 -> 0 | L16: =IF(I16=0,0,I16/C16) -> 0 | M16: =IF(J16=0,0,J16/D16) -> 0 | N16: =IF(J16=0,"BRAVO",I16/J16*-1) -> BRAVO
B17: =B16+1 -> 42409 | C17: 0 | D17: 0 | E17: =C17+D17 -> 0 | F17: =IF(D17="","",C17/E17) -> #DIV/0! | G17: =IF(D17="","",D17/E17) -> #DIV/0! | H17: =IF(G17="","",(SUM(F17:G17))) -> #DIV/0! | I17: 0 | J17: 0 | K17: =I17+J17 -> 0 | L17: =IF(I17=0,0,I17/C17) -> 0 | M17: =IF(J17=0,0,J17/D17) -> 0 | N17: =IF(J17=0,"BRAVO",I17/J17*-1) -> BRAVO
B18: =B17+1 -> 42410 | C18: 0 | D18: 0 | E18: =C18+D18 -> 0 | F18: =IF(D18="","",C18/E18) -> #DIV/0! | G18: =IF(D18="","",D18/E18) -> #DIV/0! | H18: =IF(G18="","",(SUM(F18:G18))) -> #DIV/0! | I18: 0 | J18: 0 | K18: =I18+J18 -> 0 | L18: =IF(I18=0,0,I18/C18) -> 0 | M18: =IF(J18=0,0,J18/D18) -> 0 | N18: =IF(J18=0,"BRAVO",I18/J18*-1) -> BRAVO
B19: =B18+1 -> 42411 | C19: 0 | D19: 0 | E19: =C19+D19 -> 0 | F19: =IF(D19="","",C19/E19) -> #DIV/0! | G19: =IF(D19="","",D19/E19) -> #DIV/0! | H19: =IF(G19="","",(SUM(F19:G19))) -> #DIV/0! | I19: 0 | J19: 0 | K19: =I19+J19 -> 0 | L19: =IF(I19=0,0,I19/C19) -> 0 | M19: =IF(J19=0,0,J19/D19) -> 0 | N19: =IF(J19=0,"BRAVO",I19/J19*-1) -> BRAVO
B20: =B19+1 -> 42412 | C20: 0 | D20: 0 | E20: =C20+D20 -> 0 | F20: =IF(D20="","",C20/E20) -> #DIV/0! | G20: =IF(D20="","",D20/E20) -> #DIV/0! | H20: =IF(G20="","",(SUM(F20:G20))) -> #DIV/0! | I20: 0 | J20: 0 | K20: =I20+J20 -> 0 | L20: =IF(I20=0,0,I20/C20) -> 0 | M20: =IF(J20=0,0,J20/D20) -> 0 | N20: =IF(J20=0,"BRAVO",I20/J20*-1) -> BRAVO
B21: Total | C21: =SUM(C16:C20) -> 0 | D21: =SUM(D16:D20) -> 0 | E21: =SUM(E16:E20) -> 0 | F21: =C21/E21 -> #DIV/0! | G21: =D21/E21 -> #DIV/0! | H21: =SUM(F21:G21) -> #DIV/0! | I21: =SUM(I16:I20) -> 0 | J21: =SUM(J16:J20) -> 0 | K21: =I21+J21 -> 0 | L21: =I21/C21 -> #DIV/0! | M21: =J21/D21 -> #DIV/0! | N21: =I21/J21*-1 -> #DIV/0!
B23: Semaine 7
B24: =B20+3 -> 42415 | C24: 0 | D24: 0 | E24: =C24+D24 -> 0 | F24: =IF(D24="","",C24/E24) -> #DIV/0! | G24: =IF(D24="","",D24/E24) -> #DIV/0! | H24: =IF(G24="","",(SUM(F24:G24))) -> #DIV/0! | I24: 0 | J24: 0 | K24: =I24+J24 -> 0 | L24: =IF(I24=0,0,I24/C24) -> 0 | M24: =IF(J24=0,0,J24/D24) -> 0 | N24: =IF(J24=0,"BRAVO",I24/J24*-1) -> BRAVO
B25: =B24+1 -> 42416 | C25: 0 | D25: 0 | E25: =C25+D25 -> 0 | F25: =IF(D25="","",C25/E25) -> #DIV/0! | G25: =IF(D25="","",D25/E25) -> #DIV/0! | H25: =IF(G25="","",(SUM(F25:G25))) -> #DIV/0! | I25: 0 | J25: 0 | K25: =I25+J25 -> 0 | L25: =IF(I25=0,0,I25/C25) -> 0 | M25: =IF(J25=0,0,J25/D25) -> 0 | N25: =IF(J25=0,"BRAVO",I25/J25*-1) -> BRAVO
B26: =B25+1 -> 42417 | C26: 0 | D26: 0 | E26: =C26+D26 -> 0 | F26: =IF(D26="","",C26/E26) -> #DIV/0! | G26: =IF(D26="","",D26/E26) -> #DIV/0! | H26: =IF(G26="","",(SUM(F26:G26))) -> #DIV/0! | I26: 0 | J26: 0 | K26: =I26+J26 -> 0 | L26: =IF(I26=0,0,I26/C26) -> 0 | M26: =IF(J26=0,0,J26/D26) -> 0 | N26: =IF(J26=0,"BRAVO",I26/J26*-1) -> BRAVO
B27: =B26+1 -> 42418 | C27: 0 | D27: 0 | E27: =C27+D27 -> 0 | F27: =IF(D27="","",C27/E27) -> #DIV/0! | G27: =IF(D27="","",D27/E27) -> #DIV/0! | H27: =IF(G27="","",(SUM(F27:G27))) -> #DIV/0! | I27: 0 | J27: 0 | K27: =I27+J27 -> 0 | L27: =IF(I27=0,0,I27/C27) -> 0 | M27: =IF(J27=0,0,J27/D27) -> 0 | N27: =IF(J27=0,"BRAVO",I27/J27*-1) -> BRAVO
B28: =B27+1 -> 42419 | C28: 0 | D28: 0 | E28: =C28+D28 -> 0 | F28: =IF(D28="","",C28/E28) -> #DIV/0! | G28: =IF(D28="","",D28/E28) -> #DIV/0! | H28: =IF(G28="","",(SUM(F28:G28))) -> #DIV/0! | I28: 0 | J28: 0 | K28: =I28+J28 -> 0 | L28: =IF(I28=0,0,I28/C28) -> 0 | M28: =IF(J28=0,0,J28/D28) -> 0 | N28: =IF(J28=0,"BRAVO",I28/J28*-1) -> BRAVO
B29: Total | C29: =SUM(C24:C28) -> 0 | D29: =SUM(D24:D28) -> 0 | E29: =SUM(E24:E28) -> 0 | F29: =C29/E29 -> #DIV/0! | G29: =D29/E29 -> #DIV/0! | H29: =SUM(F29:G29) -> #DIV/0! | I29: =SUM(I24:I28) -> 0 | J29: =SUM(J24:J28) -> 0 | K29: =I29+J29 -> 0 | L29: =I29/C29 -> #DIV/0! | M29: =J29/D29 -> #DIV/0! | N29: =I29/J29*-1 -> #DIV/0!
B31: Semaine 8
B32: =B28+3 -> 42422 | C32: 0 | D32: 0 | E32: =C32+D32 -> 0 | F32: =IF(D32="","",C32/E32) -> #DIV/0! | G32: =IF(D32="","",D32/E32) -> #DIV/0! | H32: =IF(G32="","",(SUM(F32:G32))) -> #DIV/0! | I32: 0 | J32: 0 | K32: =I32+J32 -> 0 | L32: =IF(I32=0,0,I32/C32) -> 0 | M32: =IF(J32=0,0,J32/D32) -> 0 | N32: =IF(J32=0,"BRAVO",I32/J32*-1) -> BRAVO
B33: =B32+1 -> 42423 | C33: 0 | D33: 0 | E33: =C33+D33 -> 0 | F33: =IF(D33="","",C33/E33) -> #DIV/0! | G33: =IF(D33="","",D33/E33) -> #DIV/0! | H33: =IF(G33="","",(SUM(F33:G33))) -> #DIV/0! | I33: 0 | J33: 0 | K33: =I33+J33 -> 0 | L33: =IF(I33=0,0,I33/C33) -> 0 | M33: =IF(J33=0,0,J33/D33) -> 0 | N33: =IF(J33=0,"BRAVO",I33/J33*-1) -> BRAVO
B34: =B33+1 -> 42424 | C34: 0 | D34: 0 | E34: =C34+D34 -> 0 | F34: =IF(D34="","",C34/E34) -> #DIV/0! | G34: =IF(D34="","",D34/E34) -> #DIV/0! | H34: =IF(G34="","",(SUM(F34:G34))) -> #DIV/0! | I34: 0 | J34: 0 | K34: =I34+J34 -> 0 | L34: =IF(I34=0,0,I34/C34) -> 0 | M34: =IF(J34=0,0,J34/D34) -> 0 | N34: =IF(J34=0,"BRAVO",I34/J34*-1) -> BRAVO
B35: =B34+1 -> 42425 | C35: 0 | D35: 0 | E35: =C35+D35 -> 0 | F35: =IF(D35="","",C35/E35) -> #DIV/0! | G35: =IF(D35="","",D35/E35) -> #DIV/0! | H35: =IF(G35="","",(SUM(F35:G35))) -> #DIV/0! | I35: 0 | J35: 0 | K35: =I35+J35 -> 0 | L35: =IF(I35=0,0,I35/C35) -> 0 | M35: =IF(J35=0,0,J35/D35) -> 0 | N35: =IF(J35=0,"BRAVO",I35/J35*-1) -> BRAVO
B36: =B35+1 -> 42426 | C36: 0 | D36: 0 | E36: =C36+D36 -> 0 | F36: =IF(D36="","",C36/E36) -> #DIV/0! | G36: =IF(D36="","",D36/E36) -> #DIV/0! | H36: =IF(G36="","",(SUM(F36:G36))) -> #DIV/0! | I36: 0 | J36: 0 | K36: =I36+J36 -> 0 | L36: =IF(I36=0,0,I36/C36) -> 0 | M36: =IF(J36=0,0,J36/D36) -> 0 | N36: =IF(J36=0,"BRAVO",I36/J36*-1) -> BRAVO
B37: Total | C37: =SUM(C32:C36) -> 0 | D37: =SUM(D32:D36) -> 0 | E37: =SUM(E32:E36) -> 0 | F37: =C37/E37 -> #DIV/0! | G37: =D37/E37 -> #DIV/0! | H37: =SUM(F37:G37) -> #DIV/0! | I37: =SUM(I32:I36) -> 0 | J37: =SUM(J32:J36) -> 0 | K37: =I37+J37 -> 0 | L37: =I37/C37 -> #DIV/0! | M37: =J37/D37 -> #DIV/0! | N37: =I37/J37*-1 -> #DIV/0!
B39: Semaine 8
B40: =B36+3 -> 42429 | C40: 0 | D40: 0 | E40: =C40+D40 -> 0 | F40: =IF(D40="","",C40/E40) -> #DIV/0! | G40: =IF(D40="","",D40/E40) -> #DIV/0! | H40: =IF(G40="","",(SUM(F40:G40))) -> #DIV/0! | I40: 0 | J40: 0 | K40: =I40+J40 -> 0 | L40: =IF(I40=0,0,I40/C40) -> 0 | M40: =IF(J40=0,0,J40/D40) -> 0 | N40: =IF(J40=0,"BRAVO",I40/J40*-1) -> BRAVO
B45: Total Général | C45: =C37+C29+C21+C13 -> 0 | D45: =D37+D29+D21+D13 -> 0 | E45: =E37+E29+E21+E13 -> 0 | F45: =C45/E45 -> #DIV/0! | G45: =D45/E45 -> #DIV/0! | H45: =F45+G45 -> #DIV/0! | I45: =I37+I29+I21+I13 -> 0 | J45: =J37+J29+J21+J13 -> 0 | K45: =K37+K29+K21+K13 -> 0 | L45: =I45/C45 -> #DIV/0! | M45: =J45/D45 -> #DIV/0! | N45: =I45/J45*-1 -> #DIV/0!
B49: Nombre de journées | D49: =#REF!+#REF!+#REF!+#REF! -> #REF! | F49: Résultat/Jr | G49: =K45/D49 -> #REF!
B50: Journées + | D50: 0
B51: Journées - | D51: 0

Sheet Mars

Sheet Avril

Sheet Mai

Sheet Juin

Sheet Juillet

Sheet Aout

Sheet Sept

Sheet Oct

Sheet Nov

Sheet Dec

Sheet Recap
B2: RECAPITULATIF ANNEE 2015
C4: Nb trades | F4: Pourcentage | I4: Valeur | L4: Money Management
C5: Trades+ | D5: Trades- | E5: Total | F5: Trades+ | G5: Trades- | H5: Total | I5: Trades+ | J5: Trades- | K5: Total | L5: Gain moy. | M5: Perte moy. | N5: Profit F.
B6: Janvier | C6: 0 | D6: 0 | E6: 0 | F6: 0 | G6: 0 | H6: 0 | I6: 0 | J6: 0 | K6: 0 | L6: 0 | M6: 0 | N6: 0
B7: Février | C7: 0 | D7: 0 | E7: 0 | F7: 0 | G7: 0 | H7: 0 | I7: 0 | J7: 0 | K7: 0 | L7: 0 | M7: 0 | N7: 0
B8: Mars | C8: 0 | D8: 0 | E8: 0 | F8: 0 | G8: 0 | H8: 0 | I8: 0 | J8: 0 | K8: 0 | L8: 0 | M8: 0 | N8: 0
B9: Avril | C9: 0 | D9: 0 | E9: 0 | F9: 0 | G9: 0 | H9: 0 | I9: 0 | J9: 0 | K9: 0 | L9: 0 | M9: 0 | N9: 0
B10: Mai | C10: 0 | D10: 0 | E10: 0 | F10: 0 | G10: 0 | H10: 0 | I10: 0 | J10: 0 | K10: 0 | L10: 0 | M10: 0 | N10: 0
B11: Juin | C11: 0 | D11: 0 | E11: 0 | F11: 0 | G11: 0 | H11: 0 | I11: 0 | J11: 0 | K11: 0 | L11: 0 | M11: 0 | N11: 0
B12: Juillet | C12: 0 | D12: 0 | E12: 0 | F12: 0 | G12: 0 | H12: 0 | I12: 0 | J12: 0 | K12: 0 | L12: 0 | M12: 0 | N12: 0
B13: Août | C13: 0 | D13: 0 | E13: 0 | F13: 0 | G13: 0 | H13: 0 | I13: 0 | J13: 0 | K13: 0 | L13: 0 | M13: 0 | N13: 0
B14: Septembre | C14: 0 | D14: 0 | E14: 0 | F14: 0 | G14: 0 | H14: 0 | I14: 0 | J14: 0 | K14: 0 | L14: 0 | M14: 0 | N14: 0
B15: Octobre | C15: 0 | D15: 0 | E15: 0 | F15: 0 | G15: 0 | H15: 0 | I15: 0 | J15: 0 | K15: 0 | L15: 0 | M15: 0 | N15: 0
B16: Novembre | C16: 0 | D16: 0 | E16: 0 | F16: 0 | G16: 0 | H16: 0 | I16: 0 | J16: 0 | K16: 0 | L16: 0 | M16: 0 | N16: 0
B17: Décembre | C17: 0 | D17: 0 | E17: 0 | F17: 0 | G17: 0 | H17: 0 | I17: 0 | J17: 0 | K17: 0 | L17: 0 | M17: 0 | N17: 0
B19: Total | C19: =SUM(C6:C17) -> 0 | D19: =SUM(D6:D17) -> 0 | E19: =SUM(E6:E17) -> 0 | F19: =C19/E19 -> #DIV/0! | G19: =D19/E19 -> #DIV/0! | H19: =F19+G19 -> #DIV/0! | I19: =SUM(I6:I17) -> 0 | J19: =SUM(J6:J17) -> 0 | K19: =SUM(K6:K17) -> 0 | L19: =I19/C19 -> #DIV/0! | M19: =J19/D19 -> #DIV/0! | N19: 0

Sheet 1
A1: Type | B1: Récapitulatif | C1: Date | D1: Réf, | E1: Marché | F1: Echéance | G1: Ouverture | H1: Dev | I1: Taille | J1: Fermeture | K1: +/- values | M1: trade nég | N1: perte | O1: perte en point | P1: cum
A2: ORDRE | B2: Ordres de clôture | C2: 42370 | D2: 8F6YH7AX | E2: Allemagne 30 au comptant (Mini-contrat 5€) | F2: - | G2: 10695.4 | H2: E | I2: -1.5 | J2: 10692.6 | K2: 21 | M2: 0 | N2: 0 | O2: 0 | P2: 149.5
A3: ORDRE | B3: Ordres de clôture | C3: 42370 | D3: 8FVT8QAH | E3: Allemagne 30 au comptant (Mini-contrat 5€) | F3: - | G3: 10752.4 | H3: E | I3: -1.5 | J3: 10751.4 | K3: 7.5 | M3: 0 | N3: 0 | O3: 0 | P3: 128.5
A4: ORDRE | B4: Ordres de clôture | C4: 42370 | D4: 8FTNWAA5 | E4: Allemagne 30 au comptant (Mini-contrat 5€) | F4: - | G4: 10697 | H4: E | I4: -1.5 | J4: 10694.8 | K4: 16.5 | M4: 0 | N4: 0 | O4: 0 | P4: 121
A5: ORDRE | B5: Ordres de clôture | C5: 42370 | D5: 8FSUX6AZ | E5: Allemagne 30 au comptant (Mini-contrat 5€) | F5: - | G5: 10707 | H5: E | I5: -1.5 | J5: 10705.8 | K5: 9 | M5: 0 | N5: 0 | O5: 0 | P5: 104.5
A6: ORDRE | B6: Ordres de clôture | C6: 42370 | D6: 8FSXR3AR | E6: Allemagne 30 au comptant (Mini-contrat 5€) | F6: - | G6: 10720 | H6: E | I6: 2 | J6: 10721.5 | K6: 15 | M6: 0 | N6: 0 | O6: 0 | P6: 95.5
A7: ORDRE | B7: Ordres de clôture | C7: 42370 | D7: 8FTRK3A6 | E7: Allemagne 30 au comptant (Mini-contrat 5€) | F7: - | G7: 10719.3 | H7: E | I7: 2 | J7: 10714.5 | K7: -48 | M7: 1 | N7: -48 | O7: 4.8 | P7: 80.5
A8: ORDRE | B8: Ordres de clôture | C8: 42370 | D8: 8FR6RTA6 | E8: Allemagne 30 au comptant (Mini-contrat 5€) | F8: - | G8: 10713.3 | H8: E | I8: 1 | J8: 10724.5 | K8: 56 | M8: 0 | N8: 0 | O8: 0 | P8: 128.5
A9: ORDRE | B9: Ordres de clôture | C9: 42370 | D9: 8FQMJ3A3 | E9: Allemagne 30 au comptant (Mini-contrat 5€) | F9: - | G9: 10668.5 | H9: E | I9: -1 | J9: 10667.8 | K9: 3.5 | M9: 0 | N9: 0 | O9: 0 | P9: 72.5
A10: ORDRE | B10: Ordres de clôture | C10: 42370 | D10: 8FQJEQBC | E10: Allemagne 30 au comptant (Mini-contrat 5€) | F10: - | G10: 10676 | H10: E | I10: 1 | J10: 10676.5 | K10: 2.5 | M10: 0 | N10: 0 | O10: 0 | P10: 69
A11: ORDRE | B11: Ordres de clôture | C11: 42370 | D11: 8FQGAVAQ | E11: Allemagne 30 au comptant (Mini-contrat 5€) | F11: - | G11: 10691.8 | H11: E | I11: 1 | J11: 10683.8 | K11: -40 | M11: 1 | N11: -40 | O11: 8 | P11: 66.5
A12: ORDRE | B12: Ordres de clôture | C12: 42370 | D12: 8FN8FWBB | E12: Allemagne 30 au comptant (Mini-contrat 5€) | F12: - | G12: 10677.8 | H12: E | I12: 2 | J12: 10679.3 | K12: 15 | M12: 0 | N12: 0 | O12: 0 | P12: 106.5
A13: ORDRE | B13: Ordres de clôture | C13: 42370 | D13: 8FNQYFA7 | E13: Allemagne 30 au comptant (Mini-contrat 5€) | F13: - | G13: 10676 | H13: E | I13: -2 | J13: 10675.3 | K13: 7 | M13: 0 | N13: 0 | O13: 0 | P13: 91.5
... A24: ORDRE | B24: Ordres de clôture | C24: 42370 | D24: 8FKU8JAZ | E24: Allemagne 30 au comptant (Mini-contrat 5€) | F24: - | G24: 10622.3 | H24: E | I24: 1 | J24: 10623.3 | K24: 5 | M24: 0 | N24: 0 | O24: 0 | P24: 18
A25: ORDRE | B25: Ordres de clôture | C25: 42370 | D25: 8FLKYSAG | E25: Allemagne 30 au comptant (Mini-contrat 5€) | F25: - | G25: 10616 | H25: E | I25: 1 | J25: 10616.8 | K25: 4 | M25: 0 | N25: 0 | O25: 0 | P25: 13 | S25: trades + | T25: 21 | U25: =U27-U26 -> 291.5 | W25: =U25/T25 -> 13.880952 | X25: =T25/T27 -> 0.80769231
A26: ORDRE | B26: Ordres de clôture | C26: 42370 | D26: 8FLHZJAM | E26: Allemagne 30 au comptant (Mini-contrat 5€) | F26: - | G26: 10619 | H26: E | I26: 1 | J26: 10621.3 | K26: 11.5 | M26: 0 | N26: 0 | O26: 0 | P26: 9 | S26: trades - | T26: =SUM(M2:M27) -> 5 | U26: =SUM(N2:N27) -> -142 | W26: =U26/T26 -> -28.4 | X26: =-(W26/W25) -> 2.0459691
A27: ORDRE | B27: Ordres de clôture | C27: 42370 | D27: 8FKVX3AH | E27: Allemagne 30 au comptant (Mini-contrat 5€) | F27: - | G27: 10617 | H27: E | I27: 1 | J27: 10616.5 | K27: -2.5 | M27: 1 | N27: -2.5 | O27: 0.5 | P27: -2.5 | S27: Total | T27: 26 | U27: =P2 -> 149.5

Sheet 2

Sheet 3
