Workbook

Sheet 20 JUIN 2016
A1: =MID(CELL("nomfichier"),FIND("]",CELL("nomfichier"))+1,20) -> 20 JUIN 2016
F3: # | G3: Marché | H3: Ouverture | I3: Lot | J3: Fermeture | K3: Gain | L3: Dif | M3: Pts | N3: Capital | O3: Série
L4: =IF($I4<0,$H4-$J4,$J4-$H4) -> 0 | M4: 0 | N4: 0 | O4: 0
A5: =MAX(carnet1['#]) -> 0 | C5: Trades | L5: =IF(carnet1[[#This Row],[Lot]]<0,carnet1[[#This Row],[Ouverture]]-carnet1[[#This Row],[Fermeture]],carnet1[[#This Row],[Fermeture]]-carnet1[[#This Row],[Ouverture]]) -> 0 | M5: =M4+carnet1[Dif] -> 0 | N5: =N4+carnet1[[#This Row],[Gain]] -> 0 | O5: =IF(carnet1[[#This Row],['#]]<>0,IF(OR(carnet1[[#This Row],[Dif]]>0,carnet1[[#This Row],[Dif]]=0),IF(OR($L4>0,$L4=0),O4+1,1),IF($L4<0,O4-1,-1)),0) -> 0
L6: =IF(carnet1[[#This Row],[Lot]]<0,carnet1[[#This Row],[Ouverture]]-carnet1[[#This Row],[Fermeture]],carnet1[[#This Row],[Fermeture]]-carnet1[[#This Row],[Ouverture]]) -> 0 | M6: =M5+carnet1[Dif] -> 0 | N6: =N5+carnet1[[#This Row],[Gain]] -> 0 | O6: =IF(carnet1[[#This Row],['#]]<>0,IF(OR(carnet1[[#This Row],[Dif]]>0,carnet1[[#This Row],[Dif]]=0),IF(OR($L5>0,$L5=0),O5+1,1),IF($L5<0,O5-1,-1)),0) -> 0
L7: =IF(carnet1[[#This Row],[Lot]]<0,carnet1[[#This Row],[Ouverture]]-carnet1[[#This Row],[Fermeture]],carnet1[[#This Row],[Fermeture]]-carnet1[[#This Row],[Ouverture]]) -> 0 | M7: =M6+carnet1[Dif] -> 0 | N7: =N6+carnet1[[#This Row],[Gain]] -> 0 | O7: =IF(carnet1[[#This Row],['#]]<>0,IF(OR(carnet1[[#This Row],[Dif]]>0,carnet1[[#This Row],[Dif]]=0),IF(OR($L6>0,$L6=0),O6+1,1),IF($L6<0,O6-1,-1)),0) -> 0
A8: EVO | B8: Cap. | C8: Pts | L8: =IF(carnet1[[#This Row],[Lot]]<0,carnet1[[#This Row],[Ouverture]]-carnet1[[#This Row],[Fermeture]],carnet1[[#This Row],[Fermeture]]-carnet1[[#This Row],[Ouverture]]) -> 0 | M8: =M7+carnet1[Dif] -> 0 | N8: =N7+carnet1[[#This Row],[Gain]] -> 0 | O8: =IF(carnet1[[#This Row],['#]]<>0,IF(OR(carnet1[[#This Row],[Dif]]>0,carnet1[[#This Row],[Dif]]=0),IF(OR($L7>0,$L7=0),O7+1,1),IF($L7<0,O7-1,-1)),0) -> 0
A9: Max down | B9: =_xlfn.MINIFS(carnet1[Capital],carnet1[Capital],"<>0") -> 0 | C9: =_xlfn.MINIFS(carnet1[Pts],carnet1[Pts],"<>0") -> 0 | L9: =IF(carnet1[[#This Row],[Lot]]<0,carnet1[[#This Row],[Ouverture]]-carnet1[[#This Row],[Fermeture]],carnet1[[#This Row],[Fermeture]]-carnet1[[#This Row],[Ouverture]]) -> 0 | M9: =M8+carnet1[Dif] -> 0 | N9: =N8+carnet1[[#This Row],[Gain]] -> 0 | O9: =IF(carnet1[[#This Row],['#]]<>0,IF(OR(carnet1[[#This Row],[Dif]]>0,carnet1[[#This Row],[Dif]]=0),IF(OR($L8>0,$L8=0),O8+1,1),IF($L8<0,O8-1,-1)),0) -> 0
A10: Résultat | B10: =SUM(carnet1[Gain]) -> 0 | C10: =SUM(carnet1[Dif]) -> 0 | L10: =IF(carnet1[[#This Row],[Lot]]<0,carnet1[[#This Row],[Ouverture]]-carnet1[[#This Row],[Fermeture]],carnet1[[#This Row],[Fermeture]]-carnet1[[#This Row],[Ouverture]]) -> 0 | M10: =M9+carnet1[Dif] -> 0 | N10: =N9+carnet1[[#This Row],[Gain]] -> 0 | O10: =IF(carnet1[[#This Row],['#]]<>0,IF(OR(carnet1[[#This Row],[Dif]]>0,carnet1[[#This Row],[Dif]]=0),IF(OR($L9>0,$L9=0),O9+1,1),IF($L9<0,O9-1,-1)),0) -> 0
A11: Max Up | B11: =_xlfn.MAXIFS(carnet1[Capital],carnet1[Capital],"<>0") -> 0 | C11: =_xlfn.MAXIFS(carnet1[Pts],carnet1[Pts],"<>0") -> 0 | L11: =IF(carnet1[[#This Row],[Lot]]<0,carnet1[[#This Row],[Ouverture]]-carnet1[[#This Row],[Fermeture]],carnet1[[#This Row],[Fermeture]]-carnet1[[#This Row],[Ouverture]]) -> 0 | M11: =M10+carnet1[Dif] -> 0 | N11: =N10+carnet1[[#This Row],[Gain]] -> 0 | O11: =IF(carnet1[[#This Row],['#]]<>0,IF(OR(carnet1[[#This Row],[Dif]]>0,carnet1[[#This Row],[Dif]]=0),IF(OR($L10>0,$L10=0),O10+1,1),IF($L10<0,O10-1,-1)),0) -> 0
L12: =IF(carnet1[[#This Row],[Lot]]<0,carnet1[[#This Row],[Ouverture]]-carnet1[[#This Row],[Fermeture]],carnet1[[#This Row],[Fermeture]]-carnet1[[#This Row],[Ouverture]]) -> 0 | M12: =M11+carnet1[Dif] -> 0 | N12: =N11+carnet1[[#This Row],[Gain]] -> 0 | O12: =IF(carnet1[[#This Row],['#]]<>0,IF(OR(carnet1[[#This Row],[Dif]]>0,carnet1[[#This Row],[Dif]]=0),IF(OR($L11>0,$L11=0),O11+1,1),IF($L11<0,O11-1,-1)),0) -> 0
A13: Trades | B13: Gagn. | C13: Perd. | D13: Flat | L13: =IF(carnet1[[#This Row],[Lot]]<0,carnet1[[#This Row],[Ouverture]]-carnet1[[#This Row],[Fermeture]],carnet1[[#This Row],[Fermeture]]-carnet1[[#This Row],[Ouverture]]) -> 0 | M13: =M12+carnet1[Dif] -> 0 | N13: =N12+carnet1[[#This Row],[Gain]] -> 0 | O13: =IF(carnet1[[#This Row],['#]]<>0,IF(OR(carnet1[[#This Row],[Dif]]>0,carnet1[[#This Row],[Dif]]=0),IF(OR($L12>0,$L12=0),O12+1,1),IF($L12<0,O12-1,-1)),0) -> 0
A14: Nb | B14: =COUNTIF(carnet1[Dif],">0") -> 0 | C14: =COUNTIF(carnet1[Dif],"<0") -> 0 | D14: =IF($A$5<>0,COUNTIF(carnet1[Dif],"=0,0"),0) -> 0 | L14: =IF(carnet1[[#This Row],[Lot]]<0,carnet1[[#This Row],[Ouverture]]-carnet1[[#This Row],[Fermeture]],carnet1[[#This Row],[Fermeture]]-carnet1[[#This Row],[Ouverture]]) -> 0 | M14: =M13+carnet1[Dif] -> 0 | N14: =N13+carnet1[[#This Row],[Gain]] -> 0 | O14: =IF(carnet1[[#This Row],['#]]<>0,IF(OR(carnet1[[#This Row],[Dif]]>0,carnet1[[#This Row],[Dif]]=0),IF(OR($L13>0,$L13=0),O13+1,1),IF($L13<0,O13-1,-1)),0) -> 0
A15: % | B15: =IF($A$5<>0,B14/$A$5,0) -> 0 | C15: =IF($A$5<>0,C14/$A$5,0) -> 0 | D15: =IF($A$5<>0,D14/$A$5,0) -> 0 | L15: =IF(carnet1[[#This Row],[Lot]]<0,carnet1[[#This Row],[Ouverture]]-carnet1[[#This Row],[Fermeture]],carnet1[[#This Row],[Fermeture]]-carnet1[[#This Row],[Ouverture]]) -> 0 | M15: =M14+carnet1[Dif] -> 0 | N15: =N14+carnet1[[#This Row],[Gain]] -> 0 | O15: =IF(carnet1[[#This Row],['#]]<>0,IF(OR(carnet1[[#This Row],[Dif]]>0,carnet1[[#This Row],[Dif]]=0),IF(OR($L14>0,$L14=0),O14+1,1),IF($L14<0,O14-1,-1)),0) -> 0
A16: Série | B16: =MAX(carnet1[Série]) -> 0 | C16: =ABS(MIN(carnet1[Série])) -> 0 | L16: =IF(carnet1[[#This Row],[Lot]]<0,carnet1[[#This Row],[Ouverture]]-carnet1[[#This Row],[Fermeture]],carnet1[[#This Row],[Fermeture]]-carnet1[[#This Row],[Ouverture]]) -> 0 | M16: =M15+carnet1[Dif] -> 0 | N16: =N15+carnet1[[#This Row],[Gain]] -> 0 | O16: =IF(carnet1[[#This Row],['#]]<>0,IF(OR(carnet1[[#This Row],[Dif]]>0,carnet1[[#This Row],[Dif]]=0),IF(OR($L15>0,$L15=0),O15+1,1),IF($L15<0,O15-1,-1)),0) -> 0
A17: Moyen | B17: =IF(A5<>0,AVERAGEIF(carnet1[Dif],">0",carnet1[Gain]),0) -> 0 | C17: =IF(MIN(carnet1[Dif])<0,IF(A5<>0,AVERAGEIF(carnet1[Dif],"<0",carnet1[Gain]),0),0) -> 0 | L17: =IF(carnet1[[#This Row],[Lot]]<0,carnet1[[#This Row],[Ouverture]]-carnet1[[#This Row],[Fermeture]],carnet1[[#This Row],[Fermeture]]-carnet1[[#This Row],[Ouverture]]) -> 0 | M17: =M16+carnet1[Dif] -> 0 | N17: =N16+carnet1[[#This Row],[Gain]] -> 0 | O17: =IF(carnet1[[#This Row],['#]]<>0,IF(OR(carnet1[[#This Row],[Dif]]>0,carnet1[[#This Row],[Dif]]=0),IF(OR($L16>0,$L16=0),O16+1,1),IF($L16<0,O16-1,-1)),0) -> 0
A18: Max | B18: =_xlfn.MAXIFS(carnet1[Gain],carnet1[Gain],">0") -> 0 | C18: =_xlfn.MINIFS(carnet1[Gain],carnet1[Gain],"<0") -> 0 | L18: =IF(carnet1[[#This Row],[Lot]]<0,carnet1[[#This Row],[Ouverture]]-carnet1[[#This Row],[Fermeture]],carnet1[[#This Row],[Fermeture]]-carnet1[[#This Row],[Ouverture]]) -> 0 | M18: =M17+carnet1[Dif] -> 0 | N18: =N17+carnet1[[#This Row],[Gain]] -> 0 | O18: =IF(carnet1[[#This Row],['#]]<>0,IF(OR(carnet1[[#This Row],[Dif]]>0,carnet1[[#This Row],[Dif]]=0),IF(OR($L17>0,$L17=0),O17+1,1),IF($L17<0,O17-1,-1)),0) -> 0
A19: Total | B19: =SUMIF(carnet1[Gain],">0",carnet1[Gain]) -> 0 | C19: =SUMIF(carnet1[Gain],"<0",carnet1[Gain]) -> 0 | L19: =IF(carnet1[[#This Row],[Lot]]<0,carnet1[[#This Row],[Ouverture]]-carnet1[[#This Row],[Fermeture]],carnet1[[#This Row],[Fermeture]]-carnet1[[#This Row],[Ouverture]]) -> 0 | M19: =M18+carnet1[Dif] -> 0 | N19: =N18+carnet1[[#This Row],[Gain]] -> 0 | O19: =IF(carnet1[[#This Row],['#]]<>0,IF(OR(carnet1[[#This Row],[Dif]]>0,carnet1[[#This Row],[Dif]]=0),IF(OR($L18>0,$L18=0),O18+1,1),IF($L18<0,O18-1,-1)),0) -> 0
A20: Moyen pts | B20: =IF(A5<>0,AVERAGEIF(carnet1[Dif],">0",carnet1[Dif]),0) -> 0 | C20: =IF(A5<>0,AVERAGEIF(carnet1[Dif],"<0",carnet1[Dif]),0) -> 0 | L20: =IF(carnet1[[#This Row],[Lot]]<0,carnet1[[#This Row],[Ouverture]]-carnet1[[#This Row],[Fermeture]],carnet1[[#This Row],[Fermeture]]-carnet1[[#This Row],[Ouverture]]) -> 0 | M20: =M19+carnet1[Dif] -> 0 | N20: =N19+carnet1[[#This Row],[Gain]] -> 0 | O20: =IF(carnet1[[#This Row],['#]]<>0,IF(OR(carnet1[[#This Row],[Dif]]>0,carnet1[[#This Row],[Dif]]=0),IF(OR($L19>0,$L19=0),O19+1,1),IF($L19<0,O19-1,-1)),0) -> 0
A21: Max pts | B21: =_xlfn.MAXIFS(carnet1[Dif],carnet1[Dif],">0") -> 0 | C21: =_xlfn.MINIFS(carnet1[Dif],carnet1[Dif],"<0") -> 0 | L21: =IF(carnet1[[#This Row],[Lot]]<0,carnet1[[#This Row],[Ouverture]]-carnet1[[#This Row],[Fermeture]],carnet1[[#This Row],[Fermeture]]-carnet1[[#This Row],[Ouverture]]) -> 0 | M21: =M20+carnet1[Dif] -> 0 | N21: =N20+carnet1[[#This Row],[Gain]] -> 0 | O21: =IF(carnet1[[#This Row],['#]]<>0,IF(OR(carnet1[[#This Row],[Dif]]>0,carnet1[[#This Row],[Dif]]=0),IF(OR($L20>0,$L20=0),O20+1,1),IF($L20<0,O20-1,-1)),0) -> 0
A22: Total pts | B22: =SUMIF(carnet1[Dif],">0",carnet1[Dif]) -> 0 | C22: =SUMIF(carnet1[Dif],"<0",carnet1[Dif]) -> 0 | L22: =IF(carnet1[[#This Row],[Lot]]<0,carnet1[[#This Row],[Ouverture]]-carnet1[[#This Row],[Fermeture]],carnet1[[#This Row],[Fermeture]]-carnet1[[#This Row],[Ouverture]]) -> 0 | M22: =M21+carnet1[Dif] -> 0 | N22: =N21+carnet1[[#This Row],[Gain]] -> 0 | O22: =IF(carnet1[[#This Row],['#]]<>0,IF(OR(carnet1[[#This Row],[Dif]]>0,carnet1[[#This Row],[Dif]]=0),IF(OR($L21>0,$L21=0),O21+1,1),IF($L21<0,O21-1,-1)),0) -> 0
L23: =IF(carnet1[[#This Row],[Lot]]<0,carnet1[[#This Row],[Ouverture]]-carnet1[[#This Row],[Fermeture]],carnet1[[#This Row],[Fermeture]]-carnet1[[#This Row],[Ouverture]]) -> 0 | M23: =M22+carnet1[Dif] -> 0 | N23: =N22+carnet1[[#This Row],[Gain]] -> 0 | O23: =IF(carnet1[[#This Row],['#]]<>0,IF(OR(carnet1[[#This Row],[Dif]]>0,carnet1[[#This Row],[Dif]]=0),IF(OR($L22>0,$L22=0),O22+1,1),IF($L22<0,O22-1,-1)),0) -> 0

Sheet 21 JUIN 2016
A1: =MID(CELL("nomfichier"),FIND("]",CELL("nomfichier"))+1,20) -> 20 JUIN 2016
F3: # | G3: Marché | H3: Ouverture | I3: Lot | J3: Fermeture | K3: Gain | L3: Dif | M3: Pts | N3: Capital | O3: Série
L4: =IF($I4<0,$H4-$J4,$J4-$H4) -> 0 | M4: 0 | N4: 0 | O4: 0
A5: =MAX(carnet2['#]) -> 0 | C5: Trades | L5: =IF(carnet2[[#This Row],['#]]<>"",IF(carnet2[[#This Row],[Lot]]<0,carnet2[[#This Row],[Ouverture]]-carnet2[[#This Row],[Fermeture]],carnet2[[#This Row],[Fermeture]]-carnet2[[#This Row],[Ouverture]]),0) -> 0 | M5: =M4+carnet2[Dif] -> 0 | N5: =N4+carnet2[[#This Row],[Gain]] -> 0 | O5: =IF(carnet2[[#This Row],['#]]<>0,IF(OR(carnet2[[#This Row],[Dif]]>0,carnet2[[#This Row],[Dif]]=0),IF(OR($L4>0,$L4=0),O4+1,1),IF($L4<0,O4-1,-1)),0) -> 0
L6: =IF(carnet2[[#This Row],['#]]<>"",IF(carnet2[[#This Row],[Lot]]<0,carnet2[[#This Row],[Ouverture]]-carnet2[[#This Row],[Fermeture]],carnet2[[#This Row],[Fermeture]]-carnet2[[#This Row],[Ouverture]]),0) -> 0 | M6: =M5+carnet2[Dif] -> 0 | N6: =N5+carnet2[[#This Row],[Gain]] -> 0 | O6: =IF(carnet2[[#This Row],['#]]<>0,IF(OR(carnet2[[#This Row],[Dif]]>0,carnet2[[#This Row],[Dif]]=0),IF(OR($L5>0,$L5=0),O5+1,1),IF($L5<0,O5-1,-1)),0) -> 0
L7: =IF(carnet2[[#This Row],['#]]<>"",IF(carnet2[[#This Row],[Lot]]<0,carnet2[[#This Row],[Ouverture]]-carnet2[[#This Row],[Fermeture]],carnet2[[#This Row],[Fermeture]]-carnet2[[#This Row],[Ouverture]]),0) -> 0 | M7: =M6+carnet2[Dif] -> 0 | N7: =N6+carnet2[[#This Row],[Gain]] -> 0 | O7: =IF(carnet2[[#This Row],['#]]<>0,IF(OR(carnet2[[#This Row],[Dif]]>0,carnet2[[#This Row],[Dif]]=0),IF(OR($L6>0,$L6=0),O6+1,1),IF($L6<0,O6-1,-1)),0) -> 0
A8: EVO | B8: Cap. | C8: Pts | L8: =IF(carnet2[[#This Row],['#]]<>"",IF(carnet2[[#This Row],[Lot]]<0,carnet2[[#This Row],[Ouverture]]-carnet2[[#This Row],[Fermeture]],carnet2[[#This Row],[Fermeture]]-carnet2[[#This Row],[Ouverture]]),0) -> 0 | M8: =M7+carnet2[Dif] -> 0 | N8: =N7+carnet2[[#This Row],[Gain]] -> 0 | O8: =IF(carnet2[[#This Row],['#]]<>0,IF(OR(carnet2[[#This Row],[Dif]]>0,carnet2[[#This Row],[Dif]]=0),IF(OR($L7>0,$L7=0),O7+1,1),IF($L7<0,O7-1,-1)),0) -> 0
A9: Max down | B9: =_xlfn.MINIFS(carnet2[Capital],carnet2[Capital],"<>0") -> 0 | C9: =_xlfn.MINIFS(carnet2[Pts],carnet2[Pts],"<>0") -> 0 | L9: =IF(carnet2[[#This Row],['#]]<>"",IF(carnet2[[#This Row],[Lot]]<0,carnet2[[#This Row],[Ouverture]]-carnet2[[#This Row],[Fermeture]],carnet2[[#This Row],[Fermeture]]-carnet2[[#This Row],[Ouverture]]),0) -> 0 | M9: =M8+carnet2[Dif] -> 0 | N9: =N8+carnet2[[#This Row],[Gain]] -> 0 | O9: =IF(carnet2[[#This Row],['#]]<>0,IF(OR(carnet2[[#This Row],[Dif]]>0,carnet2[[#This Row],[Dif]]=0),IF(OR($L8>0,$L8=0),O8+1,1),IF($L8<0,O8-1,-1)),0) -> 0
A10: Résultat | B10: =SUM(carnet2[Gain]) -> 0 | C10: =SUM(carnet2[Dif]) -> 0 | L10: =IF(carnet2[[#This Row],['#]]<>"",IF(carnet2[[#This Row],[Lot]]<0,carnet2[[#This Row],[Ouverture]]-carnet2[[#This Row],[Fermeture]],carnet2[[#This Row],[Fermeture]]-carnet2[[#This Row],[Ouverture]]),0) -> 0 | M10: =M9+carnet2[Dif] -> 0 | N10: =N9+carnet2[[#This Row],[Gain]] -> 0 | O10: =IF(carnet2[[#This Row],['#]]<>0,IF(OR(carnet2[[#This Row],[Dif]]>0,carnet2[[#This Row],[Dif]]=0),IF(OR($L9>0,$L9=0),O9+1,1),IF($L9<0,O9-1,-1)),0) -> 0
A11: Max Up | B11: =_xlfn.MAXIFS(carnet2[Capital],carnet2[Capital],"<>0") -> 0 | C11: =_xlfn.MAXIFS(carnet2[Pts],carnet2[Pts],"<>0") -> 0 | L11: =IF(carnet2[[#This Row],['#]]<>"",IF(carnet2[[#This Row],[Lot]]<0,carnet2[[#This Row],[Ouverture]]-carnet2[[#This Row],[Fermeture]],carnet2[[#This Row],[Fermeture]]-carnet2[[#This Row],[Ouverture]]),0) -> 0 | M11: =M10+carnet2[Dif] -> 0 | N11: =N10+carnet2[[#This Row],[Gain]] -> 0 | O11: =IF(carnet2[[#This Row],['#]]<>0,IF(OR(carnet2[[#This Row],[Dif]]>0,carnet2[[#This Row],[Dif]]=0),IF(OR($L10>0,$L10=0),O10+1,1),IF($L10<0,O10-1,-1)),0) -> 0
L12: =IF(carnet2[[#This Row],['#]]<>"",IF(carnet2[[#This Row],[Lot]]<0,carnet2[[#This Row],[Ouverture]]-carnet2[[#This Row],[Fermeture]],carnet2[[#This Row],[Fermeture]]-carnet2[[#This Row],[Ouverture]]),0) -> 0 | M12: =M11+carnet2[Dif] -> 0 | N12: =N11+carnet2[[#This Row],[Gain]] -> 0 | O12: =IF(carnet2[[#This Row],['#]]<>0,IF(OR(carnet2[[#This Row],[Dif]]>0,carnet2[[#This Row],[Dif]]=0),IF(OR($L11>0,$L11=0),O11+1,1),IF($L11<0,O11-1,-1)),0) -> 0
A13: Trades | B13: Gagn. | C13: Perd. | D13: Flat | L13: =IF(carnet2[[#This Row],['#]]<>"",IF(carnet2[[#This Row],[Lot]]<0,carnet2[[#This Row],[Ouverture]]-carnet2[[#This Row],[Fermeture]],carnet2[[#This Row],[Fermeture]]-carnet2[[#This Row],[Ouverture]]),0) -> 0 | M13: =M12+carnet2[Dif] -> 0 | N13: =N12+carnet2[[#This Row],[Gain]] -> 0 | O13: =IF(carnet2[[#This Row],['#]]<>0,IF(OR(carnet2[[#This Row],[Dif]]>0,carnet2[[#This Row],[Dif]]=0),IF(OR($L12>0,$L12=0),O12+1,1),IF($L12<0,O12-1,-1)),0) -> 0
A14: Nb | B14: =COUNTIF(carnet2[Dif],">0") -> 0 | C14: =COUNTIF(carnet2[Dif],"<0") -> 0 | D14: =IF($A$5<>0,COUNTIF(carnet2[Dif],"=0,0"),0) -> 0 | L14: =IF(carnet2[[#This Row],['#]]<>"",IF(carnet2[[#This Row],[Lot]]<0,carnet2[[#This Row],[Ouverture]]-carnet2[[#This Row],[Fermeture]],carnet2[[#This Row],[Fermeture]]-carnet2[[#This Row],[Ouverture]]),0) -> 0 | M14: =M13+carnet2[Dif] -> 0 | N14: =N13+carnet2[[#This Row],[Gain]] -> 0 | O14: =IF(carnet2[[#This Row],['#]]<>0,IF(OR(carnet2[[#This Row],[Dif]]>0,carnet2[[#This Row],[Dif]]=0),IF(OR($L13>0,$L13=0),O13+1,1),IF($L13<0,O13-1,-1)),0) -> 0
A15: % | B15: =IF($A$5<>0,B14/$A$5,0) -> 0 | C15: =IF($A$5<>0,C14/$A$5,0) -> 0 | D15: =IF($A$5<>0,D14/$A$5,0) -> 0 | L15: =IF(carnet2[[#This Row],['#]]<>"",IF(carnet2[[#This Row],[Lot]]<0,carnet2[[#This Row],[Ouverture]]-carnet2[[#This Row],[Fermeture]],carnet2[[#This Row],[Fermeture]]-carnet2[[#This Row],[Ouverture]]),0) -> 0 | M15: =M14+carnet2[Dif] -> 0 | N15: =N14+carnet2[[#This Row],[Gain]] -> 0 | O15: =IF(carnet2[[#This Row],['#]]<>0,IF(OR(carnet2[[#This Row],[Dif]]>0,carnet2[[#This Row],[Dif]]=0),IF(OR($L14>0,$L14=0),O14+1,1),IF($L14<0,O14-1,-1)),0) -> 0
A16: Série | B16: =MAX(carnet2[Série]) -> 0 | C16: =ABS(MIN(carnet2[Série])) -> 0 | L16: =IF(carnet2[[#This Row],['#]]<>"",IF(carnet2[[#This Row],[Lot]]<0,carnet2[[#This Row],[Ouverture]]-carnet2[[#This Row],[Fermeture]],carnet2[[#This Row],[Fermeture]]-carnet2[[#This Row],[Ouverture]]),0) -> 0 | M16: =M15+carnet2[Dif] -> 0 | N16: =N15+carnet2[[#This Row],[Gain]] -> 0 | O16: =IF(carnet2[[#This Row],['#]]<>0,IF(OR(carnet2[[#This Row],[Dif]]>0,carnet2[[#This Row],[Dif]]=0),IF(OR($L15>0,$L15=0),O15+1,1),IF($L15<0,O15-1,-1)),0) -> 0
A17: Moyen | B17: =IF(A5<>0,AVERAGEIF(carnet2[Dif],">0",carnet2[Gain]),0) -> 0 | C17: =IF(MIN(carnet2[Dif])<0,IF(A5<>0,AVERAGEIF(carnet2[Dif],"<0",carnet2[Gain]),0),0) -> 0 | L17: =IF(carnet2[[#This Row],['#]]<>"",IF(carnet2[[#This Row],[Lot]]<0,carnet2[[#This Row],[Ouverture]]-carnet2[[#This Row],[Fermeture]],carnet2[[#This Row],[Fermeture]]-carnet2[[#This Row],[Ouverture]]),0) -> 0 | M17: =M16+carnet2[Dif] -> 0 | N17: =N16+carnet2[[#This Row],[Gain]] -> 0 | O17: =IF(carnet2[[#This Row],['#]]<>0,IF(OR(carnet2[[#This Row],[Dif]]>0,carnet2[[#This Row],[Dif]]=0),IF(OR($L16>0,$L16=0),O16+1,1),IF($L16<0,O16-1,-1)),0) -> 0
A18: Max | B18: =_xlfn.MAXIFS(carnet2[Gain],carnet2[Gain],">0") -> 0 | C18: =_xlfn.MINIFS(carnet2[Gain],carnet2[Gain],"<0") -> 0 | L18: =IF(carnet2[[#This Row],['#]]<>"",IF(carnet2[[#This Row],[Lot]]<0,carnet2[[#This Row],[Ouverture]]-carnet2[[#This Row],[Fermeture]],carnet2[[#This Row],[Fermeture]]-carnet2[[#This Row],[Ouverture]]),0) -> 0 | M18: =M17+carnet2[Dif] -> 0 | N18: =N17+carnet2[[#This Row],[Gain]] -> 0 | O18: =IF(carnet2[[#This Row],['#]]<>0,IF(OR(carnet2[[#This Row],[Dif]]>0,carnet2[[#This Row],[Dif]]=0),IF(OR($L17>0,$L17=0),O17+1,1),IF($L17<0,O17-1,-1)),0) -> 0
A19: Total | B19: =SUMIF(carnet2[Gain],">0",carnet2[Gain]) -> 0 | C19: =SUMIF(carnet2[Gain],"<0",carnet2[Gain]) -> 0 | L19: =IF(carnet2[[#This Row],['#]]<>"",IF(carnet2[[#This Row],[Lot]]<0,carnet2[[#This Row],[Ouverture]]-carnet2[[#This Row],[Fermeture]],carnet2[[#This Row],[Fermeture]]-carnet2[[#This Row],[Ouverture]]),0) -> 0 | M19: =M18+carnet2[Dif] -> 0 | N19: =N18+carnet2[[#This Row],[Gain]] -> 0 | O19: =IF(carnet2[[#This Row],['#]]<>0,IF(OR(carnet2[[#This Row],[Dif]]>0,carnet2[[#This Row],[Dif]]=0),IF(OR($L18>0,$L18=0),O18+1,1),IF($L18<0,O18-1,-1)),0) -> 0
A20: Moyen pts | B20: =IF(A5<>0,AVERAGEIF(carnet2[Dif],">0",carnet2[Dif]),0) -> 0 | C20: =IF(A5<>0,AVERAGEIF(carnet2[Dif],"<0",carnet2[Dif]),0) -> 0 | L20: =IF(carnet2[[#This Row],['#]]<>"",IF(carnet2[[#This Row],[Lot]]<0,carnet2[[#This Row],[Ouverture]]-carnet2[[#This Row],[Fermeture]],carnet2[[#This Row],[Fermeture]]-carnet2[[#This Row],[Ouverture]]),0) -> 0 | M20: =M19+carnet2[Dif] -> 0 | N20: =N19+carnet2[[#This Row],[Gain]] -> 0 | O20: =IF(carnet2[[#This Row],['#]]<>0,IF(OR(carnet2[[#This Row],[Dif]]>0,carnet2[[#This Row],[Dif]]=0),IF(OR($L19>0,$L19=0),O19+1,1),IF($L19<0,O19-1,-1)),0) -> 0
A21: Max pts | B21: =_xlfn.MAXIFS(carnet2[Dif],carnet2[Dif],">0") -> 0 | C21: =_xlfn.MINIFS(carnet2[Dif],carnet2[Dif],"<0") -> 0 | L21: =IF(carnet2[[#This Row],['#]]<>"",IF(carnet2[[#This Row],[Lot]]<0,carnet2[[#This Row],[Ouverture]]-carnet2[[#This Row],[Fermeture]],carnet2[[#This Row],[Fermeture]]-carnet2[[#This Row],[Ouverture]]),0) -> 0 | M21: =M20+carnet2[Dif] -> 0 | N21: =N20+carnet2[[#This Row],[Gain]] -> 0 | O21: =IF(carnet2[[#This Row],['#]]<>0,IF(OR(carnet2[[#This Row],[Dif]]>0,carnet2[[#This Row],[Dif]]=0),IF(OR($L20>0,$L20=0),O20+1,1),IF($L20<0,O20-1,-1)),0) -> 0
A22: Total pts | B22: =SUMIF(carnet2[Dif],">0",carnet2[Dif]) -> 0 | C22: =SUMIF(carnet2[Dif],"<0",carnet2[Dif]) -> 0 | L22: =IF(carnet2[[#This Row],['#]]<>"",IF(carnet2[[#This Row],[Lot]]<0,carnet2[[#This Row],[Ouverture]]-carnet2[[#This Row],[Fermeture]],carnet2[[#This Row],[Fermeture]]-carnet2[[#This Row],[Ouverture]]),0) -> 0 | M22: =M21+carnet2[Dif] -> 0 | N22: =N21+carnet2[[#This Row],[Gain]] -> 0 | O22: =IF(carnet2[[#This Row],['#]]<>0,IF(OR(carnet2[[#This Row],[Dif]]>0,carnet2[[#This Row],[Dif]]=0),IF(OR($L21>0,$L21=0),O21+1,1),IF($L21<0,O21-1,-1)),0) -> 0
L23: =IF(carnet2[[#This Row],['#]]<>"",IF(carnet2[[#This Row],[Lot]]<0,carnet2[[#This Row],[Ouverture]]-carnet2[[#This Row],[Fermeture]],carnet2[[#This Row],[Fermeture]]-carnet2[[#This Row],[Ouverture]]),0) -> 0 | M23: =M22+carnet2[Dif] -> 0 | N23: =N22+carnet2[[#This Row],[Gain]] -> 0 | O23: =IF(carnet2[[#This Row],['#]]<>0,IF(OR(carnet2[[#This Row],[Dif]]>0,carnet2[[#This Row],[Dif]]=0),IF(OR($L22>0,$L22=0),O22+1,1),IF($L22<0,O22-1,-1)),0) -> 0
A24: Profit Factor | B24: =ABS(B19/C19) -> #DIV/0! | L24: =IF(carnet2[[#This Row],['#]]<>"",IF(carnet2[[#This Row],[Lot]]<0,carnet2[[#This Row],[Ouverture]]-carnet2[[#This Row],[Fermeture]],carnet2[[#This Row],[Fermeture]]-carnet2[[#This Row],[Ouverture]]),0) -> 0 | M24: =M23+carnet2[Dif] -> 0 | N24: =N23+carnet2[[#This Row],[Gain]] -> 0 | O24: =IF(carnet2[[#This Row],['#]]<>0,IF(OR(carnet2[[#This Row],[Dif]]>0,carnet2[[#This Row],[Dif]]=0),IF(OR($L23>0,$L23=0),O23+1,1),IF($L23<0,O23-1,-1)),0) -> 0
L25: =IF(carnet2[[#This Row],['#]]<>"",IF(carnet2[[#This Row],[Lot]]<0,carnet2[[#This Row],[Ouverture]]-carnet2[[#This Row],[Fermeture]],carnet2[[#This Row],[Fermeture]]-carnet2[[#This Row],[Ouverture]]),0) -> 0 | M25: =M24+carnet2[Dif] -> 0 | N25: =N24+carnet2[[#This Row],[Gain]] -> 0 | O25: =IF(carnet2[[#This Row],['#]]<>0,IF(OR(carnet2[[#This Row],[Dif]]>0,carnet2[[#This Row],[Dif]]=0),IF(OR($L24>0,$L24=0),O24+1,1),IF($L24<0,O24-1,-1)),0) -> 0
L26: =IF(carnet2[[#This Row],['#]]<>"",IF(carnet2[[#This Row],[Lot]]<0,carnet2[[#This Row],[Ouverture]]-carnet2[[#This Row],[Fermeture]],carnet2[[#This Row],[Fermeture]]-carnet2[[#This Row],[Ouverture]]),0) -> 0 | M26: =M25+carnet2[Dif] -> 0 | N26: =N25+carnet2[[#This Row],[Gain]] -> 0 | O26: =IF(carnet2[[#This Row],['#]]<>0,IF(OR(carnet2[[#This Row],[Dif]]>0,carnet2[[#This Row],[Dif]]=0),IF(OR($L25>0,$L25=0),O25+1,1),IF($L25<0,O25-1,-1)),0) -> 0
L27: =IF(carnet2[[#This Row],['#]]<>"",IF(carnet2[[#This Row],[Lot]]<0,carnet2[[#This Row],[Ouverture]]-carnet2[[#This Row],[Fermeture]],carnet2[[#This Row],[Fermeture]]-carnet2[[#This Row],[Ouverture]]),0) -> 0 | M27: =M26+carnet2[Dif] -> 0 | N27: =N26+carnet2[[#This Row],[Gain]] -> 0 | O27: =IF(carnet2[[#This Row],['#]]<>0,IF(OR(carnet2[[#This Row],[Dif]]>0,carnet2[[#This Row],[Dif]]=0),IF(OR($L26>0,$L26=0),O26+1,1),IF($L26<0,O26-1,-1)),0) -> 0
L28: =IF(carnet2[[#This Row],['#]]<>"",IF(carnet2[[#This Row],[Lot]]<0,carnet2[[#This Row],[Ouverture]]-carnet2[[#This Row],[Fermeture]],carnet2[[#This Row],[Fermeture]]-carnet2[[#This Row],[Ouverture]]),0) -> 0 | M28: =M27+carnet2[Dif] -> 0 | N28: =N27+carnet2[[#This Row],[Gain]] -> 0 | O28: =IF(carnet2[[#This Row],['#]]<>0,IF(OR(carnet2[[#This Row],[Dif]]>0,carnet2[[#This Row],[Dif]]=0),IF(OR($L27>0,$L27=0),O27+1,1),IF($L27<0,O27-1,-1)),0) -> 0
L29: =IF(carnet2[[#This Row],['#]]<>"",IF(carnet2[[#This Row],[Lot]]<0,carnet2[[#This Row],[Ouverture]]-carnet2[[#This Row],[Fermeture]],carnet2[[#This Row],[Fermeture]]-carnet2[[#This Row],[Ouverture]]),0) -> 0 | M29: =M28+carnet2[Dif] -> 0 | N29: =N28+carnet2[[#This Row],[Gain]] -> 0 | O29: =IF(carnet2[[#This Row],['#]]<>0,IF(OR(carnet2[[#This Row],[Dif]]>0,carnet2[[#This Row],[Dif]]=0),IF(OR($L28>0,$L28=0),O28+1,1),IF($L28<0,O28-1,-1)),0) -> 0
L30: =IF(carnet2[[#This Row],['#]]<>"",IF(carnet2[[#This Row],[Lot]]<0,carnet2[[#This Row],[Ouverture]]-carnet2[[#This Row],[Fermeture]],carnet2[[#This Row],[Fermeture]]-carnet2[[#This Row],[Ouverture]]),0) -> 0 | M30: =M29+carnet2[Dif] -> 0 | N30: =N29+carnet2[[#This Row],[Gain]] -> 0 | O30: =IF(carnet2[[#This Row],['#]]<>0,IF(OR(carnet2[[#This Row],[Dif]]>0,carnet2[[#This Row],[Dif]]=0),IF(OR($L29>0,$L29=0),O29+1,1),IF($L29<0,O29-1,-1)),0) -> 0
L31: =IF(carnet2[[#This Row],['#]]<>"",IF(carnet2[[#This Row],[Lot]]<0,carnet2[[#This Row],[Ouverture]]-carnet2[[#This Row],[Fermeture]],carnet2[[#This Row],[Fermeture]]-carnet2[[#This Row],[Ouverture]]),0) -> 0 | M31: =M30+carnet2[Dif] -> 0 | N31: =N30+carnet2[[#This Row],[Gain]] -> 0 | O31: =IF(carnet2[[#This Row],['#]]<>0,IF(OR(carnet2[[#This Row],[Dif]]>0,carnet2[[#This Row],[Dif]]=0),IF(OR($L30>0,$L30=0),O30+1,1),IF($L30<0,O30-1,-1)),0) -> 0

Sheet 22 JUIN 2016
A1: =MID(CELL("nomfichier"),FIND("]",CELL("nomfichier"))+1,20) -> 20 JUIN 2016
F3: # | G3: Marché | H3: Ouverture | I3: Lot | J3: Fermeture | K3: Gain | L3: Dif | M3: Pts | N3: Capital | O3: Série
L4: =IF(carnet3[[#This Row],['#]]<>"",IF(carnet3[[#This Row],[Lot]]<0,carnet3[[#This Row],[Ouverture]]-carnet3[[#This Row],[Fermeture]],carnet3[[#This Row],[Fermeture]]-carnet3[[#This Row],[Ouverture]]),0) -> 0 | M4: 0 | N4: 0 | O4: 0
A5: =MAX(carnet3['#]) -> 0 | C5: Trades | L5: =IF(carnet3[[#This Row],['#]]<>"",IF(carnet3[[#This Row],[Lot]]<0,carnet3[[#This Row],[Ouverture]]-carnet3[[#This Row],[Fermeture]],carnet3[[#This Row],[Fermeture]]-carnet3[[#This Row],[Ouverture]]),0) -> 0 | M5: =M4+carnet3[Dif] -> 0 | N5: =IF(K5<>"",N4+carnet3[[#This Row],[Gain]],N4) -> 0 | O5: =IF(carnet3[[#This Row],['#]]<>"",IF(OR(carnet3[[#This Row],[Dif]]>0,carnet3[[#This Row],[Dif]]=0),IF(OR($L4>0,$L4=0),O4+1,1),IF($L4<0,O4-1,-1)),0) -> 0
L6: =IF(carnet3[[#This Row],['#]]<>"",IF(carnet3[[#This Row],[Lot]]<0,carnet3[[#This Row],[Ouverture]]-carnet3[[#This Row],[Fermeture]],carnet3[[#This Row],[Fermeture]]-carnet3[[#This Row],[Ouverture]]),0) -> 0 | M6: =M5+carnet3[Dif] -> 0 | N6: =IF(K6<>"",N5+carnet3[[#This Row],[Gain]],N5) -> 0 | O6: =IF(carnet3[[#This Row],['#]]<>"",IF(OR(carnet3[[#This Row],[Dif]]>0,carnet3[[#This Row],[Dif]]=0),IF(OR($L5>0,$L5=0),O5+1,1),IF($L5<0,O5-1,-1)),0) -> 0
L7: =IF(carnet3[[#This Row],['#]]<>"",IF(carnet3[[#This Row],[Lot]]<0,carnet3[[#This Row],[Ouverture]]-carnet3[[#This Row],[Fermeture]],carnet3[[#This Row],[Fermeture]]-carnet3[[#This Row],[Ouverture]]),0) -> 0 | M7: =M6+carnet3[Dif] -> 0 | N7: =IF(K7<>"",N6+carnet3[[#This Row],[Gain]],N6) -> 0 | O7: =IF(carnet3[[#This Row],['#]]<>"",IF(OR(carnet3[[#This Row],[Dif]]>0,carnet3[[#This Row],[Dif]]=0),IF(OR($L6>0,$L6=0),O6+1,1),IF($L6<0,O6-1,-1)),0) -> 0
A8: EVO | B8: Cap. | C8: Pts | L8: =IF(carnet3[[#This Row],['#]]<>"",IF(carnet3[[#This Row],[Lot]]<0,carnet3[[#This Row],[Ouverture]]-carnet3[[#This Row],[Fermeture]],carnet3[[#This Row],[Fermeture]]-carnet3[[#This Row],[Ouverture]]),0) -> 0 | M8: =M7+carnet3[Dif] -> 0 | N8: =IF(K8<>"",N7+carnet3[[#This Row],[Gain]],N7) -> 0 | O8: =IF(carnet3[[#This Row],['#]]<>"",IF(OR(carnet3[[#This Row],[Dif]]>0,carnet3[[#This Row],[Dif]]=0),IF(OR($L7>0,$L7=0),O7+1,1),IF($L7<0,O7-1,-1)),0) -> 0
A9: Max down | B9: =_xlfn.MINIFS(carnet3[Capital],carnet3[Capital],"<>0") -> 0 | C9: =_xlfn.MINIFS(carnet3[Pts],carnet3[Pts],"<>0") -> 0 | L9: =IF(carnet3[[#This Row],['#]]<>"",IF(carnet3[[#This Row],[Lot]]<0,carnet3[[#This Row],[Ouverture]]-carnet3[[#This Row],[Fermeture]],carnet3[[#This Row],[Fermeture]]-carnet3[[#This Row],[Ouverture]]),0) -> 0 | M9: =M8+carnet3[Dif] -> 0 | N9: =IF(K9<>"",N8+carnet3[[#This Row],[Gain]],N8) -> 0 | O9: =IF(carnet3[[#This Row],['#]]<>"",IF(OR(carnet3[[#This Row],[Dif]]>0,carnet3[[#This Row],[Dif]]=0),IF(OR($L8>0,$L8=0),O8+1,1),IF($L8<0,O8-1,-1)),0) -> 0
A10: Résultat | B10: =SUM(carnet3[Gain]) -> 0 | C10: =SUM(carnet3[Dif]) -> 0 | L10: =IF(carnet3[[#This Row],['#]]<>"",IF(carnet3[[#This Row],[Lot]]<0,carnet3[[#This Row],[Ouverture]]-carnet3[[#This Row],[Fermeture]],carnet3[[#This Row],[Fermeture]]-carnet3[[#This Row],[Ouverture]]),0) -> 0 | M10: =M9+carnet3[Dif] -> 0 | N10: =IF(K10<>"",N9+carnet3[[#This Row],[Gain]],N9) -> 0 | O10: =IF(carnet3[[#This Row],['#]]<>"",IF(OR(carnet3[[#This Row],[Dif]]>0,carnet3[[#This Row],[Dif]]=0),IF(OR($L9>0,$L9=0),O9+1,1),IF($L9<0,O9-1,-1)),0) -> 0
A11: Max Up | B11: =_xlfn.MAXIFS(carnet3[Capital],carnet3[Capital],"<>0") -> 0 | C11: =_xlfn.MAXIFS(carnet3[Pts],carnet3[Pts],"<>0") -> 0 | L11: =IF(carnet3[[#This Row],['#]]<>"",IF(carnet3[[#This Row],[Lot]]<0,carnet3[[#This Row],[Ouverture]]-carnet3[[#This Row],[Fermeture]],carnet3[[#This Row],[Fermeture]]-carnet3[[#This Row],[Ouverture]]),0) -> 0 | M11: =M10+carnet3[Dif] -> 0 | N11: =IF(K11<>"",N10+carnet3[[#This Row],[Gain]],N10) -> 0 | O11: =IF(carnet3[[#This Row],['#]]<>"",IF(OR(carnet3[[#This Row],[Dif]]>0,carnet3[[#This Row],[Dif]]=0),IF(OR($L10>0,$L10=0),O10+1,1),IF($L10<0,O10-1,-1)),0) -> 0
L12: =IF(carnet3[[#This Row],['#]]<>"",IF(carnet3[[#This Row],[Lot]]<0,carnet3[[#This Row],[Ouverture]]-carnet3[[#This Row],[Fermeture]],carnet3[[#This Row],[Fermeture]]-carnet3[[#This Row],[Ouverture]]),0) -> 0 | M12: =M11+carnet3[Dif] -> 0 | N12: =IF(K12<>"",N11+carnet3[[#This Row],[Gain]],N11) -> 0 | O12: =IF(carnet3[[#This Row],['#]]<>"",IF(OR(carnet3[[#This Row],[Dif]]>0,carnet3[[#This Row],[Dif]]=0),IF(OR($L11>0,$L11=0),O11+1,1),IF($L11<0,O11-1,-1)),0) -> 0
A13: Trades | B13: Gagn. | C13: Perd. | D13: Flat | L13: =IF(carnet3[[#This Row],['#]]<>"",IF(carnet3[[#This Row],[Lot]]<0,carnet3[[#This Row],[Ouverture]]-carnet3[[#This Row],[Fermeture]],carnet3[[#This Row],[Fermeture]]-carnet3[[#This Row],[Ouverture]]),0) -> 0 | M13: =M12+carnet3[Dif] -> 0 | N13: =IF(K13<>"",N12+carnet3[[#This Row],[Gain]],N12) -> 0 | O13: =IF(carnet3[[#This Row],['#]]<>"",IF(OR(carnet3[[#This Row],[Dif]]>0,carnet3[[#This Row],[Dif]]=0),IF(OR($L12>0,$L12=0),O12+1,1),IF($L12<0,O12-1,-1)),0) -> 0
A14: Nb | B14: =COUNTIF(carnet3[Dif],">0") -> 0 | C14: =COUNTIF(carnet3[Dif],"<0") -> 0 | D14: =IF($A$5<>0,COUNTIF(carnet3[Dif],"=0,0"),0) -> 0 | L14: =IF(carnet3[[#This Row],['#]]<>"",IF(carnet3[[#This Row],[Lot]]<0,carnet3[[#This Row],[Ouverture]]-carnet3[[#This Row],[Fermeture]],carnet3[[#This Row],[Fermeture]]-carnet3[[#This Row],[Ouverture]]),0) -> 0 | M14: =M13+carnet3[Dif] -> 0 | N14: =IF(K14<>"",N13+carnet3[[#This Row],[Gain]],N13) -> 0 | O14: =IF(carnet3[[#This Row],['#]]<>"",IF(OR(carnet3[[#This Row],[Dif]]>0,carnet3[[#This Row],[Dif]]=0),IF(OR($L13>0,$L13=0),O13+1,1),IF($L13<0,O13-1,-1)),0) -> 0
A15: % | B15: =IF($A$5<>0,B14/$A$5,0) -> 0 | C15: =IF($A$5<>0,C14/$A$5,0) -> 0 | D15: =IF($A$5<>0,D14/$A$5,0) -> 0 | L15: =IF(carnet3[[#This Row],['#]]<>"",IF(carnet3[[#This Row],[Lot]]<0,carnet3[[#This Row],[Ouverture]]-carnet3[[#This Row],[Fermeture]],carnet3[[#This Row],[Fermeture]]-carnet3[[#This Row],[Ouverture]]),0) -> 0 | M15: =M14+carnet3[Dif] -> 0 | N15: =IF(K15<>"",N14+carnet3[[#This Row],[Gain]],N14) -> 0 | O15: =IF(carnet3[[#This Row],['#]]<>"",IF(OR(carnet3[[#This Row],[Dif]]>0,carnet3[[#This Row],[Dif]]=0),IF(OR($L14>0,$L14=0),O14+1,1),IF($L14<0,O14-1,-1)),0) -> 0
A16: Série | B16: =MAX(carnet3[Série]) -> 0 | C16: =ABS(MIN(carnet3[Série])) -> 0 | L16: =IF(carnet3[[#This Row],['#]]<>"",IF(carnet3[[#This Row],[Lot]]<0,carnet3[[#This Row],[Ouverture]]-carnet3[[#This Row],[Fermeture]],carnet3[[#This Row],[Fermeture]]-carnet3[[#This Row],[Ouverture]]),0) -> 0 | M16: =M15+carnet3[Dif] -> 0 | N16: =IF(K16<>"",N15+carnet3[[#This Row],[Gain]],N15) -> 0 | O16: =IF(carnet3[[#This Row],['#]]<>"",IF(OR(carnet3[[#This Row],[Dif]]>0,carnet3[[#This Row],[Dif]]=0),IF(OR($L15>0,$L15=0),O15+1,1),IF($L15<0,O15-1,-1)),0) -> 0
A17: Moyen | B17: =IF(A5<>0,AVERAGEIF(carnet3[Dif],">0",carnet3[Gain]),0) -> 0 | C17: =IF(MIN(carnet3[Dif])<0,IF(A5<>0,AVERAGEIF(carnet3[Dif],"<0",carnet3[Gain]),0),0) -> 0 | L17: =IF(carnet3[[#This Row],['#]]<>"",IF(carnet3[[#This Row],[Lot]]<0,carnet3[[#This Row],[Ouverture]]-carnet3[[#This Row],[Fermeture]],carnet3[[#This Row],[Fermeture]]-carnet3[[#This Row],[Ouverture]]),0) -> 0 | M17: =M16+carnet3[Dif] -> 0 | N17: =IF(K17<>"",N16+carnet3[[#This Row],[Gain]],N16) -> 0 | O17: =IF(carnet3[[#This Row],['#]]<>"",IF(OR(carnet3[[#This Row],[Dif]]>0,carnet3[[#This Row],[Dif]]=0),IF(OR($L16>0,$L16=0),O16+1,1),IF($L16<0,O16-1,-1)),0) -> 0
A18: Max | B18: =_xlfn.MAXIFS(carnet3[Gain],carnet3[Gain],">0") -> 0 | C18: =_xlfn.MINIFS(carnet3[Gain],carnet3[Gain],"<0") -> 0 | L18: =IF(carnet3[[#This Row],['#]]<>"",IF(carnet3[[#This Row],[Lot]]<0,carnet3[[#This Row],[Ouverture]]-carnet3[[#This Row],[Fermeture]],carnet3[[#This Row],[Fermeture]]-carnet3[[#This Row],[Ouverture]]),0) -> 0 | M18: =M17+carnet3[Dif] -> 0 | N18: =IF(K18<>"",N17+carnet3[[#This Row],[Gain]],N17) -> 0 | O18: =IF(carnet3[[#This Row],['#]]<>"",IF(OR(carnet3[[#This Row],[Dif]]>0,carnet3[[#This Row],[Dif]]=0),IF(OR($L17>0,$L17=0),O17+1,1),IF($L17<0,O17-1,-1)),0) -> 0
A19: Total | B19: =SUMIF(carnet3[Gain],">0",carnet3[Gain]) -> 0 | C19: =SUMIF(carnet3[Gain],"<0",carnet3[Gain]) -> 0 | L19: =IF(carnet3[[#This Row],['#]]<>"",IF(carnet3[[#This Row],[Lot]]<0,carnet3[[#This Row],[Ouverture]]-carnet3[[#This Row],[Fermeture]],carnet3[[#This Row],[Fermeture]]-carnet3[[#This Row],[Ouverture]]),0) -> 0 | M19: =M18+carnet3[Dif] -> 0 | N19: =IF(K19<>"",N18+carnet3[[#This Row],[Gain]],N18) -> 0 | O19: =IF(carnet3[[#This Row],['#]]<>"",IF(OR(carnet3[[#This Row],[Dif]]>0,carnet3[[#This Row],[Dif]]=0),IF(OR($L18>0,$L18=0),O18+1,1),IF($L18<0,O18-1,-1)),0) -> 0
A20: Moyen pts | B20: =IF(A5<>0,AVERAGEIF(carnet3[Dif],">0",carnet3[Dif]),0) -> 0 | C20: =IF(A5<>0,AVERAGEIF(carnet3[Dif],"<0",carnet3[Dif]),0) -> 0 | L20: =IF(carnet3[[#This Row],['#]]<>"",IF(carnet3[[#This Row],[Lot]]<0,carnet3[[#This Row],[Ouverture]]-carnet3[[#This Row],[Fermeture]],carnet3[[#This Row],[Fermeture]]-carnet3[[#This Row],[Ouverture]]),0) -> 0 | M20: =M19+carnet3[Dif] -> 0 | N20: =IF(K20<>"",N19+carnet3[[#This Row],[Gain]],N19) -> 0 | O20: =IF(carnet3[[#This Row],['#]]<>"",IF(OR(carnet3[[#This Row],[Dif]]>0,carnet3[[#This Row],[Dif]]=0),IF(OR($L19>0,$L19=0),O19+1,1),IF($L19<0,O19-1,-1)),0) -> 0
A21: Max pts | B21: =_xlfn.MAXIFS(carnet3[Dif],carnet3[Dif],">0") -> 0 | C21: =_xlfn.MINIFS(carnet3[Dif],carnet3[Dif],"<0") -> 0 | L21: =IF(carnet3[[#This Row],['#]]<>"",IF(carnet3[[#This Row],[Lot]]<0,carnet3[[#This Row],[Ouverture]]-carnet3[[#This Row],[Fermeture]],carnet3[[#This Row],[Fermeture]]-carnet3[[#This Row],[Ouverture]]),0) -> 0 | M21: =M20+carnet3[Dif] -> 0 | N21: =IF(K21<>"",N20+carnet3[[#This Row],[Gain]],N20) -> 0 | O21: =IF(carnet3[[#This Row],['#]]<>"",IF(OR(carnet3[[#This Row],[Dif]]>0,carnet3[[#This Row],[Dif]]=0),IF(OR($L20>0,$L20=0),O20+1,1),IF($L20<0,O20-1,-1)),0) -> 0
A22: Total pts | B22: =SUMIF(carnet3[Dif],">0",carnet3[Dif]) -> 0 | C22: =SUMIF(carnet3[Dif],"<0",carnet3[Dif]) -> 0 | L22: =IF(carnet3[[#This Row],['#]]<>"",IF(carnet3[[#This Row],[Lot]]<0,carnet3[[#This Row],[Ouverture]]-carnet3[[#This Row],[Fermeture]],carnet3[[#This Row],[Fermeture]]-carnet3[[#This Row],[Ouverture]]),0) -> 0 | M22: =M21+carnet3[Dif] -> 0 | N22: =IF(K22<>"",N21+carnet3[[#This Row],[Gain]],N21) -> 0 | O22: =IF(carnet3[[#This Row],['#]]<>"",IF(OR(carnet3[[#This Row],[Dif]]>0,carnet3[[#This Row],[Dif]]=0),IF(OR($L21>0,$L21=0),O21+1,1),IF($L21<0,O21-1,-1)),0) -> 0
L23: =IF(carnet3[[#This Row],['#]]<>"",IF(carnet3[[#This Row],[Lot]]<0,carnet3[[#This Row],[Ouverture]]-carnet3[[#This Row],[Fermeture]],carnet3[[#This Row],[Fermeture]]-carnet3[[#This Row],[Ouverture]]),0) -> 0 | M23: =M22+carnet3[Dif] -> 0 | N23: =IF(K23<>"",N22+carnet3[[#This Row],[Gain]],N22) -> 0 | O23: =IF(carnet3[[#This Row],['#]]<>"",IF(OR(carnet3[[#This Row],[Dif]]>0,carnet3[[#This Row],[Dif]]=0),IF(OR($L22>0,$L22=0),O22+1,1),IF($L22<0,O22-1,-1)),0) -> 0
A24: Profit Factor | B24: =ABS(B19/C19) -> #DIV/0!

Sheet 23 JUIN 2016
A1: =MID(CELL("nomfichier"),FIND("]",CELL("nomfichier"))+1,20) -> 20 JUIN 2016
F3: # | G3: Marché | H3: Ouverture | I3: Lot | J3: Fermeture | K3: Gain | L3: Dif | M3: Pts | N3: Capital | O3: Série
L4: =IF(carnet4[[#This Row],['#]]<>"",IF(carnet4[[#This Row],[Lot]]<0,carnet4[[#This Row],[Ouverture]]-carnet4[[#This Row],[Fermeture]],carnet4[[#This Row],[Fermeture]]-carnet4[[#This Row],[Ouverture]]),0) -> 0 | M4: 0 | N4: 0 | O4: 0
A5: =MAX(carnet4['#]) -> 0 | C5: Trades | L5: =IF(carnet4[[#This Row],['#]]<>"",IF(carnet4[[#This Row],[Lot]]<0,carnet4[[#This Row],[Ouverture]]-carnet4[[#This Row],[Fermeture]],carnet4[[#This Row],[Fermeture]]-carnet4[[#This Row],[Ouverture]]),0) -> 0 | M5: =M4+carnet4[Dif] -> 0 | N5: =IF(K5<>"",N4+carnet4[[#This Row],[Gain]],N4) -> 0 | O5: =IF(carnet4[[#This Row],['#]]<>"",IF(OR(carnet4[[#This Row],[Dif]]>0,carnet4[[#This Row],[Dif]]=0),IF(OR($L4>0,$L4=0),O4+1,1),IF($L4<0,O4-1,-1)),0) -> 0
L6: =IF(carnet4[[#This Row],['#]]<>"",IF(carnet4[[#This Row],[Lot]]<0,carnet4[[#This Row],[Ouverture]]-carnet4[[#This Row],[Fermeture]],carnet4[[#This Row],[Fermeture]]-carnet4[[#This Row],[Ouverture]]),0) -> 0 | M6: =M5+carnet4[Dif] -> 0 | N6: =IF(K6<>"",N5+carnet4[[#This Row],[Gain]],N5) -> 0 | O6: =IF(carnet4[[#This Row],['#]]<>"",IF(OR(carnet4[[#This Row],[Dif]]>0,carnet4[[#This Row],[Dif]]=0),IF(OR($L5>0,$L5=0),O5+1,1),IF($L5<0,O5-1,-1)),0) -> 0
L7: =IF(carnet4[[#This Row],['#]]<>"",IF(carnet4[[#This Row],[Lot]]<0,carnet4[[#This Row],[Ouverture]]-carnet4[[#This Row],[Fermeture]],carnet4[[#This Row],[Fermeture]]-carnet4[[#This Row],[Ouverture]]),0) -> 0 | M7: =M6+carnet4[Dif] -> 0 | N7: =IF(K7<>"",N6+carnet4[[#This Row],[Gain]],N6) -> 0 | O7: =IF(carnet4[[#This Row],['#]]<>"",IF(OR(carnet4[[#This Row],[Dif]]>0,carnet4[[#This Row],[Dif]]=0),IF(OR($L6>0,$L6=0),O6+1,1),IF($L6<0,O6-1,-1)),0) -> 0
A8: EVO | B8: Cap. | C8: Pts | L8: =IF(carnet4[[#This Row],['#]]<>"",IF(carnet4[[#This Row],[Lot]]<0,carnet4[[#This Row],[Ouverture]]-carnet4[[#This Row],[Fermeture]],carnet4[[#This Row],[Fermeture]]-carnet4[[#This Row],[Ouverture]]),0) -> 0 | M8: =M7+carnet4[Dif] -> 0 | N8: =IF(K8<>"",N7+carnet4[[#This Row],[Gain]],N7) -> 0 | O8: =IF(carnet4[[#This Row],['#]]<>"",IF(OR(carnet4[[#This Row],[Dif]]>0,carnet4[[#This Row],[Dif]]=0),IF(OR($L7>0,$L7=0),O7+1,1),IF($L7<0,O7-1,-1)),0) -> 0
A9: Max down | B9: =_xlfn.MINIFS(carnet4[Capital],carnet4[Capital],"<>0") -> 0 | C9: =_xlfn.MINIFS(carnet4[Pts],carnet4[Pts],"<>0") -> 0 | L9: =IF(carnet4[[#This Row],['#]]<>"",IF(carnet4[[#This Row],[Lot]]<0,carnet4[[#This Row],[Ouverture]]-carnet4[[#This Row],[Fermeture]],carnet4[[#This Row],[Fermeture]]-carnet4[[#This Row],[Ouverture]]),0) -> 0 | M9: =M8+carnet4[Dif] -> 0 | N9: =IF(K9<>"",N8+carnet4[[#This Row],[Gain]],N8) -> 0 | O9: =IF(carnet4[[#This Row],['#]]<>"",IF(OR(carnet4[[#This Row],[Dif]]>0,carnet4[[#This Row],[Dif]]=0),IF(OR($L8>0,$L8=0),O8+1,1),IF($L8<0,O8-1,-1)),0) -> 0
A10: Résultat | B10: =SUM(carnet4[Gain]) -> 0 | C10: =SUM(carnet4[Dif]) -> 0 | L10: =IF(carnet4[[#This Row],['#]]<>"",IF(carnet4[[#This Row],[Lot]]<0,carnet4[[#This Row],[Ouverture]]-carnet4[[#This Row],[Fermeture]],carnet4[[#This Row],[Fermeture]]-carnet4[[#This Row],[Ouverture]]),0) -> 0 | M10: =M9+carnet4[Dif] -> 0 | N10: =IF(K10<>"",N9+carnet4[[#This Row],[Gain]],N9) -> 0 | O10: =IF(carnet4[[#This Row],['#]]<>"",IF(OR(carnet4[[#This Row],[Dif]]>0,carnet4[[#This Row],[Dif]]=0),IF(OR($L9>0,$L9=0),O9+1,1),IF($L9<0,O9-1,-1)),0) -> 0
A11: Max Up | B11: =_xlfn.MAXIFS(carnet4[Capital],carnet4[Capital],"<>0") -> 0 | C11: =_xlfn.MAXIFS(carnet4[Pts],carnet4[Pts],"<>0") -> 0 | L11: =IF(carnet4[[#This Row],['#]]<>"",IF(carnet4[[#This Row],[Lot]]<0,carnet4[[#This Row],[Ouverture]]-carnet4[[#This Row],[Fermeture]],carnet4[[#This Row],[Fermeture]]-carnet4[[#This Row],[Ouverture]]),0) -> 0 | M11: =M10+carnet4[Dif] -> 0 | N11: =IF(K11<>"",N10+carnet4[[#This Row],[Gain]],N10) -> 0 | O11: =IF(carnet4[[#This Row],['#]]<>"",IF(OR(carnet4[[#This Row],[Dif]]>0,carnet4[[#This Row],[Dif]]=0),IF(OR($L10>0,$L10=0),O10+1,1),IF($L10<0,O10-1,-1)),0) -> 0
L12: =IF(carnet4[[#This Row],['#]]<>"",IF(carnet4[[#This Row],[Lot]]<0,carnet4[[#This Row],[Ouverture]]-carnet4[[#This Row],[Fermeture]],carnet4[[#This Row],[Fermeture]]-carnet4[[#This Row],[Ouverture]]),0) -> 0 | M12: =M11+carnet4[Dif] -> 0 | N12: =IF(K12<>"",N11+carnet4[[#This Row],[Gain]],N11) -> 0 | O12: =IF(carnet4[[#This Row],['#]]<>"",IF(OR(carnet4[[#This Row],[Dif]]>0,carnet4[[#This Row],[Dif]]=0),IF(OR($L11>0,$L11=0),O11+1,1),IF($L11<0,O11-1,-1)),0) -> 0
A13: Trades | B13: Gagn. | C13: Perd. | D13: Flat | L13: =IF(carnet4[[#This Row],['#]]<>"",IF(carnet4[[#This Row],[Lot]]<0,carnet4[[#This Row],[Ouverture]]-carnet4[[#This Row],[Fermeture]],carnet4[[#This Row],[Fermeture]]-carnet4[[#This Row],[Ouverture]]),0) -> 0 | M13: =M12+carnet4[Dif] -> 0 | N13: =IF(K13<>"",N12+carnet4[[#This Row],[Gain]],N12) -> 0 | O13: =IF(carnet4[[#This Row],['#]]<>"",IF(OR(carnet4[[#This Row],[Dif]]>0,carnet4[[#This Row],[Dif]]=0),IF(OR($L12>0,$L12=0),O12+1,1),IF($L12<0,O12-1,-1)),0) -> 0
A14: Nb | B14: =COUNTIF(carnet4[Dif],">0") -> 0 | C14: =COUNTIF(carnet4[Dif],"<0") -> 0 | D14: =IF($A$5<>0,COUNTIF(carnet4[Dif],"=0,0"),0) -> 0 | L14: =IF(carnet4[[#This Row],['#]]<>"",IF(carnet4[[#This Row],[Lot]]<0,carnet4[[#This Row],[Ouverture]]-carnet4[[#This Row],[Fermeture]],carnet4[[#This Row],[Fermeture]]-carnet4[[#This Row],[Ouverture]]),0) -> 0 | M14: =M13+carnet4[Dif] -> 0 | N14: =IF(K14<>"",N13+carnet4[[#This Row],[Gain]],N13) -> 0 | O14: =IF(carnet4[[#This Row],['#]]<>"",IF(OR(carnet4[[#This Row],[Dif]]>0,carnet4[[#This Row],[Dif]]=0),IF(OR($L13>0,$L13=0),O13+1,1),IF($L13<0,O13-1,-1)),0) -> 0
A15: % | B15: =IF($A$5<>0,B14/$A$5,0) -> 0 | C15: =IF($A$5<>0,C14/$A$5,0) -> 0 | D15: =IF($A$5<>0,D14/$A$5,0) -> 0 | L15: =IF(carnet4[[#This Row],['#]]<>"",IF(carnet4[[#This Row],[Lot]]<0,carnet4[[#This Row],[Ouverture]]-carnet4[[#This Row],[Fermeture]],carnet4[[#This Row],[Fermeture]]-carnet4[[#This Row],[Ouverture]]),0) -> 0 | M15: =M14+carnet4[Dif] -> 0 | N15: =IF(K15<>"",N14+carnet4[[#This Row],[Gain]],N14) -> 0 | O15: =IF(carnet4[[#This Row],['#]]<>"",IF(OR(carnet4[[#This Row],[Dif]]>0,carnet4[[#This Row],[Dif]]=0),IF(OR($L14>0,$L14=0),O14+1,1),IF($L14<0,O14-1,-1)),0) -> 0
A16: Série | B16: =MAX(carnet4[Série]) -> 0 | C16: =ABS(MIN(carnet4[Série])) -> 0 | L16: =IF(carnet4[[#This Row],['#]]<>"",IF(carnet4[[#This Row],[Lot]]<0,carnet4[[#This Row],[Ouverture]]-carnet4[[#This Row],[Fermeture]],carnet4[[#This Row],[Fermeture]]-carnet4[[#This Row],[Ouverture]]),0) -> 0 | M16: =M15+carnet4[Dif] -> 0 | N16: =IF(K16<>"",N15+carnet4[[#This Row],[Gain]],N15) -> 0 | O16: =IF(carnet4[[#This Row],['#]]<>"",IF(OR(carnet4[[#This Row],[Dif]]>0,carnet4[[#This Row],[Dif]]=0),IF(OR($L15>0,$L15=0),O15+1,1),IF($L15<0,O15-1,-1)),0) -> 0
A17: Moyen | B17: =IF(A5<>0,AVERAGEIF(carnet4[Dif],">0",carnet4[Gain]),0) -> 0 | C17: =IF(MIN(carnet4[Dif])<0,IF(A5<>0,AVERAGEIF(carnet4[Dif],"<0",carnet4[Gain]),0),0) -> 0 | L17: =IF(carnet4[[#This Row],['#]]<>"",IF(carnet4[[#This Row],[Lot]]<0,carnet4[[#This Row],[Ouverture]]-carnet4[[#This Row],[Fermeture]],carnet4[[#This Row],[Fermeture]]-carnet4[[#This Row],[Ouverture]]),0) -> 0 | M17: =M16+carnet4[Dif] -> 0 | N17: =IF(K17<>"",N16+carnet4[[#This Row],[Gain]],N16) -> 0 | O17: =IF(carnet4[[#This Row],['#]]<>"",IF(OR(carnet4[[#This Row],[Dif]]>0,carnet4[[#This Row],[Dif]]=0),IF(OR($L16>0,$L16=0),O16+1,1),IF($L16<0,O16-1,-1)),0) -> 0
A18: Max | B18: =_xlfn.MAXIFS(carnet4[Gain],carnet4[Gain],">0") -> 0 | C18: =_xlfn.MINIFS(carnet4[Gain],carnet4[Gain],"<0") -> 0 | L18: =IF(carnet4[[#This Row],['#]]<>"",IF(carnet4[[#This Row],[Lot]]<0,carnet4[[#This Row],[Ouverture]]-carnet4[[#This Row],[Fermeture]],carnet4[[#This Row],[Fermeture]]-carnet4[[#This Row],[Ouverture]]),0) -> 0 | M18: =M17+carnet4[Dif] -> 0 | N18: =IF(K18<>"",N17+carnet4[[#This Row],[Gain]],N17) -> 0 | O18: =IF(carnet4[[#This Row],['#]]<>"",IF(OR(carnet4[[#This Row],[Dif]]>0,carnet4[[#This Row],[Dif]]=0),IF(OR($L17>0,$L17=0),O17+1,1),IF($L17<0,O17-1,-1)),0) -> 0
A19: Total | B19: =SUMIF(carnet4[Gain],">0",carnet4[Gain]) -> 0 | C19: =SUMIF(carnet4[Gain],"<0",carnet4[Gain]) -> 0 | L19: =IF(carnet4[[#This Row],['#]]<>"",IF(carnet4[[#This Row],[Lot]]<0,carnet4[[#This Row],[Ouverture]]-carnet4[[#This Row],[Fermeture]],carnet4[[#This Row],[Fermeture]]-carnet4[[#This Row],[Ouverture]]),0) -> 0 | M19: =M18+carnet4[Dif] -> 0 | N19: =IF(K19<>"",N18+carnet4[[#This Row],[Gain]],N18) -> 0 | O19: =IF(carnet4[[#This Row],['#]]<>"",IF(OR(carnet4[[#This Row],[Dif]]>0,carnet4[[#This Row],[Dif]]=0),IF(OR($L18>0,$L18=0),O18+1,1),IF($L18<0,O18-1,-1)),0) -> 0
A20: Moyen pts | B20: =IF(A5<>0,AVERAGEIF(carnet4[Dif],">0",carnet4[Dif]),0) -> 0 | C20: =IF(A5<>0,AVERAGEIF(carnet4[Dif],"<0",carnet4[Dif]),0) -> 0 | L20: =IF(carnet4[[#This Row],['#]]<>"",IF(carnet4[[#This Row],[Lot]]<0,carnet4[[#This Row],[Ouverture]]-carnet4[[#This Row],[Fermeture]],carnet4[[#This Row],[Fermeture]]-carnet4[[#This Row],[Ouverture]]),0) -> 0 | M20: =M19+carnet4[Dif] -> 0 | N20: =IF(K20<>"",N19+carnet4[[#This Row],[Gain]],N19) -> 0 | O20: =IF(carnet4[[#This Row],['#]]<>"",IF(OR(carnet4[[#This Row],[Dif]]>0,carnet4[[#This Row],[Dif]]=0),IF(OR($L19>0,$L19=0),O19+1,1),IF($L19<0,O19-1,-1)),0) -> 0
A21: Max pts | B21: =_xlfn.MAXIFS(carnet4[Dif],carnet4[Dif],">0") -> 0 | C21: =_xlfn.MINIFS(carnet4[Dif],carnet4[Dif],"<0") -> 0
A22: Total pts | B22: =SUMIF(carnet4[Dif],">0",carnet4[Dif]) -> 0 | C22: =SUMIF(carnet4[Dif],"<0",carnet4[Dif]) -> 0

Sheet 24 JUIN 2016
A1: =MID(CELL("nomfichier"),FIND("]",CELL("nomfichier"))+1,20) -> 20 JUIN 2016
F3: # | G3: Marché | H3: Ouverture | I3: Lot | J3: Fermeture | K3: Gain | L3: Dif | M3: Pts | N3: Capital | O3: Série
L4: =IF(carnet5[[#This Row],['#]]<>"",IF(carnet5[[#This Row],[Lot]]<0,carnet5[[#This Row],[Ouverture]]-carnet5[[#This Row],[Fermeture]],carnet5[[#This Row],[Fermeture]]-carnet5[[#This Row],[Ouverture]]),0) -> 0 | M4: 0 | N4: 0 | O4: 0
A5: =MAX(carnet5['#]) -> 0 | C5: Trades | L5: =IF(carnet5[[#This Row],['#]]<>"",IF(carnet5[[#This Row],[Lot]]<0,carnet5[[#This Row],[Ouverture]]-carnet5[[#This Row],[Fermeture]],carnet5[[#This Row],[Fermeture]]-carnet5[[#This Row],[Ouverture]]),0) -> 0 | M5: =M4+carnet5[Dif] -> 0 | N5: =IF(K5<>"",N4+carnet5[[#This Row],[Gain]],N4) -> 0 | O5: =IF(carnet5[[#This Row],['#]]<>"",IF(OR(carnet5[[#This Row],[Dif]]>0,carnet5[[#This Row],[Dif]]=0),IF(OR($L4>0,$L4=0),O4+1,1),IF($L4<0,O4-1,-1)),0) -> 0
L6: =IF(carnet5[[#This Row],['#]]<>"",IF(carnet5[[#This Row],[Lot]]<0,carnet5[[#This Row],[Ouverture]]-carnet5[[#This Row],[Fermeture]],carnet5[[#This Row],[Fermeture]]-carnet5[[#This Row],[Ouverture]]),0) -> 0 | M6: =M5+carnet5[Dif] -> 0 | N6: =IF(K6<>"",N5+carnet5[[#This Row],[Gain]],N5) -> 0 | O6: =IF(carnet5[[#This Row],['#]]<>"",IF(OR(carnet5[[#This Row],[Dif]]>0,carnet5[[#This Row],[Dif]]=0),IF(OR($L5>0,$L5=0),O5+1,1),IF($L5<0,O5-1,-1)),0) -> 0
L7: =IF(carnet5[[#This Row],['#]]<>"",IF(carnet5[[#This Row],[Lot]]<0,carnet5[[#This Row],[Ouverture]]-carnet5[[#This Row],[Fermeture]],carnet5[[#This Row],[Fermeture]]-carnet5[[#This Row],[Ouverture]]),0) -> 0 | M7: =M6+carnet5[Dif] -> 0 | N7: =IF(K7<>"",N6+carnet5[[#This Row],[Gain]],N6) -> 0 | O7: =IF(carnet5[[#This Row],['#]]<>"",IF(OR(carnet5[[#This Row],[Dif]]>0,carnet5[[#This Row],[Dif]]=0),IF(OR($L6>0,$L6=0),O6+1,1),IF($L6<0,O6-1,-1)),0) -> 0
A8: EVO | B8: Cap. | C8: Pts | L8: =IF(carnet5[[#This Row],['#]]<>"",IF(carnet5[[#This Row],[Lot]]<0,carnet5[[#This Row],[Ouverture]]-carnet5[[#This Row],[Fermeture]],carnet5[[#This Row],[Fermeture]]-carnet5[[#This Row],[Ouverture]]),0) -> 0 | M8: =M7+carnet5[Dif] -> 0 | N8: =IF(K8<>"",N7+carnet5[[#This Row],[Gain]],N7) -> 0 | O8: =IF(carnet5[[#This Row],['#]]<>"",IF(OR(carnet5[[#This Row],[Dif]]>0,carnet5[[#This Row],[Dif]]=0),IF(OR($L7>0,$L7=0),O7+1,1),IF($L7<0,O7-1,-1)),0) -> 0
A9: Max down | B9: =_xlfn.MINIFS(carnet5[Capital],carnet5[Capital],"<>0") -> 0 | C9: =_xlfn.MINIFS(carnet5[Pts],carnet5[Pts],"<>0") -> 0 | L9: =IF(carnet5[[#This Row],['#]]<>"",IF(carnet5[[#This Row],[Lot]]<0,carnet5[[#This Row],[Ouverture]]-carnet5[[#This Row],[Fermeture]],carnet5[[#This Row],[Fermeture]]-carnet5[[#This Row],[Ouverture]]),0) -> 0 | M9: =M8+carnet5[Dif] -> 0 | N9: =IF(K9<>"",N8+carnet5[[#This Row],[Gain]],N8) -> 0 | O9: =IF(carnet5[[#This Row],['#]]<>"",IF(OR(carnet5[[#This Row],[Dif]]>0,carnet5[[#This Row],[Dif]]=0),IF(OR($L8>0,$L8=0),O8+1,1),IF($L8<0,O8-1,-1)),0) -> 0
A10: Résultat | B10: =SUM(carnet5[Gain]) -> 0 | C10: =SUM(carnet5[Dif]) -> 0 | L10: =IF(carnet5[[#This Row],['#]]<>"",IF(carnet5[[#This Row],[Lot]]<0,carnet5[[#This Row],[Ouverture]]-carnet5[[#This Row],[Fermeture]],carnet5[[#This Row],[Fermeture]]-carnet5[[#This Row],[Ouverture]]),0) -> 0 | M10: =M9+carnet5[Dif] -> 0 | N10: =IF(K10<>"",N9+carnet5[[#This Row],[Gain]],N9) -> 0 | O10: =IF(carnet5[[#This Row],['#]]<>"",IF(OR(carnet5[[#This Row],[Dif]]>0,carnet5[[#This Row],[Dif]]=0),IF(OR($L9>0,$L9=0),O9+1,1),IF($L9<0,O9-1,-1)),0) -> 0
A11: Max Up | B11: =_xlfn.MAXIFS(carnet5[Capital],carnet5[Capital],"<>0") -> 0 | C11: =_xlfn.MAXIFS(carnet5[Pts],carnet5[Pts],"<>0") -> 0 | L11: =IF(carnet5[[#This Row],['#]]<>"",IF(carnet5[[#This Row],[Lot]]<0,carnet5[[#This Row],[Ouverture]]-carnet5[[#This Row],[Fermeture]],carnet5[[#This Row],[Fermeture]]-carnet5[[#This Row],[Ouverture]]),0) -> 0 | M11: =M10+carnet5[Dif] -> 0 | N11: =IF(K11<>"",N10+carnet5[[#This Row],[Gain]],N10) -> 0 | O11: =IF(carnet5[[#This Row],['#]]<>"",IF(OR(carnet5[[#This Row],[Dif]]>0,carnet5[[#This Row],[Dif]]=0),IF(OR($L10>0,$L10=0),O10+1,1),IF($L10<0,O10-1,-1)),0) -> 0
L12: =IF(carnet5[[#This Row],['#]]<>"",IF(carnet5[[#This Row],[Lot]]<0,carnet5[[#This Row],[Ouverture]]-carnet5[[#This Row],[Fermeture]],carnet5[[#This Row],[Fermeture]]-carnet5[[#This Row],[Ouverture]]),0) -> 0 | M12: =M11+carnet5[Dif] -> 0 | N12: =IF(K12<>"",N11+carnet5[[#This Row],[Gain]],N11) -> 0 | O12: =IF(carnet5[[#This Row],['#]]<>"",IF(OR(carnet5[[#This Row],[Dif]]>0,carnet5[[#This Row],[Dif]]=0),IF(OR($L11>0,$L11=0),O11+1,1),IF($L11<0,O11-1,-1)),0) -> 0
A13: Trades | B13: Gagn. | C13: Perd. | D13: Flat | L13: =IF(carnet5[[#This Row],['#]]<>"",IF(carnet5[[#This Row],[Lot]]<0,carnet5[[#This Row],[Ouverture]]-carnet5[[#This Row],[Fermeture]],carnet5[[#This Row],[Fermeture]]-carnet5[[#This Row],[Ouverture]]),0) -> 0 | M13: =M12+carnet5[Dif] -> 0 | N13: =IF(K13<>"",N12+carnet5[[#This Row],[Gain]],N12) -> 0 | O13: =IF(carnet5[[#This Row],['#]]<>"",IF(OR(carnet5[[#This Row],[Dif]]>0,carnet5[[#This Row],[Dif]]=0),IF(OR($L12>0,$L12=0),O12+1,1),IF($L12<0,O12-1,-1)),0) -> 0
A14: Nb | B14: =COUNTIF(carnet5[Dif],">0") -> 0 | C14: =COUNTIF(carnet5[Dif],"<0") -> 0 | D14: =IF($A$5<>0,COUNTIF(carnet5[Dif],"=0,0"),0) -> 0 | L14: =IF(carnet5[[#This Row],['#]]<>"",IF(carnet5[[#This Row],[Lot]]<0,carnet5[[#This Row],[Ouverture]]-carnet5[[#This Row],[Fermeture]],carnet5[[#This Row],[Fermeture]]-carnet5[[#This Row],[Ouverture]]),0) -> 0 | M14: =M13+carnet5[Dif] -> 0 | N14: =IF(K14<>"",N13+carnet5[[#This Row],[Gain]],N13) -> 0 | O14: =IF(carnet5[[#This Row],['#]]<>"",IF(OR(carnet5[[#This Row],[Dif]]>0,carnet5[[#This Row],[Dif]]=0),IF(OR($L13>0,$L13=0),O13+1,1),IF($L13<0,O13-1,-1)),0) -> 0
A15: % | B15: =IF($A$5<>0,B14/$A$5,0) -> 0 | C15: =IF($A$5<>0,C14/$A$5,0) -> 0 | D15: =IF($A$5<>0,D14/$A$5,0) -> 0 | L15: =IF(carnet5[[#This Row],['#]]<>"",IF(carnet5[[#This Row],[Lot]]<0,carnet5[[#This Row],[Ouverture]]-carnet5[[#This Row],[Fermeture]],carnet5[[#This Row],[Fermeture]]-carnet5[[#This Row],[Ouverture]]),0) -> 0 | M15: =M14+carnet5[Dif] -> 0 | N15: =IF(K15<>"",N14+carnet5[[#This Row],[Gain]],N14) -> 0 | O15: =IF(carnet5[[#This Row],['#]]<>"",IF(OR(carnet5[[#This Row],[Dif]]>0,carnet5[[#This Row],[Dif]]=0),IF(OR($L14>0,$L14=0),O14+1,1),IF($L14<0,O14-1,-1)),0) -> 0
A16: Série | B16: =MAX(carnet5[Série]) -> 0 | C16: =ABS(MIN(carnet5[Série])) -> 0 | L16: =IF(carnet5[[#This Row],['#]]<>"",IF(carnet5[[#This Row],[Lot]]<0,carnet5[[#This Row],[Ouverture]]-carnet5[[#This Row],[Fermeture]],carnet5[[#This Row],[Fermeture]]-carnet5[[#This Row],[Ouverture]]),0) -> 0 | M16: =M15+carnet5[Dif] -> 0 | N16: =IF(K16<>"",N15+carnet5[[#This Row],[Gain]],N15) -> 0 | O16: =IF(carnet5[[#This Row],['#]]<>"",IF(OR(carnet5[[#This Row],[Dif]]>0,carnet5[[#This Row],[Dif]]=0),IF(OR($L15>0,$L15=0),O15+1,1),IF($L15<0,O15-1,-1)),0) -> 0
A17: Moyen | B17: =IF(A5<>0,AVERAGEIF(carnet5[Dif],">0",carnet5[Gain]),0) -> 0 | C17: =IF(MIN(carnet5[Dif])<0,IF(A5<>0,AVERAGEIF(carnet5[Dif],"<0",carnet5[Gain]),0),0) -> 0 | L17: =IF(carnet5[[#This Row],['#]]<>"",IF(carnet5[[#This Row],[Lot]]<0,carnet5[[#This Row],[Ouverture]]-carnet5[[#This Row],[Fermeture]],carnet5[[#This Row],[Fermeture]]-carnet5[[#This Row],[Ouverture]]),0) -> 0 | M17: =M16+carnet5[Dif] -> 0 | N17: =IF(K17<>"",N16+carnet5[[#This Row],[Gain]],N16) -> 0 | O17: =IF(carnet5[[#This Row],['#]]<>"",IF(OR(carnet5[[#This Row],[Dif]]>0,carnet5[[#This Row],[Dif]]=0),IF(OR($L16>0,$L16=0),O16+1,1),IF($L16<0,O16-1,-1)),0) -> 0
A18: Max | B18: =_xlfn.MAXIFS(carnet5[Gain],carnet5[Gain],">0") -> 0 | C18: =_xlfn.MINIFS(carnet5[Gain],carnet5[Gain],"<0") -> 0 | L18: =IF(carnet5[[#This Row],['#]]<>"",IF(carnet5[[#This Row],[Lot]]<0,carnet5[[#This Row],[Ouverture]]-carnet5[[#This Row],[Fermeture]],carnet5[[#This Row],[Fermeture]]-carnet5[[#This Row],[Ouverture]]),0) -> 0 | M18: =M17+carnet5[Dif] -> 0 | N18: =IF(K18<>"",N17+carnet5[[#This Row],[Gain]],N17) -> 0 | O18: =IF(carnet5[[#This Row],['#]]<>"",IF(OR(carnet5[[#This Row],[Dif]]>0,carnet5[[#This Row],[Dif]]=0),IF(OR($L17>0,$L17=0),O17+1,1),IF($L17<0,O17-1,-1)),0) -> 0
A19: Total | B19: =SUMIF(carnet5[Gain],">0",carnet5[Gain]) -> 0 | C19: =SUMIF(carnet5[Gain],"<0",carnet5[Gain]) -> 0 | L19: =IF(carnet5[[#This Row],['#]]<>"",IF(carnet5[[#This Row],[Lot]]<0,carnet5[[#This Row],[Ouverture]]-carnet5[[#This Row],[Fermeture]],carnet5[[#This Row],[Fermeture]]-carnet5[[#This Row],[Ouverture]]),0) -> 0 | M19: =M18+carnet5[Dif] -> 0 | N19: =IF(K19<>"",N18+carnet5[[#This Row],[Gain]],N18) -> 0 | O19: =IF(carnet5[[#This Row],['#]]<>"",IF(OR(carnet5[[#This Row],[Dif]]>0,carnet5[[#This Row],[Dif]]=0),IF(OR($L18>0,$L18=0),O18+1,1),IF($L18<0,O18-1,-1)),0) -> 0
A20: Moyen pts | B20: =IF(A5<>0,AVERAGEIF(carnet5[Dif],">0",carnet5[Dif]),0) -> 0 | C20: =IF(A5<>0,AVERAGEIF(carnet5[Dif],"<0",carnet5[Dif]),0) -> 0 | L20: =IF(carnet5[[#This Row],['#]]<>"",IF(carnet5[[#This Row],[Lot]]<0,carnet5[[#This Row],[Ouverture]]-carnet5[[#This Row],[Fermeture]],carnet5[[#This Row],[Fermeture]]-carnet5[[#This Row],[Ouverture]]),0) -> 0 | M20: =M19+carnet5[Dif] -> 0 | N20: =IF(K20<>"",N19+carnet5[[#This Row],[Gain]],N19) -> 0 | O20: =IF(carnet5[[#This Row],['#]]<>"",IF(OR(carnet5[[#This Row],[Dif]]>0,carnet5[[#This Row],[Dif]]=0),IF(OR($L19>0,$L19=0),O19+1,1),IF($L19<0,O19-1,-1)),0) -> 0
A21: Max pts | B21: =_xlfn.MAXIFS(carnet5[Dif],carnet5[Dif],">0") -> 0 | C21: =_xlfn.MINIFS(carnet5[Dif],carnet5[Dif],"<0") -> 0 | L21: =IF(carnet5[[#This Row],['#]]<>"",IF(carnet5[[#This Row],[Lot]]<0,carnet5[[#This Row],[Ouverture]]-carnet5[[#This Row],[Fermeture]],carnet5[[#This Row],[Fermeture]]-carnet5[[#This Row],[Ouverture]]),0) -> 0 | M21: =M20+carnet5[Dif] -> 0 | N21: =IF(K21<>"",N20+carnet5[[#This Row],[Gain]],N20) -> 0 | O21: =IF(carnet5[[#This Row],['#]]<>"",IF(OR(carnet5[[#This Row],[Dif]]>0,carnet5[[#This Row],[Dif]]=0),IF(OR($L20>0,$L20=0),O20+1,1),IF($L20<0,O20-1,-1)),0) -> 0
A22: Total pts | B22: =SUMIF(carnet5[Dif],">0",carnet5[Dif]) -> 0 | C22: =SUMIF(carnet5[Dif],"<0",carnet5[Dif]) -> 0 | L22: =IF(carnet5[[#This Row],['#]]<>"",IF(carnet5[[#This Row],[Lot]]<0,carnet5[[#This Row],[Ouverture]]-carnet5[[#This Row],[Fermeture]],carnet5[[#This Row],[Fermeture]]-carnet5[[#This Row],[Ouverture]]),0) -> 0 | M22: =M21+carnet5[Dif] -> 0 | N22: =IF(K22<>"",N21+carnet5[[#This Row],[Gain]],N21) -> 0 | O22: =IF(carnet5[[#This Row],['#]]<>"",IF(OR(carnet5[[#This Row],[Dif]]>0,carnet5[[#This Row],[Dif]]=0),IF(OR($L21>0,$L21=0),O21+1,1),IF($L21<0,O21-1,-1)),0) -> 0

Sheet Récap. Sem.
D1: 1 | E1: 2 | F1: 3 | G1: 4 | H1: 5
D2: Jour 1 | E2: Jour 2 | F2: Jour 3 | G2: Jour 4 | H2: Jour 5 | I2: Total
B3: Trades | D3: ='20 JUIN 2016'!$A$5 -> 0 | E3: ='21 JUIN 2016'!$A$5 -> 0 | F3: ='22 JUIN 2016'!$A$5 -> 0 | G3: ='23 JUIN 2016'!$A$5 -> 0 | H3: ='24 JUIN 2016'!$A$5 -> 0 | I3: =SUM(D3:H3) -> 0
B4: Résultat | C4: € | D4: ='20 JUIN 2016'!$B$10 -> 0 | E4: ='21 JUIN 2016'!$B$10 -> 0 | F4: ='22 JUIN 2016'!$B$10 -> 0 | G4: ='23 JUIN 2016'!$B$10 -> 0 | H4: ='24 JUIN 2016'!$B$10 -> 0 | I4: =SUM(D4:H4) -> 0
C5: Pts | D5: ='20 JUIN 2016'!$C$10 -> 0 | E5: ='21 JUIN 2016'!$C$10 -> 0 | F5: ='22 JUIN 2016'!$C$10 -> 0 | G5: ='23 JUIN 2016'!$C$10 -> 0 | H5: ='24 JUIN 2016'!$C$10 -> 0 | I5: =SUM(D5:H5) -> 0
B6: Max Down | C6: € | D6: ='20 JUIN 2016'!$B$9 -> 0 | E6: ='21 JUIN 2016'!$B$9 -> 0 | F6: ='22 JUIN 2016'!$B$9 -> 0 | G6: ='23 JUIN 2016'!$B$9 -> 0 | H6: ='24 JUIN 2016'!$B$9 -> 0 | I6: =AVERAGE(D6:H6) -> 0
B7: Evolution | C7: € | D7: =D4 -> 0 | E7: =E4 -> 0 | F7: =F4 -> 0 | G7: =G4 -> 0 | H7: =H4 -> 0
C8: Pts | D8: =D5 -> 0 | E8: =E5 -> 0 | F8: =F5 -> 0 | G8: =G5 -> 0 | H8: =H5 -> 0
B9: Gagnants | C9: Nb | D9: ='20 JUIN 2016'!$B$14 -> 0 | E9: ='21 JUIN 2016'!$B$14 -> 0 | F9: ='22 JUIN 2016'!$B$14 -> 0 | G9: ='23 JUIN 2016'!$B$14 -> 0 | H9: ='24 JUIN 2016'!$B$14 -> 0 | I9: =SUM(D9:H9) -> 0
C10: % | D10: ='20 JUIN 2016'!$B$15 -> 0 | E10: ='21 JUIN 2016'!$B$15 -> 0 | F10: ='22 JUIN 2016'!$B$15 -> 0 | G10: ='23 JUIN 2016'!$B$15 -> 0 | H10: ='24 JUIN 2016'!$B$15 -> 0 | I10: =IF($I$3<>0,I9/$I$3,0) -> 0
C11: Série | D11: ='20 JUIN 2016'!$B$16 -> 0 | E11: ='21 JUIN 2016'!$B$16 -> 0 | F11: ='22 JUIN 2016'!$B$16 -> 0 | G11: ='23 JUIN 2016'!$B$16 -> 0 | H11: ='24 JUIN 2016'!$B$16 -> 0 | I11: =AVERAGE(D11:H11) -> 0
C12: Max | D12: ='20 JUIN 2016'!$B$21 -> 0 | E12: ='21 JUIN 2016'!$B$21 -> 0 | F12: ='22 JUIN 2016'!$B$21 -> 0 | G12: ='23 JUIN 2016'!$B$21 -> 0 | H12: ='24 JUIN 2016'!$B$21 -> 0 | I12: =AVERAGE(D12:H12) -> 0
C13: Moyen | D13: ='20 JUIN 2016'!$B$20 -> 0 | E13: ='21 JUIN 2016'!$B$20 -> 0 | F13: ='22 JUIN 2016'!$B$20 -> 0 | G13: ='23 JUIN 2016'!$B$20 -> 0 | H13: ='24 JUIN 2016'!$B$20 -> 0 | I13: =AVERAGE(D13:H13) -> 0
B14: Perdants | C14: Nb | D14: ='20 JUIN 2016'!$C$14 -> 0 | E14: ='21 JUIN 2016'!$C$14 -> 0 | F14: ='22 JUIN 2016'!$C$14 -> 0 | G14: ='23 JUIN 2016'!$C$14 -> 0 | H14: ='24 JUIN 2016'!$C$14 -> 0 | I14: =SUM(D14:H14) -> 0
C15: % | D15: ='20 JUIN 2016'!$C$15 -> 0 | E15: ='21 JUIN 2016'!$C$15 -> 0 | F15: ='22 JUIN 2016'!$C$15 -> 0 | G15: ='23 JUIN 2016'!$C$15 -> 0 | H15: ='24 JUIN 2016'!$C$15 -> 0 | I15: =IF($I$3<>0,I14/$I$3,0) -> 0
C16: Série | D16: ='20 JUIN 2016'!$C$16 -> 0 | E16: ='21 JUIN 2016'!$C$16 -> 0 | F16: ='22 JUIN 2016'!$C$16 -> 0 | G16: ='23 JUIN 2016'!$C$16 -> 0 | H16: ='24 JUIN 2016'!$C$16 -> 0 | I16: =AVERAGE(D16:H16) -> 0
C17: Max | D17: ='20 JUIN 2016'!$C$21 -> 0 | E17: ='21 JUIN 2016'!$C$21 -> 0 | F17: ='22 JUIN 2016'!$C$21 -> 0 | G17: ='23 JUIN 2016'!$C$21 -> 0 | H17: ='24 JUIN 2016'!$C$21 -> 0 | I17: =AVERAGE(D17:H17) -> 0
C18: Moyen | D18: ='20 JUIN 2016'!$C$20 -> 0 | E18: ='21 JUIN 2016'!$C$20 -> 0 | F18: ='22 JUIN 2016'!$C$20 -> 0 | G18: ='23 JUIN 2016'!$C$20 -> 0 | H18: ='24 JUIN 2016'!$C$20 -> 0 | I18: =AVERAGE(D18:H18) -> 0
B19: Flats | C19: Nb | D19: ='20 JUIN 2016'!$D$14 -> 0 | E19: ='21 JUIN 2016'!$D$14 -> 0 | F19: ='22 JUIN 2016'!$D$14 -> 0 | G19: ='23 JUIN 2016'!$D$14 -> 0 | H19: ='24 JUIN 2016'!$D$14 -> 0 | I19: =SUM(D19:H19) -> 0
C20: % | D20: ='20 JUIN 2016'!$D$15 -> 0 | E20: ='21 JUIN 2016'!$D$15 -> 0 | F20: ='22 JUIN 2016'!$D$15 -> 0 | G20: ='23 JUIN 2016'!$D$15 -> 0 | H20: ='24 JUIN 2016'!$D$15 -> 0 | I20: =IF($I$3<>0,I19/$I$3,0) -> 0

Sheet Graphs
