Workbook
Name Capital_actuel: 'Journal trimestre 3-2017 '!$C$4
Name Code_Instrument: Data!$C$6:$C$14
Name Devise: Data!$F$7:$F$11
Name Indice: Data!$I$6:$I$8
Name Liste_Instrument: Instruments!$B$4:$Q$13
Name lsv: #REF!
Name Risque_Maxi: 'Position Forex&Indice'!$D$4
Name rjv: 'Journal trimestre 3-2017 '!$F$34
Name rmv: #REF!
Name Type_Instrument: Data!$I$6:$I$8

Sheet Index
B2: Mise à jour : | C2: 42979
E3: Légende des couleurs principales utilisées
B4: Les différents onglets | F4: Saisie Obligatoire
F5: Calcul automatique - NE PAS MODIFIER
B6: Onglet en bleu | C6: Reporting
B7: Onglet en Orange | C7: Saisie
B8: Onglet en Jaune | C8: Outils de calcul et simulation
B9: Onglet en Rouge | C9: Datas et base des instruments
B12: Data | C12: Pour maj des tables
B13: Instruments | C13: Liste des instruments tradés et principales caractéristiques reprises automatiquement dans les autres feuilles
B14: Pips et volatilité | C14: Calcul des sensibilité par timeframe et instruments
B17: Positions Forex&Indice | C17: Simulation des risques et money management
B19: Gains et pertes daily | C19: Journal de trading avec P/L quotidien
B20: Suivi position | C20: Saisie des positions en cours et historisation du passé
B22: Evolution Capital | C22: Graphique de reporting
B23: Journal Trimestre | C23: Reporting des P/L par jour et par semaine
B25: A venir :
B26: Reporting plus détaillé
B27: Simulation position par sensibilité
B28: Corrélation timefrade, volatilité et trade plus affinée

Sheet Journal trimestre 3-2017 
F1: Date de départ : | G1: 42978
B2: Monnaie | C2: Euro | F2: Lundi | G2: Mardi | H2: Mercredi | I2: Jeudi | J2: Vendredi | K2: % Augmentation | L2: Objectif en %
B3: Capital départ trimestre | C3: 5000 | E3: Totaux | F3: =SUM(F6,F10,F14,F18,F22,F26,F30,F34,F38,F42,F46,F50,F54,F58) -> 0 | G3: =SUM(G6,G10,G14,G18,G22,G26,G30,G34,G38,G42,G46,G50,G54,G58) -> 0 | H3: =SUM(H6,H10,H14,H18,H22,H26,H30,H34,H38,H42,H46,H50,H54,H58) -> 0 | I3: =SUM(I6,I10,I14,I18,I22,I26,I30,I34,I38,I42,I46,I50,I54,I58) -> 1.1698 | J3: =SUM(J6,J10,J14,J18,J22,J26,J30,J34,J38,J42,J46,J50,J54,J58) -> 0 | K3: =C5 -> 0.011698 | L3: 10
B4: Capital actuel | C4: =J61 -> 5058.49
B5: % d'augmentation | C5: =((C4-C3)/C3) -> 0.011698 | E5: Semaine | L5: Commentaires sur la semaine | P5: =F9 -> 5000 | Q5: =G9 -> 5000 | R5: =H9 -> 5000 | S5: =I9 -> 5058.49 | T5: =J9 -> 5058.49 | U5: =F13 -> 5058.49 | V5: =G13 -> 5058.49 | W5: =H13 -> 5058.49 | X5: =I13 -> 5058.49 | Y5: =J13 -> 5058.49 | Z5: =F17 -> 5058.49 | AA5: =G17 -> 5058.49 | AB5: =H17 -> 5058.49 | AC5: =I17 -> 5058.49 | AD5: =J17 -> 5058.49 | AE5: =F21 -> 5058.49 | AF5: =G21 -> 5058.49 | AG5: =H21 -> 5058.49 | AH5: =I21 -> 5058.49 | AI5: =J21 -> 5058.49 | AJ5: =F25 -> 5058.49 | AK5: =G25 -> 5058.49 | AL5: =H25 -> 5058.49 | AM5: =I25 -> 5058.49 | AN5: =J25 -> 5058.49 | AO5: =F29 -> 5058.49 | AP5: =G29 -> 5058.49 | AQ5: =H29 -> 5058.49 | AR5: =I29 -> 5058.49 | AS5: =J29 -> 5058.49 | AT5: =F33 -> 5058.49 | AU5: =G33 -> 5058.49 | AV5: =H33 -> 5058.49 | AW5: =I33 -> 5058.49 | AX5: =J33 -> 5058.49 | AY5: =F37 -> 5058.49 | AZ5: =G37 -> 5058.49 | BA5: =H37 -> 5058.49 | BB5: =I37 -> 5058.49 | BC5: =J37 -> 5058.49 | BD5: =F41 -> 5058.49 | BE5: =G41 -> 5058.49 | BF5: =H41 -> 5058.49 | BG5: =I41 -> 5058.49 | BH5: =J41 -> 5058.49 | BI5: =F45 -> 5058.49 | BJ5: =G45 -> 5058.49 | BK5: =H45 -> 5058.49 | BL5: =I45 -> 5058.49 | BM5: =J45 -> 5058.49 | BN5: =F49 -> 5058.49 | BO5: =G49 -> 5058.49 | BP5: =H49 -> 5058.49 | BQ5: =I49 -> 5058.49 | BR5: =J49 -> 5058.49 | BS5: =F53 -> 5058.49 | BT5: =G53 -> 5058.49 | BU5: =H53 -> 5058.49 | BV5: =I53 -> 5058.49 | BW5: =J53 -> 5058.49 | BX5: =F57 -> 5058.49 | BY5: =G57 -> 5058.49 | BZ5: =H57 -> 5058.49 | CA5: =I57 -> 5058.49 | CB5: =J57 -> 5058.49 | CC5: =F61 -> 5058.49 | CD5: =G61 -> 5058.49 | CE5: =H61 -> 5058.49 | CF5: =I61 -> 5058.49 | CG5: =J61 -> 5058.49
B6: Montant gagné | C6: =C4-C3 -> 58.49 | E6: 35 | F6: =(F8/F7)*100 -> 0 | G6: =(G8/G7)*100 -> 0 | H6: =(H8/H7)*100 -> 0 | I6: =(I8/I7)*100 -> 1.1698 | J6: =(J8/J7)*100 -> 0 | K6: =((J9-F7)/F7)*100 -> 1.1698 | L6: Règles respectées ? | M6: Stratégie utilisée | N6: Notes
E7: Debut | F7: =C3 -> 5000 | G7: =F9 -> 5000 | H7: =G9 -> 5000 | I7: =H9 -> 5000 | J7: =I9 -> 5058.49
B8: Objectif 1 | C8: 1000 | E8: Gain/Perte | F8: 0 | G8: 0 | H8: 0 | I8: 58.49
B9: Objectif 2 | C9: 1500 | E9: Fin | F9: =SUM(F7:F8) -> 5000 | G9: =SUM(G7:G8) -> 5000 | H9: =SUM(H7:H8) -> 5000 | I9: =SUM(I7:I8) -> 5058.49 | J9: =SUM(J7:J8) -> 5058.49
B10: Objectif 3 | C10: 2000 | E10: =+E6+1 -> 36 | F10: =(F12/F11)*100 -> 0 | G10: =(G12/G11)*100 -> 0 | H10: =(H12/H11)*100 -> 0 | I10: =(I12/I11)*100 -> 0 | J10: =(J12/J11)*100 -> 0 | K10: =((J13-F11)/F11)*100 -> 0
E11: Debut | F11: =J9 -> 5058.49 | G11: =F13 -> 5058.49 | H11: =G13 -> 5058.49 | I11: =H13 -> 5058.49 | J11: =I13 -> 5058.49
A12: Au début du trimestre, renseignez votre capital de départ, puis chaque jour le gain ou la perte réalisée. Tout le reste se calculera automatiquement. | E12: Gain/Perte
E13: Fin | F13: =SUM(F11:F12) -> 5058.49 | G13: =SUM(G11:G12) -> 5058.49 | H13: =SUM(H11:H12) -> 5058.49 | I13: =SUM(I11:I12) -> 5058.49 | J13: =SUM(J11:J12) -> 5058.49
E14: =+E10+1 -> 37 | F14: =(F16/F15)*100 -> 0 | G14: =(G16/G15)*100 -> 0 | H14: =(H16/H15)*100 -> 0 | I14: =(I16/I15)*100 -> 0 | J14: =(J16/J15)*100 -> 0 | K14: =((J17-F15)/F15)*100 -> 0
E15: Debut | F15: =J13 -> 5058.49 | G15: =F17 -> 5058.49 | H15: =G17 -> 5058.49 | I15: =H17 -> 5058.49 | J15: =I17 -> 5058.49
E16: Gain/Perte
E17: Fin | F17: =SUM(F15:F16) -> 5058.49 | G17: =SUM(G15:G16) -> 5058.49 | H17: =SUM(H15:H16) -> 5058.49 | I17: =SUM(I15:I16) -> 5058.49 | J17: =SUM(J15:J16) -> 5058.49
A18: Attention : Les cases contenant des chiffres en couleurs contiennent des formules et ne doivent pas être modifiées ! ( sauf si vous savez ce que vous faites ) | E18: =+E14+1 -> 38 | F18: =(F20/F19)*100 -> 0 | G18: =(G20/G19)*100 -> 0 | H18: =(H20/H19)*100 -> 0 | I18: =(I20/I19)*100 -> 0 | J18: =(J20/J19)*100 -> 0 | K18: =((J21-F19)/F19)*100 -> 0
E19: Debut | F19: =J17 -> 5058.49 | G19: =F21 -> 5058.49 | H19: =G21 -> 5058.49 | I19: =H21 -> 5058.49 | J19: =I21 -> 5058.49
E20: Gain/Perte | F20: 0 | G20: 0 | H20: 0 | I20: 0 | J20: 0
E21: Fin | F21: =SUM(F19:F20) -> 5058.49 | G21: =SUM(G19:G20) -> 5058.49 | H21: =SUM(H19:H20) -> 5058.49 | I21: =SUM(I19:I20) -> 5058.49 | J21: =SUM(J19:J20) -> 5058.49
E22: =+E18+1 -> 39 | F22: =(F24/F23)*100 -> 0 | G22: =(G24/G23)*100 -> 0 | H22: =(H24/H23)*100 -> 0 | I22: =(I24/I23)*100 -> 0 | J22: =(J24/J23)*100 -> 0 | K22: =((J25-F23)/F23)*100 -> 0
E23: Debut | F23: =J21 -> 5058.49 | G23: =F25 -> 5058.49 | H23: =G25 -> 5058.49 | I23: =H25 -> 5058.49 | J23: =I25 -> 5058.49
A24: Chaque trimestre, dupliquez cette feuille pour garder votre historique total. | E24: Gain/Perte | F24: 0 | G24: 0 | H24: 0 | I24: 0 | J24: 0
E25: Fin | F25: =SUM(F23:F24) -> 5058.49 | G25: =SUM(G23:G24) -> 5058.49 | H25: =SUM(H23:H24) -> 5058.49 | I25: =SUM(I23:I24) -> 5058.49 | J25: =SUM(J23:J24) -> 5058.49
E26: =+E22+1 -> 40 | F26: =(F28/F27)*100 -> 0 | G26: =(G28/G27)*100 -> 0 | H26: =(H28/H27)*100 -> 0 | I26: =(I28/I27)*100 -> 0 | J26: =(J28/J27)*100 -> 0 | K26: =((J29-F27)/F27)*100 -> 0
E27: Debut | F27: =J25 -> 5058.49 | G27: =F29 -> 5058.49 | H27: =G29 -> 5058.49 | I27: =H29 -> 5058.49 | J27: =I29 -> 5058.49
E28: Gain/Perte | F28: 0 | G28: 0 | H28: 0 | I28: 0 | J28: 0
E29: Fin | F29: =SUM(F27:F28) -> 5058.49 | G29: =SUM(G27:G28) -> 5058.49 | H29: =SUM(H27:H28) -> 5058.49 | I29: =SUM(I27:I28) -> 5058.49 | J29: =SUM(J27:J28) -> 5058.49
E30: =+E26+1 -> 41 | F30: =(F32/F31)*100 -> 0 | G30: =(G32/G31)*100 -> 0 | H30: =(H32/H31)*100 -> 0 | I30: =(I32/I31)*100 -> 0 | J30: =(J32/J31)*100 -> 0 | K30: =((J33-F31)/F31)*100 -> 0
E31: Debut | F31: =J29 -> 5058.49 | G31: =F33 -> 5058.49 | H31: =G33 -> 5058.49 | I31: =H33 -> 5058.49 | J31: =I33 -> 5058.49
E32: Gain/Perte | F32: 0 | G32: 0 | H32: 0 | I32: 0 | J32: 0
E33: Fin | F33: =SUM(F31:F32) -> 5058.49 | G33: =SUM(G31:G32) -> 5058.49 | H33: =SUM(H31:H32) -> 5058.49 | I33: =SUM(I31:I32) -> 5058.49 | J33: =SUM(J31:J32) -> 5058.49
E34: =+E30+1 -> 42 | F34: =(F36/F35)*100 -> 0 | G34: =(G36/G35)*100 -> 0 | H34: =(H36/H35)*100 -> 0 | I34: =(I36/I35)*100 -> 0 | J34: =(J36/J35)*100 -> 0 | K34: =((J37-F35)/F35)*100 -> 0
E35: Debut | F35: =J33 -> 5058.49 | G35: =F37 -> 5058.49 | H35: =G37 -> 5058.49 | I35: =H37 -> 5058.49 | J35: =I37 -> 5058.49
E36: Gain/Perte | F36: 0 | G36: 0 | H36: 0 | I36: 0 | J36: 0
E37: Fin | F37: =SUM(F35:F36) -> 5058.49 | G37: =SUM(G35:G36) -> 5058.49 | H37: =SUM(H35:H36) -> 5058.49 | I37: =SUM(I35:I36) -> 5058.49 | J37: =SUM(J35:J36) -> 5058.49
E38: =+E34+1 -> 43 | F38: =(F40/F39)*100 -> 0 | G38: =(G40/G39)*100 -> 0 | H38: =(H40/H39)*100 -> 0 | I38: =(I40/I39)*100 -> 0 | J38: =(J40/J39)*100 -> 0 | K38: =((J41-F39)/F39)*100 -> 0
E39: Debut | F39: =J37 -> 5058.49 | G39: =F41 -> 5058.49 | H39: =G41 -> 5058.49 | I39: =H41 -> 5058.49 | J39: =I41 -> 5058.49
E40: Gain/Perte | F40: 0 | G40: 0 | H40: 0 | I40: 0 | J40: 0
...

Sheet Graphique evolution du capital
D2: En rouge : moyenne mobile à 5 périodes : Attention si votre courbe bleue reste longtemps sous la courbe rouge !

Sheet Suivi Position
B2: En Italique | C2: En attente
H3: Estimation | K3: Ratio G/R | L3: =+L5/H5 -> 0.41797942 | M3: H/D/W/M
B4: Système | C4: Jour | D4: Instrument | E4: Sens | F4: Stratégie | G4: Taille position | H4: Risque Pris | I4: Deposit | J4: Position | K4: Levier | L4: P/L réel | M4: Durée position | N4: Commentaire
E5: TOTAL | G5: =+I5/Capital_actuel -> 0.016309215 | H5: =SUM(H6:H74)+H77 -> 248.84 | I5: =SUM(I6:I74)+I77 -> 82.5 | J5: =SUM(J6:J74)+J77 -> 6380 | K5: =+J5/Capital_actuel -> 1.2612459 | L5: =SUM(L6:L74)+L77 -> 104.01
B6: Manuel | C6: 42978 | D6: FTSE | E6: L | F6: Swing Fibo | G6: 0 | H6: 48.1 | I6: =IF(G6=0,0,IF(ABS(H6)>J6*VLOOKUP(D6,Liste_Instrument,13,FALSE),H6,J6*VLOOKUP(D6,Liste_Instrument,13,FALSE))) -> 0 | J6: =G6*VLOOKUP(+D6,Liste_Instrument,7,FALSE) -> 0 | K6: =+J6/Capital_actuel -> 0 | L6: 21 | M6: H | N6: Premier trade après le test d'hier.
B7: Manuel | C7: 42978 | D7: EURUSD | E7: L | F7: Swing Fibo | G7: 0 | H7: 50 | I7: =IF(G7=0,0,IF(ABS(H7)>J7*VLOOKUP(D7,Liste_Instrument,13,FALSE),H7,J7*VLOOKUP(D7,Liste_Instrument,13,FALSE))) -> 0 | J7: =G7*VLOOKUP(+D7,Liste_Instrument,7,FALSE) -> 0 | K7: =+J7/Capital_actuel -> 0 | L7: 37.49 | M7: H | N7: Second trade USD court
B8: Manuel | C8: 42979 | D8: EURGBP | E8: S | F8: Swing Pivot | G8: 0 | H8: 68.24 | I8: =IF(G8=0,0,IF(ABS(H8)>J8*VLOOKUP(D8,Liste_Instrument,13,FALSE),H8,J8*VLOOKUP(D8,Liste_Instrument,13,FALSE))) -> 0 | J8: =IFERROR(G8*VLOOKUP(+D8,Liste_Instrument,7,FALSE),0) -> 0 | K8: =+J8/Capital_actuel -> 0 | L8: 45.52 | M8: H | N8: Essai point pivot sur la base des daily
B9: Manuel | C9: 42979 | D9: FTSE | E9: L | F9: Swing Pivot | G9: 1 | H9: 82.5 | I9: =IFERROR(IF(ABS(H9)>J9*VLOOKUP(D9,Liste_Instrument,13,FALSE),H9,J9*VLOOKUP(D9,Liste_Instrument,13,FALSE)),0) -> 82.5 | J9: =IFERROR(G9*VLOOKUP(+D9,Liste_Instrument,7,FALSE),0) -> 6380 | K9: =+J9/Capital_actuel -> 1.2612459 | N9: Position long dans le temps. Un coup de swing sur le pivot et Fibo
I10: =IFERROR(IF(ABS(H10)>J10*VLOOKUP(D10,Liste_Instrument,13,FALSE),H10,J10*VLOOKUP(D10,Liste_Instrument,13,FALSE)),0) -> 0 | J10: =IFERROR(G10*VLOOKUP(+D10,Liste_Instrument,7,FALSE),0) -> 0 | K10: =+J10/Capital_actuel -> 0
I11: =IFERROR(IF(ABS(H11)>J11*VLOOKUP(D11,Liste_Instrument,13,FALSE),H11,J11*VLOOKUP(D11,Liste_Instrument,13,FALSE)),0) -> 0 | J11: =IFERROR(G11*VLOOKUP(+D11,Liste_Instrument,7,FALSE),0) -> 0 | K11: =+J11/Capital_actuel -> 0
I12: =IFERROR(IF(ABS(H12)>J12*VLOOKUP(D12,Liste_Instrument,13,FALSE),H12,J12*VLOOKUP(D12,Liste_Instrument,13,FALSE)),0) -> 0 | J12: =IFERROR(G12*VLOOKUP(+D12,Liste_Instrument,7,FALSE),0) -> 0 | K12: =+J12/Capital_actuel -> 0

Sheet GainPerte Daily
C1: CUMUL | D1: Gain/Perte | E1: Gain | F1: Perte | G1: Ratio P/L | H1: Nbre Gain | I1: Nbre Perte | J1: Ratio
D2: =+SUM(G5:G500) -> 107.49 | E2: =SUMIF(G5:G500,">0") -> 107.49 | F2: =SUMIF(G5:G500,"<0") -> 0 | G2: =IFERROR(+E2/F2,0) -> 0 | H2: =COUNTIF(G5:G500,">0") -> 4 | I2: =COUNTIF(G5:G500,"<0") -> 0 | J2: =IFERROR(+H2/I2,0) -> 0
C4: Semaine | D4: Jour | E4: Instrument | F4: Position | G4: Gain/Perte | H4: Type Trading | I4: Drawdown
C5: 35 | D5: 42977 | E5: EURGBP | F5: S | G5: 3.48 | H5: Swing | J5: Check` | K5: =SUM(K6:K10)-D2 -> 0
C6: 35 | D6: 42978 | E6: FTSE | F6: L | G6: 21 | H6: Swing | J6: Random | K6: =SUMIF(H$5:H109,J6,G$5:G109) -> 0
C7: 35 | D7: 42978 | E7: EURUSD | F7: L | G7: 37.49 | H7: Swing | J7: TS AR | K7: =SUMIF(H$5:H110,J7,G$5:G110) -> 0
C8: 35 | D8: 371697 | E8: EURGBP | F8: S | G8: 45.52 | H8: Swing | J8: Cross | K8: =SUMIF(H$5:H111,J8,G$5:G111) -> 0
J9: Hich | K9: =SUMIF(H$5:H112,J9,G$5:G112) -> 0
J10: Swing | K10: =SUMIF(H$5:H113,J10,G$5:G113) -> 107.49
J12: =+E6 -> FTSE | K12: =SUMIF(E$5:E115,J12,G$5:G115) -> 21
J13: =+E8 -> EURGBP | K13: =SUMIF(E$5:E116,J13,G$5:G116) -> 49
J14: =+E23 -> 0 | K14: =SUMIF(E$5:E117,J14,G$5:G117) -> 0
J15: =+E25 -> 0 | K15: =SUMIF(E$5:E118,J15,G$5:G118) -> 0
J16: =+E36 -> 0 | K16: =SUMIF(E$5:E119,J16,G$5:G119) -> 0
J17: =+E44 -> 0 | K17: =SUMIF(E$5:E120,J17,G$5:G120) -> 0
J18: =+E58 -> 0 | K18: =SUMIF(E$5:E121,J18,G$5:G121) -> 0

Sheet Position Forex&Indice
C3: Capital disponible | D3: =+Capital_actuel -> 5058.49
B4: Saisir risque maxi | D4: 0.02 | E4: par trade
C5: C/V risque Maxi | D5: =+Risque_Maxi*D3 -> 101.1698
C8: Simulation
C10: Instrument | D10: Stop Loss | E10: Nombre de lots
C11: FTSE | E11: 1 | F11: Rentrer le stop loss souhaité ou le nombre de lot (pas les 2) et laisser en blanc la seconde possibilité
C12: Calcul | D12: =IFERROR(IF(D11="",+D5/E11/VLOOKUP(C11,Liste_Instrument,10,FALSE),""),"") -> 101.1698 | E12: =IFERROR(IF(E11="",D5/D11/VLOOKUP(C11,Liste_Instrument,10,FALSE),""),"") | F12: Calcul le stop loss seln les lots et le risque maxi (ou les lots selon stop loss et risque maxi)
C15: Durée du trading recommandée en fonction de la volatilité
D16: Support | F16: M30 | G16: H1 | H16: H4 | I16: D | J16: W | K16: M
C17: Instrument | D17: =+C11 -> FTSE | F17: =DGET('Pips et volatilité'!$E$19:$P$28,7,$D$16:$D$17) -> 20 | G17: =DGET('Pips et volatilité'!$E$19:$P$28,8,$D$16:$D$17) -> 25 | H17: =DGET('Pips et volatilité'!$E$19:$P$28,9,$D$16:$D$17) -> 40 | I17: =DGET('Pips et volatilité'!$E$19:$P$28,10,$D$16:$D$17) -> 80 | J17: =DGET('Pips et volatilité'!$E$19:$P$28,11,$D$16:$D$17) -> 300 | K17: =DGET('Pips et volatilité'!$E$19:$P$28,12,$D$16:$D$17) -> 400
C18: Stop Loss | D18: =IF(D11="",D12,D11) -> 101.1698
C19: Nbre de lot | D19: =IF(E11="",E12,E11) -> 1
C20: Levier | D20: =+D19*VLOOKUP(D17,Liste_Instrument,7,FALSE)/Capital_actuel -> 1.2612459
C21: Horizon Maxi | D21: D | E21: Reporter dans la case de gauche l'horizon correspondant à la volatilité la plus proche (borne inférieure) du stop loss déterminé

Sheet Pips et volatilité
K5: Amplitude
B6: Mini | C6: Taille mini | E6: Support | F6: Nominal indicatif | G6: Valeur du Pips | H6: Valeur du contrat | I6: Taille pips | J6: Pips en % | K6: H30 | L6: H1 | M6: H4 | N6: D | O6: W | P6: M
A7: 10 | B7: oui | C7: 0.5 | E7: EURUSD | F7: 1.2 | G7: 0.84 | H7: =+F7/I7*G7 -> 10080 | I7: 0.0001 | J7: =+G7/H7 -> 8.3333333e-05 | K7: 0.003 | L7: 0.006 | M7: 0.01 | N7: 0.02 | O7: 0.05 | P7: 0.1
A8: 100 | C8: 0.5 | E8: EURJPY | F8: 140 | G8: 0.76 | H8: =+F8/I8*G8 -> 10640 | I8: 0.01 | J8: =+G8/H8 -> 7.1428571e-05 | K8: 0.003 | L8: 0.005 | M8: 0.01 | N8: 0.02 | O8: 0.05 | P8: 0.2
A9: 1 | B9: oui | C9: 0.5 | E9: EURGBP | F9: 0.923 | G9: =+A9/F9 -> 1.0834236 | H9: =+F9/I9*G9 -> 10000 | I9: 0.0001 | J9: =+G9/H9 -> 0.00010834236
A10: 1 | B10: oui | C10: 0.5 | E10: PXI | F10: 5000 | G10: 1 | H10: =+F10/I10 -> 5000 | I10: 1 | J10: =+G10/H10 -> 0.0002 | K10: 0.005 | L10: 0.007 | M10: 0.015 | N10: 0.02 | O10: 0.05 | P10: 0.1
E11: DAX | F11: 12000 | G11: 5 | H11: =+F11/I11 -> 12000 | I11: 1 | J11: =+G11/H11 -> 0.00041666667
B12: oui | C12: 0.5 | E12: FTSE | F12: 7400 | G12: 1 | H12: =+G12*F12 -> 7400 | I12: 1 | J12: =+G12/H12 -> 0.00013513514 | K12: 0.003 | L12: 0.007 | M12: 0.01 | N12: 0.02 | O12: 0.1 | P12: 0.25
B13: oui | C13: 0.5 | E13: E50 | F13: 3400 | G13: 2 | H13: =+G13*F13 -> 6800 | I13: 1 | J13: =+G13/H13 -> 0.00029411765 | K13: 0.005 | L13: 0.007 | M13: 0.015 | N13: =+N10 -> 0.02 | O13: =+O10 -> 0.05 | P13: =+P10 -> 0.1
C14: 5 | E14: GOLDONE | F14: 1305 | G14: 1 | H14: 1305 | I14: 1 | J14: =+G14/H14 -> 0.00076628352 | K14: 0.01 | L14: 0.02 | M14: 0.02 | N14: 0.025 | O14: 0.05 | P14: 0.15
B15: oui | C15: 0.5 | E15: GOLD10 | F15: 1305 | G15: 0.84 | H15: 1305 | I15: 1 | J15: =+G15/H15 -> 0.00064367816 | K15: 0.01 | L15: 0.02 | M15: 0.02 | N15: 0.025 | O15: 0.05 | P15: 0.15
K18: Amplitude en pips
B19: Mini | E19: Support | F19: Nominal indicatif | G19: Valeur du Pips | H19: Valeur du contrat | I19: Taille pips | J19: Pips en % | K19: M30 | L19: H1 | M19: H4 | N19: D | O19: W | P19: M
E20: EURUSD | F20: =F7 -> 1.2 | G20: =G7 -> 0.84 | H20: =H7 -> 10080 | I20: =I7 -> 0.0001 | J20: =J7 -> 8.3333333e-05 | K20: 5 | L20: 5 | M20: 10 | N20: 20 | O20: 50 | P20: 100
E21: EURJPY | F21: =F8 -> 140 | G21: =G8 -> 0.76 | H21: =H8 -> 10640 | I21: =I8 -> 0.01 | J21: =J8 -> 7.1428571e-05 | K21: 20 | L21: 40 | M21: 40 | N21: 100 | O21: 240 | P21: 500
E22: EURGBP | F22: =F9 -> 0.923 | G22: =G9 -> 1.0834236 | H22: =H9 -> 10000 | I22: =I9 -> 0.0001 | J22: =J9 -> 0.00010834236 | K22: 15 | L22: 15 | M22: 40 | N22: 80 | O22: 180 | P22: 360
B23: oui | E23: PXI | F23: =F10 -> 5000 | G23: =G10 -> 1 | H23: =H10 -> 5000 | I23: =I10 -> 1 | J23: =J10 -> 0.0002 | K23: 10 | L23: 20 | M23: 40 | N23: 80 | O23: 250 | P23: 400
E24: DAX | F24: =F11 -> 12000 | G24: =G11 -> 5 | H24: =H11 -> 12000 | I24: =I11 -> 1 | J24: =J11 -> 0.00041666667
E25: FTSE | F25: =F12 -> 7400 | G25: =G12 -> 1 | H25: =H12 -> 7400 | I25: =I12 -> 1 | J25: =J12 -> 0.00013513514 | K25: 20 | L25: 25 | M25: 40 | N25: 80 | O25: 300 | P25: 400
E26: E50 | F26: =F13 -> 3400 | G26: =G13 -> 2 | H26: =H13 -> 6800 | I26: =I13 -> 1 | J26: =J13 -> 0.00029411765 | K26: 10 | L26: 10 | M26: 30 | N26: 50 | O26: 150 | P26: 300
E27: =+E14 -> GOLDONE | F27: =F14 -> 1305 | G27: =G14 -> 1 | H27: =H14 -> 1305 | I27: =I14 -> 1 | J27: =J14 -> 0.00076628352 | K27: 5 | L27: 5 | M27: 10 | N27: 20 | O27: 50 | P27: 100
B28: oui | E28: =+E15 -> GOLD10 | F28: =F15 -> 1305 | G28: =G15 -> 0.84 | H28: =H15 -> 1305 | I28: =I15 -> 1 | J28: =J15 -> 0.00064367816 | K28: 5 | L28: 5 | M28: 10 | N28: 20 | O28: 50 | P28: 100
E42: Sensibilité par stoploss | F42: Risque en Euros
F43: 50 | G43: 100 | H43: 200 | I43: 500 | J43: 1000 | K43: 2000 | L43: 5000
E44: EURUSD | F44: =+F$43/$G20 -> 59.52381 | G44: =+G$43/$G20 -> 119.04762 | H44: =+H$43/$G20 -> 238.09524 | I44: =+I$43/$G20 -> 595.2381 | J44: =+J$43/$G20 -> 1190.4762 | K44: =+K$43/$G20 -> 2380.9524 | L44: =+L$43/$G20 -> 5952.381
E45: EURJPY | F45: =+F$43/$G21 -> 65.789474 | G45: =+G$43/$G21 -> 131.57895 | H45: =+H$43/$G21 -> 263.15789 | I45: =+I$43/$G21 -> 657.89474 | J45: =+J$43/$G21 -> 1315.7895 | K45: =+K$43/$G21 -> 2631.5789 | L45: =+L$43/$G21 -> 6578.9474
E46: EURGBP | F46: =+F$43/$G22 -> 46.15 | G46: =+G$43/$G22 -> 92.3 | H46: =+H$43/$G22 -> 184.6 | I46: =+I$43/$G22 -> 461.5 | J46: =+J$43/$G22 -> 923 | K46: =+K$43/$G22 -> 1846 | L46: =+L$43/$G22 -> 4615
E47: F40 | F47: =+F$43/$G23 -> 50 | G47: =+G$43/$G23 -> 100 | H47: =+H$43/$G23 -> 200 | I47: =+I$43/$G23 -> 500 | J47: =+J$43/$G23 -> 1000 | K47: =+K$43/$G23 -> 2000 | L47: =+L$43/$G23 -> 5000
E48: DAX | F48: =+F$43/$G24 -> 10 | G48: =+G$43/$G24 -> 20 | H48: =+H$43/$G24 -> 40 | I48: =+I$43/$G24 -> 100 | J48: =+J$43/$G24 -> 200 | K48: =+K$43/$G24 -> 400 | L48: =+L$43/$G24 -> 1000
E49: FTSE | F49: =+F$43/$G25 -> 50 | G49: =+G$43/$G25 -> 100 | H49: =+H$43/$G25 -> 200 | I49: =+I$43/$G25 -> 500 | J49: =+J$43/$G25 -> 1000 | K49: =+K$43/$G25 -> 2000 | L49: =+L$43/$G25 -> 5000
E50: E50 | F50: =+F$43/$G26 -> 25 | G50: =+G$43/$G26 -> 50 | H50: =+H$43/$G26 -> 100 | I50: =+I$43/$G26 -> 250 | J50: =+J$43/$G26 -> 500 | K50: =+K$43/$G26 -> 1000 | L50: =+L$43/$G26 -> 2500
E51: GOLD | F51: =+F$43/$G28 -> 59.52381 | G51: =+G$43/$G28 -> 119.04762 | H51: =+H$43/$G28 -> 238.09524 | I51: =+I$43/$G28 -> 595.2381 | J51: =+J$43/$G28 -> 1190.4762 | K51: =+K$43/$G28 -> 2380.9524 | L51: =+L$43/$G28 -> 5952.381

Sheet Instruments
B2: Liste des instruments et caractérstiques
B4: Code | C4: Devise | D4: Mini | E4: Type | F4: Ordre minimum | G4: Cours indicatif | H4: Valeur contrat | I4: Valeur Pips | J4: Taille Pips | K4: C/V Pips€ | L4: Spread fixe | M4: Spread en % | N4: Deposit | O4: Ecart mini au Stop | P4: Ecart mini au stop garanti | Q4: Levier selon capital mini par contrat
B5: EURUSD | C5: USD | D5: Oui | E5: Forex | F5: 0.5 | G5: 1.18745 | H5: 10000 | I5: 1 | J5: 0.0001 | K5: =+I5/VLOOKUP(C5,Data!$F$6:$G$11,2,FALSE) -> 0.83333333 | L5: 0.75 | M5: 0 | N5: 0.004 | O5: 2 | P5: 5 | Q5: =H5*F5/Capital_actuel -> 0.98843726
B6: EURGBP | C6: GBP | D6: Oui | E6: Forex | F6: 0.5 | G6: 0.92 | H6: 10000 | I6: 1 | J6: 0.0001 | K6: =+I6/VLOOKUP(C6,Data!$F$6:$G$11,2,FALSE) -> 1.0869565 | L6: 1.2 | M6: 0 | N6: 0.01 | O6: 2 | P6: 5 | Q6: =H6*F6/Capital_actuel -> 0.98843726
B7: EURJPY | C7: JPY | D7: Oui | E7: Forex | F7: 0.5 | G7: 132 | H7: 10000 | I7: 100 | J7: 0.01 | K7: =+I7/VLOOKUP(C7,Data!$F$6:$G$11,2,FALSE) -> 0.76 | L7: 2 | M7: 0 | N7: 0.004 | O7: 6 | P7: 10 | Q7: =H7*F7/Capital_actuel -> 0.98843726
B8: EURCHF | C8: CHF | D8: Oui | E8: Forex | F8: 0.5 | G8: 1.15 | H8: 10000 | I8: 1 | J8: 0.0001 | K8: =+I8/VLOOKUP(C8,Data!$F$6:$G$11,2,FALSE) -> 0.86956522 | L8: 2.3 | M8: 0 | N8: 0.015 | O8: 10 | P8: =0.5%*G8/J8 -> 57.5 | Q8: =H8*F8/Capital_actuel -> 0.98843726
B9: FTSE | C9: EUR | D9: Oui | E9: Indice | F9: 0.5 | G9: 7380 | H9: 6380 | I9: 1 | J9: 1 | K9: =+I9/VLOOKUP(C9,Data!$F$6:$G$11,2,FALSE) -> 1 | L9: 2 | M9: 0 | N9: 0.0075 | O9: 4 | P9: 4 | Q9: =H9*F9/Capital_actuel -> 0.63062297
B10: PXI | C10: EUR | D10: Oui | E10: Indice | F10: 0.5 | G10: 5100 | H10: 5100 | I10: 1 | J10: 1 | K10: =+I10/VLOOKUP(C10,Data!$F$6:$G$11,2,FALSE) -> 1 | L10: 1 | M10: 0 | N10: 0.004 | O10: 4 | P10: 4 | Q10: =H10*F10/Capital_actuel -> 0.504103
B11: E50 | C11: EUR | D11: Oui | E11: Indice | F11: 0.5 | G11: 3300 | H11: 6800 | I11: 2 | J11: 1 | K11: =+I11/VLOOKUP(C11,Data!$F$6:$G$11,2,FALSE) -> 2 | L11: 1.5 | M11: 0 | N11: 0.006 | O11: 3 | P11: 3 | Q11: =H11*F11/Capital_actuel -> 0.67213734
B12: GOLDONE | C12: EUR | D12: Oui | E12: Métal | F12: 5 | G12: 1305 | H12: 1305 | I12: 1 | J12: 1 | K12: =+I12/VLOOKUP(C12,Data!$F$6:$G$11,2,FALSE) -> 1 | L12: 0.3 | M12: 0 | N12: 0.005 | O12: 1 | P12: 2 | Q12: =H12*F12/Capital_actuel -> 1.2899106
B13: GOLD10 | C13: USD | D13: Oui | E13: Métal | F13: 0.5 | G13: 1305 | H13: =+G13*10 -> 13050 | I13: 10 | J13: 10 | K13: =+I13/VLOOKUP(C13,Data!$F$6:$G$11,2,FALSE) -> 8.3333333 | L13: 0.3 | M13: 0 | N13: 0.005 | O13: 1 | P13: 1 | Q13: =H13*F13/Capital_actuel -> 1.2899106

Sheet Data
F4: Date MàJ | G4: 42978
C5: Code instrument | F5: Cours de change | I5: Type Instrument
C6: EURUSD | F6: Devise | G6: Cours en € | I6: Indice
C7: EURJPY | F7: USD | G7: 1.2 | I7: Forex
C8: EURGBP | F8: JPY | G8: =100/0.76 -> 131.57895 | I8: Métal
C9: PXI | F9: GBP | G9: 0.92
C10: FTSE | F10: EUR | G10: 1
C11: E50 | F11: CHF | G11: 1.15
C12: GOLD10
C13: GOLDONE
C14: EURCHF
