Workbook

Sheet GER30
C2: Totale GER30 | E2: =SUM(F6:F332) -> 13.3 | G2: =E2 -> 13.3
D5: Ger30 | F5: Total
A6: D1 | B6: =SUM(F6+F14+F22+F30+F38+F46+F54+F62+F70+F78+F86+F94+F102+F110+F118+F126+F134+F142+F150+F158+F166+F174+F182+F190+F198+F206+F214+F222) -> 0 | D6: 43132 | E6: D1. | F6: =SUM(G6:W6) -> 0
A7: H8 | B7: =SUM(F7+F15+F23+F31+F39+F47+F55+F63+F71+F79+F87+F95+F103+F111+F119+F127+F135+F143+F151+F159+F167+F175+F183+F191+F199+F207+F215+F223) -> 13.3 | D7: =SUM('GER30'!F6:F13) -> 0 | E7: H8. | F7: =SUM(G7:W7) -> 0
A8: H4 | B8: =SUM(F8+F16+F24+F32+F40+F48+F56+F64+F72+F80+F88+F96+F104+F112+F120+F128+F136+F144+F152+F160+F168+F176+F184+F192+F200+F208+F216+F224) -> 0 | E8: H4. | F8: =SUM(G8:W8) -> 0
A9: H2 | B9: =SUM(F9+F17+F25+F33+F41+F49+F57+F65+F73+F81+F89+F97+F105+F113+F121+F129+F137+F145+F153+F161+F169+F177+F185+F193+F201+F209+F217+F225) -> 0 | E9: H2. | F9: =SUM(G9:W9) -> 0
A10: M30 | B10: =SUM(F10+F18+F26+F34+F42+F50+F58+F66+F74+F82+F90+F98+F106+F114+F122+F130+F138+F146+F154+F162+F170+F178+F186+F194+F202+F210+F218+F226) -> 0 | E10: M30. | F10: =SUM(G10:W10) -> 0
A11: M15 | B11: =SUM(F11+F19+F27+F35+F43+F51+F59+F67+F75+F83+F91+F99+F107+F115+F123+F131+F139+F147+F155+F163+F171+F179+F187+F195+F203+F211+F219+F227) -> 0 | E11: M15. | F11: =SUM(G11:W11) -> 0
A12: M5 | B12: =SUM(F12+F20+F28+F36+F44+F52+F60+F68+F76+F84+F92+F100+F108+F116+F124+F132+F140+F148+F156+F164+F172+F180+F188+F196+F204+F212+F220+F228) -> 0 | E12: M5. | F12: =SUM(G12:W12) -> 0
A13: M1 | B13: =SUM(F13+F21+F29+F37+F45+F53+F61+F69+F77+F85+F93+F101+F109+F117+F125+F133+F141+F149+F157+F165+F173+F181+F189+F197+F205+F213+F221+F229) -> 0 | E13: M1. | F13: =SUM(G13:W13) -> 0
D14: 43133 | E14: D1. | F14: =SUM(G14:W14) -> 0
D15: =SUM(F14:F21) -> 13.3 | E15: H8. | F15: =SUM(G15:W15) -> 13.3 | G15: 13.3
E16: H4. | F16: =SUM(G16:W16) -> 0
E17: H2. | F17: =SUM(G17:W17) -> 0
E18: M30. | F18: =SUM(G18:W18) -> 0
E19: M15. | F19: =SUM(G19:W19) -> 0
E20: M5. | F20: =SUM(G20:W20) -> 0
E21: M1. | F21: =SUM(G21:W21) -> 0
D22: 43134 | E22: D1. | F22: =SUM(G22:W22) -> 0
D23: =SUM(F22:F29) -> 0 | E23: H8. | F23: =SUM(G23:W23) -> 0
E24: H4. | F24: =SUM(G24:W24) -> 0
E25: H2. | F25: =SUM(G25:W25) -> 0
E26: M30. | F26: =SUM(G26:W26) -> 0
E27: M15. | F27: =SUM(G27:W27) -> 0
E28: M5. | F28: =SUM(G28:W28) -> 0
E29: M1. | F29: =SUM(G29:W29) -> 0
D30: 43135 | E30: D1. | F30: =SUM(G30:W30) -> 0
D31: =SUM(F30:F37) -> 0 | E31: H8. | F31: =SUM(G31:W31) -> 0
E32: H4. | F32: =SUM(G32:W32) -> 0
E33: H2. | F33: =SUM(G33:W33) -> 0
E34: M30. | F34: =SUM(G34:W34) -> 0
E35: M15. | F35: =SUM(G35:W35) -> 0
E36: M5. | F36: =SUM(G36:W36) -> 0
E37: M1. | F37: =SUM(G37:W37) -> 0
D38: 43136 | E38: D1. | F38: =SUM(G38:W38) -> 0
D39: =SUM(F38:F45) -> 0 | E39: H8. | F39: =SUM(G39:W39) -> 0
E40: H4. | F40: =SUM(G40:W40) -> 0
E41: H2. | F41: =SUM(G41:W41) -> 0
E42: M30. | F42: =SUM(G42:W42) -> 0
E43: M15. | F43: =SUM(G43:W43) -> 0
E44: M5. | F44: =SUM(G44:W44) -> 0
E45: M1. | F45: =SUM(G45:W45) -> 0
D46: 43137 | E46: D1. | F46: =SUM(G46:W46) -> 0
D47: =SUM(F46:F53) -> 0 | E47: H8. | F47: =SUM(G47:W47) -> 0
E48: H4. | F48: =SUM(G48:W48) -> 0
E49: H2. | F49: =SUM(G49:W49) -> 0
E50: M30. | F50: =SUM(G50:W50) -> 0
E51: M15. | F51: =SUM(G51:W51) -> 0
E52: M5. | F52: =SUM(G52:W52) -> 0
E53: M1. | F53: =SUM(G53:W53) -> 0
D54: 43138 | E54: D1. | F54: =SUM(G54:W54) -> 0
D55: =SUM(F54:F61) -> 0 | E55: H8. | F55: =SUM(G55:W55) -> 0
E56: H4. | F56: =SUM(G56:W56) -> 0
E57: H2. | F57: =SUM(G57:W57) -> 0
E58: M30. | F58: =SUM(G58:W58) -> 0
E59: M15. | F59: =SUM(G59:W59) -> 0
E60: M5. | F60: =SUM(G60:W60) -> 0
E61: M1. | F61: =SUM(G61:W61) -> 0
D62: 43139 | E62: D1. | F62: =SUM(G62:W62) -> 0
D63: =SUM(F62:F69) -> 0 | E63: H8. | F63: =SUM(G63:W63) -> 0
E64: H4. | F64: =SUM(G64:W64) -> 0
E65: H2. | F65: =SUM(G65:W65) -> 0
E66: M30. | F66: =SUM(G66:W66) -> 0
E67: M15. | F67: =SUM(G67:W67) -> 0
E68: M5. | F68: =SUM(G68:W68) -> 0
E69: M1. | F69: =SUM(G69:W69) -> 0
D70: 43140 | E70: D1. | F70: =SUM(G70:W70) -> 0
D71: =SUM(F70:F77) -> 0 | E71: H8. | F71: =SUM(G71:W71) -> 0
E72: H4. | F72: =SUM(G72:W72) -> 0
E73: H2. | F73: =SUM(G73:W73) -> 0
E74: M30. | F74: =SUM(G74:W74) -> 0
E75: M15. | F75: =SUM(G75:W75) -> 0
E76: M5. | F76: =SUM(G76:W76) -> 0
E77: M1. | F77: =SUM(G77:W77) -> 0
D78: 43141 | E78: D1. | F78: =SUM(G78:W78) -> 0
D79: =SUM(F78:F85) -> 0 | E79: H8. | F79: =SUM(G79:W79) -> 0
E80: H4. | F80: =SUM(G80:W80) -> 0
E81: H2. | F81: =SUM(G81:W81) -> 0
E82: M30. | F82: =SUM(G82:W82) -> 0
E83: M15. | F83: =SUM(G83:W83) -> 0
E84: M5. | F84: =SUM(G84:W84) -> 0
E85: M1. | F85: =SUM(G85:W85) -> 0
D86: 43142 | E86: D1. | F86: =SUM(G86:W86) -> 0
D87: =SUM(F86:F93) -> 0 | E87: H8. | F87: =SUM(G87:W87) -> 0
E88: H4. | F88: =SUM(G88:W88) -> 0
E89: H2. | F89: =SUM(G89:W89) -> 0
E90: M30. | F90: =SUM(G90:W90) -> 0
E91: M15. | F91: =SUM(G91:W91) -> 0
E92: M5. | F92: =SUM(G92:W92) -> 0
E93: M1. | F93: =SUM(G93:W93) -> 0
D94: 43143 | E94: D1. | F94: =SUM(G94:W94) -> 0
D95: =SUM(F94:F101) -> 0 | E95: H8. | F95: =SUM(G95:W95) -> 0
E96: H4. | F96: =SUM(G96:W96) -> 0
E97: H2. | F97: =SUM(G97:W97) -> 0
E98: M30. | F98: =SUM(G98:W98) -> 0
E99: M15. | F99: =SUM(G99:W99) -> 0
E100: M5. | F100: =SUM(G100:W100) -> 0
E101: M1. | F101: =SUM(G101:W101) -> 0
D102: 43144 | E102: D1. | F102: =SUM(G102:W102) -> 0
D103: =SUM(F102:F109) -> 0 | E103: H8. | F103: =SUM(G103:W103) -> 0
...

Sheet EURUSD
C2: Totale EUR/USD | E2: =SUM(F6:F332) -> 0
D5: EUR/USDS | F5: Total
A6: D1 | B6: =SUM(F6+F14+F22+F30+F38+F46+F54+F62+F70+F78+F86+F94+F102+F110+F118+F126+F134+F142+F150+F158+F166+F174+F182+F190+F198+F206+F214+F222) -> 0 | D6: 43132 | E6: D1. | F6: =SUM(G6:W6) -> 0
A7: H8 | B7: =SUM(F7+F15+F23+F31+F39+F47+F55+F63+F71+F79+F87+F95+F103+F111+F119+F127+F135+F143+F151+F159+F167+F175+F183+F191+F199+F207+F215+F223) -> 0 | D7: =SUM(F6:F13) -> 0 | E7: H8. | F7: =SUM(G7:W7) -> 0
A8: H4 | B8: =SUM(F8+F16+F24+F32+F40+F48+F56+F64+F72+F80+F88+F96+F104+F112+F120+F128+F136+F144+F152+F160+F168+F176+F184+F192+F200+F208+F216+F224) -> 0 | E8: H4. | F8: =SUM(G8:W8) -> 0
A9: H2 | B9: =SUM(F9+F17+F25+F33+F41+F49+F57+F65+F73+F81+F89+F97+F105+F113+F121+F129+F137+F145+F153+F161+F169+F177+F185+F193+F201+F209+F217+F225) -> 0 | E9: H2. | F9: =SUM(G9:W9) -> 0
A10: M30 | B10: =SUM(F10+F18+F26+F34+F42+F50+F58+F66+F74+F82+F90+F98+F106+F114+F122+F130+F138+F146+F154+F162+F170+F178+F186+F194+F202+F210+F218+F226) -> 0 | E10: M30. | F10: =SUM(G10:W10) -> 0
A11: M15 | B11: =SUM(F11+F19+F27+F35+F43+F51+F59+F67+F75+F83+F91+F99+F107+F115+F123+F131+F139+F147+F155+F163+F171+F179+F187+F195+F203+F211+F219+F227) -> 0 | E11: M15. | F11: =SUM(G11:W11) -> 0
A12: M5 | B12: =SUM(F12+F20+F28+F36+F44+F52+F60+F68+F76+F84+F92+F100+F108+F116+F124+F132+F140+F148+F156+F164+F172+F180+F188+F196+F204+F212+F220+F228) -> 0 | E12: M5. | F12: =SUM(G12:W12) -> 0
A13: M1 | B13: =SUM(F13+F21+F29+F37+F45+F53+F61+F69+F77+F85+F93+F101+F109+F117+F125+F133+F141+F149+F157+F165+F173+F181+F189+F197+F205+F213+F221+F229) -> 0 | E13: M1. | F13: =SUM(G13:W13) -> 0
D14: 43133 | E14: D1. | F14: =SUM(G14:W14) -> 0
D15: =SUM(F14:F21) -> 0 | E15: H8. | F15: =SUM(G15:W15) -> 0
E16: H4. | F16: =SUM(G16:W16) -> 0
E17: H2. | F17: =SUM(G17:W17) -> 0
E18: M30. | F18: =SUM(G18:W18) -> 0
E19: M15. | F19: =SUM(G19:W19) -> 0
E20: M5. | F20: =SUM(G20:W20) -> 0
E21: M1. | F21: =SUM(G21:W21) -> 0
D22: 43134 | E22: D1. | F22: =SUM(G22:W22) -> 0
D23: =SUM(F22:F29) -> 0 | E23: H8. | F23: =SUM(G23:W23) -> 0
E24: H4. | F24: =SUM(G24:W24) -> 0
E25: H2. | F25: =SUM(G25:W25) -> 0
E26: M30. | F26: =SUM(G26:W26) -> 0
E27: M15. | F27: =SUM(G27:W27) -> 0
E28: M5. | F28: =SUM(G28:W28) -> 0
E29: M1. | F29: =SUM(G29:W29) -> 0
D30: 43135 | E30: D1. | F30: =SUM(G30:W30) -> 0
D31: =SUM(F30:F37) -> 0 | E31: H8. | F31: =SUM(G31:W31) -> 0
E32: H4. | F32: =SUM(G32:W32) -> 0
E33: H2. | F33: =SUM(G33:W33) -> 0
E34: M30. | F34: =SUM(G34:W34) -> 0
E35: M15. | F35: =SUM(G35:W35) -> 0
E36: M5. | F36: =SUM(G36:W36) -> 0
E37: M1. | F37: =SUM(G37:W37) -> 0
D38: 43136 | E38: D1. | F38: =SUM(G38:W38) -> 0
D39: =SUM(F38:F45) -> 0 | E39: H8. | F39: =SUM(G39:W39) -> 0
E40: H4. | F40: =SUM(G40:W40) -> 0
E41: H2. | F41: =SUM(G41:W41) -> 0
E42: M30. | F42: =SUM(G42:W42) -> 0
E43: M15. | F43: =SUM(G43:W43) -> 0
E44: M5. | F44: =SUM(G44:W44) -> 0
E45: M1. | F45: =SUM(G45:W45) -> 0
D46: 43137 | E46: D1. | F46: =SUM(G46:W46) -> 0
D47: =SUM(F46:F53) -> 0 | E47: H8. | F47: =SUM(G47:W47) -> 0
E48: H4. | F48: =SUM(G48:W48) -> 0
E49: H2. | F49: =SUM(G49:W49) -> 0
E50: M30. | F50: =SUM(G50:W50) -> 0
E51: M15. | F51: =SUM(G51:W51) -> 0
E52: M5. | F52: =SUM(G52:W52) -> 0
E53: M1. | F53: =SUM(G53:W53) -> 0
D54: 43138 | E54: D1. | F54: =SUM(G54:W54) -> 0
D55: =SUM(F54:F61) -> 0 | E55: H8. | F55: =SUM(G55:W55) -> 0
E56: H4. | F56: =SUM(G56:W56) -> 0
E57: H2. | F57: =SUM(G57:W57) -> 0
E58: M30. | F58: =SUM(G58:W58) -> 0
E59: M15. | F59: =SUM(G59:W59) -> 0
E60: M5. | F60: =SUM(G60:W60) -> 0
E61: M1. | F61: =SUM(G61:W61) -> 0
D62: 43139 | E62: D1. | F62: =SUM(G62:W62) -> 0
D63: =SUM(F62:F69) -> 0 | E63: H8. | F63: =SUM(G63:W63) -> 0
E64: H4. | F64: =SUM(G64:W64) -> 0
E65: H2. | F65: =SUM(G65:W65) -> 0
E66: M30. | F66: =SUM(G66:W66) -> 0
E67: M15. | F67: =SUM(G67:W67) -> 0
E68: M5. | F68: =SUM(G68:W68) -> 0
E69: M1. | F69: =SUM(G69:W69) -> 0
D70: 43140 | E70: D1. | F70: =SUM(G70:W70) -> 0
D71: =SUM(F70:F77) -> 0 | E71: H8. | F71: =SUM(G71:W71) -> 0
E72: H4. | F72: =SUM(G72:W72) -> 0
E73: H2. | F73: =SUM(G73:W73) -> 0
E74: M30. | F74: =SUM(G74:W74) -> 0
E75: M15. | F75: =SUM(G75:W75) -> 0
E76: M5. | F76: =SUM(G76:W76) -> 0
E77: M1. | F77: =SUM(G77:W77) -> 0
D78: 43141 | E78: D1. | F78: =SUM(G78:W78) -> 0
D79: =SUM(F78:F85) -> 0 | E79: H8. | F79: =SUM(G79:W79) -> 0
E80: H4. | F80: =SUM(G80:W80) -> 0
E81: H2. | F81: =SUM(G81:W81) -> 0
E82: M30. | F82: =SUM(G82:W82) -> 0
E83: M15. | F83: =SUM(G83:W83) -> 0
E84: M5. | F84: =SUM(G84:W84) -> 0
E85: M1. | F85: =SUM(G85:W85) -> 0
D86: 43142 | E86: D1. | F86: =SUM(G86:W86) -> 0
D87: =SUM(F86:F93) -> 0 | E87: H8. | F87: =SUM(G87:W87) -> 0
E88: H4. | F88: =SUM(G88:W88) -> 0
E89: H2. | F89: =SUM(G89:W89) -> 0
E90: M30. | F90: =SUM(G90:W90) -> 0
E91: M15. | F91: =SUM(G91:W91) -> 0
E92: M5. | F92: =SUM(G92:W92) -> 0
E93: M1. | F93: =SUM(G93:W93) -> 0
D94: 43143 | E94: D1. | F94: =SUM(G94:W94) -> 0
D95: =SUM(F94:F101) -> 0 | E95: H8. | F95: =SUM(G95:W95) -> 0
E96: H4. | F96: =SUM(G96:W96) -> 0
E97: H2. | F97: =SUM(G97:W97) -> 0
E98: M30. | F98: =SUM(G98:W98) -> 0
E99: M15. | F99: =SUM(G99:W99) -> 0
E100: M5. | F100: =SUM(G100:W100) -> 0
E101: M1. | F101: =SUM(G101:W101) -> 0
D102: 43144 | E102: D1. | F102: =SUM(G102:W102) -> 0
D103: =SUM(F102:F109) -> 0 | E103: H8. | F103: =SUM(G103:W103) -> 0
...

Sheet USDJPY
C2: Totale USD/JPY | E2: =SUM(F6:F332) -> 3.04 | G2: =E2 -> 3.04
D5: USD/JPY | F5: Total
A6: D1 | B6: =SUM(F6+F14+F22+F30+F38+F46+F54+F62+F70+F78+F86+F94+F102+F110+F118+F126+F134+F142+F150+F158+F166+F174+F182+F190+F198+F206+F214+F222) -> 0 | D6: 43132 | E6: D1. | F6: =SUM(G6:W6) -> 0
A7: H8 | B7: =SUM(F7+F15+F23+F31+F39+F47+F55+F63+F71+F79+F87+F95+F103+F111+F119+F127+F135+F143+F151+F159+F167+F175+F183+F191+F199+F207+F215+F223) -> 3.04 | D7: =SUM(F6:F13) -> 0 | E7: H8. | F7: =SUM(G7:W7) -> 0
A8: H4 | B8: =SUM(F8+F16+F24+F32+F40+F48+F56+F64+F72+F80+F88+F96+F104+F112+F120+F128+F136+F144+F152+F160+F168+F176+F184+F192+F200+F208+F216+F224) -> 0 | E8: H4. | F8: =SUM(G8:W8) -> 0
A9: H2 | B9: =SUM(F9+F17+F25+F33+F41+F49+F57+F65+F73+F81+F89+F97+F105+F113+F121+F129+F137+F145+F153+F161+F169+F177+F185+F193+F201+F209+F217+F225) -> 0 | E9: H2. | F9: =SUM(G9:W9) -> 0
A10: M30 | B10: =SUM(F10+F18+F26+F34+F42+F50+F58+F66+F74+F82+F90+F98+F106+F114+F122+F130+F138+F146+F154+F162+F170+F178+F186+F194+F202+F210+F218+F226) -> 0 | E10: M30. | F10: =SUM(G10:W10) -> 0
A11: M15 | B11: =SUM(F11+F19+F27+F35+F43+F51+F59+F67+F75+F83+F91+F99+F107+F115+F123+F131+F139+F147+F155+F163+F171+F179+F187+F195+F203+F211+F219+F227) -> 0 | E11: M15. | F11: =SUM(G11:W11) -> 0
A12: M5 | B12: =SUM(F12+F20+F28+F36+F44+F52+F60+F68+F76+F84+F92+F100+F108+F116+F124+F132+F140+F148+F156+F164+F172+F180+F188+F196+F204+F212+F220+F228) -> 0 | E12: M5. | F12: =SUM(G12:W12) -> 0
A13: M1 | B13: =SUM(F13+F21+F29+F37+F45+F53+F61+F69+F77+F85+F93+F101+F109+F117+F125+F133+F141+F149+F157+F165+F173+F181+F189+F197+F205+F213+F221+F229) -> 0 | E13: M1. | F13: =SUM(G13:W13) -> 0
D14: 43133 | E14: D1. | F14: =SUM(G14:W14) -> 0
D15: =SUM(F14:F21) -> 3.04 | E15: H8. | F15: =SUM(G15:W15) -> 3.04 | G15: 3.04
E16: H4. | F16: =SUM(G16:W16) -> 0
E17: H2. | F17: =SUM(G17:W17) -> 0
E18: M30. | F18: =SUM(G18:W18) -> 0
E19: M15. | F19: =SUM(G19:W19) -> 0
E20: M5. | F20: =SUM(G20:W20) -> 0
E21: M1. | F21: =SUM(G21:W21) -> 0
D22: 43134 | E22: D1. | F22: =SUM(G22:W22) -> 0
D23: =SUM(F22:F29) -> 0 | E23: H8. | F23: =SUM(G23:W23) -> 0
E24: H4. | F24: =SUM(G24:W24) -> 0
E25: H2. | F25: =SUM(G25:W25) -> 0
E26: M30. | F26: =SUM(G26:W26) -> 0
E27: M15. | F27: =SUM(G27:W27) -> 0
E28: M5. | F28: =SUM(G28:W28) -> 0
E29: M1. | F29: =SUM(G29:W29) -> 0
D30: 43135 | E30: D1. | F30: =SUM(G30:W30) -> 0
D31: =SUM(F30:F37) -> 0 | E31: H8. | F31: =SUM(G31:W31) -> 0
E32: H4. | F32: =SUM(G32:W32) -> 0
E33: H2. | F33: =SUM(G33:W33) -> 0
E34: M30. | F34: =SUM(G34:W34) -> 0
E35: M15. | F35: =SUM(G35:W35) -> 0
E36: M5. | F36: =SUM(G36:W36) -> 0
E37: M1. | F37: =SUM(G37:W37) -> 0
D38: 43136 | E38: D1. | F38: =SUM(G38:W38) -> 0
D39: =SUM(F38:F45) -> 0 | E39: H8. | F39: =SUM(G39:W39) -> 0
E40: H4. | F40: =SUM(G40:W40) -> 0
E41: H2. | F41: =SUM(G41:W41) -> 0
E42: M30. | F42: =SUM(G42:W42) -> 0
E43: M15. | F43: =SUM(G43:W43) -> 0
E44: M5. | F44: =SUM(G44:W44) -> 0
E45: M1. | F45: =SUM(G45:W45) -> 0
D46: 43137 | E46: D1. | F46: =SUM(G46:W46) -> 0
D47: =SUM(F46:F53) -> 0 | E47: H8. | F47: =SUM(G47:W47) -> 0
E48: H4. | F48: =SUM(G48:W48) -> 0
E49: H2. | F49: =SUM(G49:W49) -> 0
E50: M30. | F50: =SUM(G50:W50) -> 0
E51: M15. | F51: =SUM(G51:W51) -> 0
E52: M5. | F52: =SUM(G52:W52) -> 0
E53: M1. | F53: =SUM(G53:W53) -> 0
D54: 43138 | E54: D1. | F54: =SUM(G54:W54) -> 0
D55: =SUM(F54:F61) -> 0 | E55: H8. | F55: =SUM(G55:W55) -> 0
E56: H4. | F56: =SUM(G56:W56) -> 0
E57: H2. | F57: =SUM(G57:W57) -> 0
E58: M30. | F58: =SUM(G58:W58) -> 0
E59: M15. | F59: =SUM(G59:W59) -> 0
E60: M5. | F60: =SUM(G60:W60) -> 0
E61: M1. | F61: =SUM(G61:W61) -> 0
D62: 43139 | E62: D1. | F62: =SUM(G62:W62) -> 0
D63: =SUM(F62:F69) -> 0 | E63: H8. | F63: =SUM(G63:W63) -> 0
E64: H4. | F64: =SUM(G64:W64) -> 0
E65: H2. | F65: =SUM(G65:W65) -> 0
E66: M30. | F66: =SUM(G66:W66) -> 0
E67: M15. | F67: =SUM(G67:W67) -> 0
E68: M5. | F68: =SUM(G68:W68) -> 0
E69: M1. | F69: =SUM(G69:W69) -> 0
D70: 43140 | E70: D1. | F70: =SUM(G70:W70) -> 0
D71: =SUM(F70:F77) -> 0 | E71: H8. | F71: =SUM(G71:W71) -> 0
E72: H4. | F72: =SUM(G72:W72) -> 0
E73: H2. | F73: =SUM(G73:W73) -> 0
E74: M30. | F74: =SUM(G74:W74) -> 0
E75: M15. | F75: =SUM(G75:W75) -> 0
E76: M5. | F76: =SUM(G76:W76) -> 0
E77: M1. | F77: =SUM(G77:W77) -> 0
D78: 43141 | E78: D1. | F78: =SUM(G78:W78) -> 0
D79: =SUM(F78:F85) -> 0 | E79: H8. | F79: =SUM(G79:W79) -> 0
E80: H4. | F80: =SUM(G80:W80) -> 0
E81: H2. | F81: =SUM(G81:W81) -> 0
E82: M30. | F82: =SUM(G82:W82) -> 0
E83: M15. | F83: =SUM(G83:W83) -> 0
E84: M5. | F84: =SUM(G84:W84) -> 0
E85: M1. | F85: =SUM(G85:W85) -> 0
D86: 43142 | E86: D1. | F86: =SUM(G86:W86) -> 0
D87: =SUM(F86:F93) -> 0 | E87: H8. | F87: =SUM(G87:W87) -> 0
E88: H4. | F88: =SUM(G88:W88) -> 0
E89: H2. | F89: =SUM(G89:W89) -> 0
E90: M30. | F90: =SUM(G90:W90) -> 0
E91: M15. | F91: =SUM(G91:W91) -> 0
E92: M5. | F92: =SUM(G92:W92) -> 0
E93: M1. | F93: =SUM(G93:W93) -> 0
D94: 43143 | E94: D1. | F94: =SUM(G94:W94) -> 0
D95: =SUM(F94:F101) -> 0 | E95: H8. | F95: =SUM(G95:W95) -> 0
E96: H4. | F96: =SUM(G96:W96) -> 0
E97: H2. | F97: =SUM(G97:W97) -> 0
E98: M30. | F98: =SUM(G98:W98) -> 0
E99: M15. | F99: =SUM(G99:W99) -> 0
E100: M5. | F100: =SUM(G100:W100) -> 0
E101: M1. | F101: =SUM(G101:W101) -> 0
D102: 43144 | E102: D1. | F102: =SUM(G102:W102) -> 0
D103: =SUM(F102:F109) -> 0 | E103: H8. | F103: =SUM(G103:W103) -> 0
...

Sheet USDCAD
C2: Totale USD/CAD | E2: =SUM(F6:F332) -> -0.56
D5: USD/CAD | F5: Total
A6: D1 | B6: =SUM(F6+F14+F22+F30+F38+F46+F54+F62+F70+F78+F86+F94+F102+F110+F118+F126+F134+F142+F150+F158+F166+F174+F182+F190+F198+F206+F214+F222) -> 0 | D6: 43132 | E6: D1. | F6: =SUM(G6:W6) -> 0
A7: H8 | B7: =SUM(F7+F15+F23+F31+F39+F47+F55+F63+F71+F79+F87+F95+F103+F111+F119+F127+F135+F143+F151+F159+F167+F175+F183+F191+F199+F207+F215+F223) -> 0 | D7: =SUM(F6:F13) -> 0 | E7: H8. | F7: =SUM(G7:W7) -> 0
A8: H4 | B8: =SUM(F8+F16+F24+F32+F40+F48+F56+F64+F72+F80+F88+F96+F104+F112+F120+F128+F136+F144+F152+F160+F168+F176+F184+F192+F200+F208+F216+F224) -> 0 | E8: H4. | F8: =SUM(G8:W8) -> 0
A9: H2 | B9: =SUM(F9+F17+F25+F33+F41+F49+F57+F65+F73+F81+F89+F97+F105+F113+F121+F129+F137+F145+F153+F161+F169+F177+F185+F193+F201+F209+F217+F225) -> 0 | E9: H2. | F9: =SUM(G9:W9) -> 0
A10: M30 | B10: =SUM(F10+F18+F26+F34+F42+F50+F58+F66+F74+F82+F90+F98+F106+F114+F122+F130+F138+F146+F154+F162+F170+F178+F186+F194+F202+F210+F218+F226) -> 0 | E10: M30. | F10: =SUM(G10:W10) -> 0
A11: M15 | B11: =SUM(F11+F19+F27+F35+F43+F51+F59+F67+F75+F83+F91+F99+F107+F115+F123+F131+F139+F147+F155+F163+F171+F179+F187+F195+F203+F211+F219+F227) -> 0 | E11: M15. | F11: =SUM(G11:W11) -> 0
A12: M5 | B12: =SUM(F12+F20+F28+F36+F44+F52+F60+F68+F76+F84+F92+F100+F108+F116+F124+F132+F140+F148+F156+F164+F172+F180+F188+F196+F204+F212+F220+F228) -> -0.56 | E12: M5. | F12: =SUM(G12:W12) -> 0
A13: M1 | B13: =SUM(F13+F21+F29+F37+F45+F53+F61+F69+F77+F85+F93+F101+F109+F117+F125+F133+F141+F149+F157+F165+F173+F181+F189+F197+F205+F213+F221+F229) -> 0 | E13: M1. | F13: =SUM(G13:W13) -> 0
D14: 43133 | E14: D1. | F14: =SUM(G14:W14) -> 0
D15: =SUM(F14:F21) -> -0.56 | E15: H8. | F15: =SUM(G15:W15) -> 0
E16: H4. | F16: =SUM(G16:W16) -> 0
E17: H2. | F17: =SUM(G17:W17) -> 0
E18: M30. | F18: =SUM(G18:W18) -> 0
E19: M15. | F19: =SUM(G19:W19) -> 0
E20: M5. | F20: =SUM(G20:W20) -> -0.56 | G20: -0.56
E21: M1. | F21: =SUM(G21:W21) -> 0
D22: 43134 | E22: D1. | F22: =SUM(G22:W22) -> 0
D23: =SUM(F22:F29) -> 0 | E23: H8. | F23: =SUM(G23:W23) -> 0
E24: H4. | F24: =SUM(G24:W24) -> 0
E25: H2. | F25: =SUM(G25:W25) -> 0
E26: M30. | F26: =SUM(G26:W26) -> 0
E27: M15. | F27: =SUM(G27:W27) -> 0
E28: M5. | F28: =SUM(G28:W28) -> 0
E29: M1. | F29: =SUM(G29:W29) -> 0
D30: 43135 | E30: D1. | F30: =SUM(G30:W30) -> 0
D31: =SUM(F30:F37) -> 0 | E31: H8. | F31: =SUM(G31:W31) -> 0
E32: H4. | F32: =SUM(G32:W32) -> 0
E33: H2. | F33: =SUM(G33:W33) -> 0
E34: M30. | F34: =SUM(G34:W34) -> 0
E35: M15. | F35: =SUM(G35:W35) -> 0
E36: M5. | F36: =SUM(G36:W36) -> 0
E37: M1. | F37: =SUM(G37:W37) -> 0
D38: 43136 | E38: D1. | F38: =SUM(G38:W38) -> 0
D39: =SUM(F38:F45) -> 0 | E39: H8. | F39: =SUM(G39:W39) -> 0
E40: H4. | F40: =SUM(G40:W40) -> 0
E41: H2. | F41: =SUM(G41:W41) -> 0
E42: M30. | F42: =SUM(G42:W42) -> 0
E43: M15. | F43: =SUM(G43:W43) -> 0
E44: M5. | F44: =SUM(G44:W44) -> 0
E45: M1. | F45: =SUM(G45:W45) -> 0
D46: 43137 | E46: D1. | F46: =SUM(G46:W46) -> 0
D47: =SUM(F46:F53) -> 0 | E47: H8. | F47: =SUM(G47:W47) -> 0
E48: H4. | F48: =SUM(G48:W48) -> 0
E49: H2. | F49: =SUM(G49:W49) -> 0
E50: M30. | F50: =SUM(G50:W50) -> 0
E51: M15. | F51: =SUM(G51:W51) -> 0
E52: M5. | F52: =SUM(G52:W52) -> 0
E53: M1. | F53: =SUM(G53:W53) -> 0
D54: 43138 | E54: D1. | F54: =SUM(G54:W54) -> 0
D55: =SUM(F54:F61) -> 0 | E55: H8. | F55: =SUM(G55:W55) -> 0
E56: H4. | F56: =SUM(G56:W56) -> 0
E57: H2. | F57: =SUM(G57:W57) -> 0
E58: M30. | F58: =SUM(G58:W58) -> 0
E59: M15. | F59: =SUM(G59:W59) -> 0
E60: M5. | F60: =SUM(G60:W60) -> 0
E61: M1. | F61: =SUM(G61:W61) -> 0
D62: 43139 | E62: D1. | F62: =SUM(G62:W62) -> 0
D63: =SUM(F62:F69) -> 0 | E63: H8. | F63: =SUM(G63:W63) -> 0
E64: H4. | F64: =SUM(G64:W64) -> 0
E65: H2. | F65: =SUM(G65:W65) -> 0
E66: M30. | F66: =SUM(G66:W66) -> 0
E67: M15. | F67: =SUM(G67:W67) -> 0
E68: M5. | F68: =SUM(G68:W68) -> 0
E69: M1. | F69: =SUM(G69:W69) -> 0
D70: 43140 | E70: D1. | F70: =SUM(G70:W70) -> 0
D71: =SUM(F70:F77) -> 0 | E71: H8. | F71: =SUM(G71:W71) -> 0
E72: H4. | F72: =SUM(G72:W72) -> 0
E73: H2. | F73: =SUM(G73:W73) -> 0
E74: M30. | F74: =SUM(G74:W74) -> 0
E75: M15. | F75: =SUM(G75:W75) -> 0
E76: M5. | F76: =SUM(G76:W76) -> 0
E77: M1. | F77: =SUM(G77:W77) -> 0
D78: 43141 | E78: D1. | F78: =SUM(G78:W78) -> 0
D79: =SUM(F78:F85) -> 0 | E79: H8. | F79: =SUM(G79:W79) -> 0
E80: H4. | F80: =SUM(G80:W80) -> 0
E81: H2. | F81: =SUM(G81:W81) -> 0
E82: M30. | F82: =SUM(G82:W82) -> 0
E83: M15. | F83: =SUM(G83:W83) -> 0
E84: M5. | F84: =SUM(G84:W84) -> 0
E85: M1. | F85: =SUM(G85:W85) -> 0
D86: 43142 | E86: D1. | F86: =SUM(G86:W86) -> 0
D87: =SUM(F86:F93) -> 0 | E87: H8. | F87: =SUM(G87:W87) -> 0
E88: H4. | F88: =SUM(G88:W88) -> 0
E89: H2. | F89: =SUM(G89:W89) -> 0
E90: M30. | F90: =SUM(G90:W90) -> 0
E91: M15. | F91: =SUM(G91:W91) -> 0
E92: M5. | F92: =SUM(G92:W92) -> 0
E93: M1. | F93: =SUM(G93:W93) -> 0
D94: 43143 | E94: D1. | F94: =SUM(G94:W94) -> 0
D95: =SUM(F94:F101) -> 0 | E95: H8. | F95: =SUM(G95:W95) -> 0
E96: H4. | F96: =SUM(G96:W96) -> 0
E97: H2. | F97: =SUM(G97:W97) -> 0
E98: M30. | F98: =SUM(G98:W98) -> 0
E99: M15. | F99: =SUM(G99:W99) -> 0
E100: M5. | F100: =SUM(G100:W100) -> 0
E101: M1. | F101: =SUM(G101:W101) -> 0
D102: 43144 | E102: D1. | F102: =SUM(G102:W102) -> 0
D103: =SUM(F102:F109) -> 0 | E103: H8. | F103: =SUM(G103:W103) -> 0
...

Sheet Perte
B5: Mauvaise analyse | D5: S-L | E5: Sentiment | F5: T-P trop court | G5: Analyse trop rapide | I5: totale
A6: Ger30 | B6: =COUNTIF(B14:C32,"x") -> 0 | D6: =COUNTIF(D14:D32,"x") -> 0 | E6: =COUNTIF(E14:E32,"x") -> 0 | F6: =COUNTIF(F14:F32,"x") -> 0 | G6: =COUNTIF(G14:H32,"x") -> 0 | I6: =COUNTIF(B14:H32,"x") -> 0
A7: EUR/USD | B7: =COUNTIF(L14:M32,"x") -> 0 | D7: =COUNTIF(N14:N32,"x") -> 0 | E7: =COUNTIF(O14:O32,"x") -> 0 | F7: =COUNTIF(P14:P32,"x") -> 0 | G7: =COUNTIF(Q14:R32,"x") -> 0 | I7: =COUNTIF(L14:R32,"x") -> 0
A8: USD/JPY | B8: =COUNTIF(V14:W32,"x") -> 0 | D8: =COUNTIF(X14:X32,"x") -> 0 | E8: =COUNTIF(Y14:Y32,"x") -> 0 | F8: =COUNTIF(Z14:Z32,"x") -> 0 | G8: =COUNTIF(AA14:AB32,"x") -> 0 | I8: =COUNTIF(V14:AB32,"x") -> 0
A9: USD/CAD | B9: =COUNTIF(AF14:AG32,"x") -> 0 | D9: =COUNTIF(AH14:AH32,"x") -> 0 | E9: =COUNTIF(AI14:AI32,"x") -> 0 | F9: =COUNTIF(AJ14:AJ32,"x") -> 0 | G9: =COUNTIF(AK14:AL32,"x") -> 1 | I9: =COUNTIF(AF14:AL32,"x") -> 1
A13: Ger30 | B13: Mauvaise analyse | D13: S-L | E13: Sentiment | F13: T-P trop court | G13: Analyse trop rapide | K13: EUR/USD | L13: Mauvaise analyse | N13: S-L | O13: Sentiment | P13: T-P trop court | Q13: Analyse trop rapide | U13: USD/JPY | V13: Mauvaise analyse | X13: S-L | Y13: Sentiment | Z13: T-P trop court | AA13: Analyse trop rapide | AE13: USD/CAD | AF13: Mauvaise analyse | AH13: S-L | AI13: Sentiment | AJ13: T-P trop court | AK13: Analyse trop rapide
AK14: x

Sheet Nb Pips
B4: Ger30 | C4: 43133
C5: 138.82
B7: USD
B10: JPY | C10: 43133
C11: 48.1
B13: CAD | C13: 43133
C14: -6.2

Sheet Fevrier 2018
B4: Bankrool | D4: =46400+SUM(C11:C38) -> 46416.9 | I4: Risk | K4: =D4*0.05 -> 2320.845
F8: Raison pertes | I8: =SUM(Perte!I6:I9) -> 1 | S8: GER30
C9: Gain J | D9: % | F9: Mauvaise analyse | H9: S-L | I9: Sentiment | L9: GER30 | M9: USD/JPY | N9: USD/CAD | O9: EUR/USD | S9: D1 | T9: ='GER30'!B6 -> 0
B10: Total | C10: =SUM(C11:C38) -> 16.9 | D10: =C10/D4 -> 0.00036409153 | F10: =SUM(Perte!B6:C9) -> 0 | H10: =SUM(Perte!D6:D9) -> 0 | I10: =SUM(Perte!E6:E9) -> 0 | L10: ='GER30'!G2 -> 13.3 | M10: =USDJPY!G2 -> 3.04 | N10: =USDCAD!E2 -> -0.56 | O10: =EURUSD!E2 -> 0 | S10: H8 | T10: ='GER30'!B7 -> 13.3
B11: 43132 | D11: =C11/$D$4 -> 0 | F11: T-P Trop Grand | H11: Analyse trop Rapide | S11: H4 | T11: ='GER30'!B8 -> 0
B12: 43133 | C12: =13.3+0.56+3.04 -> 16.9 | D12: =C12/$D$4 -> 0.00036409153 | F12: =SUM(Perte!F6:F9) -> 0 | H12: =SUM(Perte!G6:H9) -> 1 | S12: H2 | T12: ='GER30'!B9 -> 0
B13: 43134 | D13: =C13/$D$4 -> 0 | S13: M30 | T13: ='GER30'!B10 -> 0
B14: 43135 | D14: =C14/$D$4 -> 0 | F14: Ger | G14: JPY | H14: CAD | I14: USD | S14: M15 | T14: ='GER30'!B11 -> 0
B15: 43136 | D15: =C15/$D$4 -> 0 | F15: =SUM('Nb Pips'!5:5) -> 138.82 | G15: =SUM('Nb Pips'!11:11) -> 48.1 | H15: =SUM('Nb Pips'!14:14) -> -6.2 | I15: =SUM('Nb Pips'!8:8) -> 0 | S15: M5 | T15: ='GER30'!B12 -> 0
B16: 43137 | D16: =C16/$D$4 -> 0 | S16: M1 | T16: ='GER30'!B13 -> 0
B17: 43138 | D17: =C17/$D$4 -> 0
B18: 43139 | D18: =C18/$D$4 -> 0
B19: 43140 | D19: =C19/$D$4 -> 0
B20: 43141 | D20: =C20/$D$4 -> 0
B21: 43142 | D21: =C21/$D$4 -> 0
B22: 43143 | D22: =C22/$D$4 -> 0 | S22: EUR/USD
B23: 43144 | D23: =C23/$D$4 -> 0 | S23: D1 | T23: =EURUSD!B6 -> 0
B24: 43145 | D24: =C24/$D$4 -> 0 | S24: H8 | T24: =EURUSD!B7 -> 0
B25: 43146 | D25: =C25/$D$4 -> 0 | S25: H4 | T25: =EURUSD!B8 -> 0
B26: 43147 | D26: =C26/$D$4 -> 0 | S26: H2 | T26: =EURUSD!B9 -> 0
B27: 43148 | D27: =C27/$D$4 -> 0 | I27: D1 | J27: =T9+T23+T37+T51 -> 0 | S27: M30 | T27: =EURUSD!B10 -> 0
B28: 43149 | D28: =C28/$D$4 -> 0 | I28: H8 | J28: =T10+T24+T38+T52 -> 16.34 | S28: M15 | T28: =EURUSD!B11 -> 0
B29: 43150 | D29: =C29/$D$4 -> 0 | I29: H4 | J29: =T11+T25+T39+T53 -> 0 | S29: M5 | T29: =EURUSD!B12 -> 0
B30: 43151 | D30: =C30/$D$4 -> 0 | I30: H2 | J30: =T12+T26+T40+T54 -> 0 | S30: M1 | T30: =EURUSD!B13 -> 0
B31: 43152 | D31: =C31/$D$4 -> 0 | I31: M30 | J31: =T13+T27+T41+T55 -> 0
B32: 43153 | D32: =C32/$D$4 -> 0 | I32: M15 | J32: =T14+T28+T42+T56 -> 0
B33: 43154 | D33: =C33/$D$4 -> 0 | I33: M5 | J33: =T15+T29+T43+T57 -> -0.56
B34: 43155 | D34: =C34/$D$4 -> 0 | I34: M1 | J34: =T16+T30+T44+T58 -> 0
B35: 43156 | D35: =C35/$D$4 -> 0
B36: 43157 | D36: =C36/$D$4 -> 0 | S36: USD/JPY
B37: 43158 | D37: =C37/$D$4 -> 0 | S37: D1 | T37: =USDJPY!B6 -> 0
B38: 43159 | D38: =C38/$D$4 -> 0 | S38: H8 | T38: =USDJPY!B7 -> 3.04
S39: H4 | T39: =USDJPY!B8 -> 0
S40: H2 | T40: =USDJPY!B9 -> 0
S41: M30 | T41: =USDJPY!B10 -> 0
S42: M15 | T42: =USDJPY!B11 -> 0
S43: M5 | T43: =USDJPY!B12 -> 0
S44: M1 | T44: =USDJPY!B13 -> 0
S50: USD/CAD
S51: D1 | T51: =USDCAD!B6 -> 0
S52: H8 | T52: =USDCAD!B7 -> 0
S53: H4 | T53: =USDCAD!B8 -> 0
S54: H2 | T54: =USDCAD!B9 -> 0
S55: M30 | T55: =USDCAD!B10 -> 0
S56: M15 | T56: =USDCAD!B11 -> 0
S57: M5 | T57: =USDCAD!B12 -> -0.56
S58: M1 | T58: =USDCAD!B13 -> 0
